Package: levi Version: 1.28.0 Command: /home/biocbuild/bbs-3.22-bioc/R/bin/R CMD build --keep-empty-dirs --no-resave-data --md5 levi StartedAt: 2025-11-14 18:25:32 -0500 (Fri, 14 Nov 2025) EndedAt: 2025-11-14 18:27:59 -0500 (Fri, 14 Nov 2025) EllapsedTime: 147.3 seconds RetCode: 0 Status: OK PackageFile: levi_1.28.0.tar.gz PackageFileSize: 2.775 MiB