Package: lapmix Version: 1.76.0 Command: /home/biocbuild/bbs-3.22-bioc/R/bin/R CMD INSTALL lapmix StartedAt: 2025-10-30 15:11:47 -0400 (Thu, 30 Oct 2025) EndedAt: 2025-10-30 15:11:48 -0400 (Thu, 30 Oct 2025) EllapsedTime: 1.2 seconds RetCode: 1 Status: ERROR