Package: katdetectr Version: 1.12.0 Command: /Library/Frameworks/R.framework/Resources/bin/R CMD INSTALL katdetectr StartedAt: 2025-11-10 15:22:08 -0500 (Mon, 10 Nov 2025) EndedAt: 2025-11-10 15:22:24 -0500 (Mon, 10 Nov 2025) EllapsedTime: 16.1 seconds RetCode: 0 Status: OK