Package: jazzPanda Version: 1.2.0 Command: /home/biocbuild/bbs-3.22-bioc/R/bin/R CMD INSTALL jazzPanda StartedAt: 2025-11-20 16:12:56 -0500 (Thu, 20 Nov 2025) EndedAt: 2025-11-20 16:13:32 -0500 (Thu, 20 Nov 2025) EllapsedTime: 36.0 seconds RetCode: 0 Status: OK