Package: iterativeBMA Version: 1.68.0 Command: /Library/Frameworks/R.framework/Resources/bin/R CMD INSTALL iterativeBMA StartedAt: 2025-11-03 15:19:04 -0500 (Mon, 03 Nov 2025) EndedAt: 2025-11-03 15:19:15 -0500 (Mon, 03 Nov 2025) EllapsedTime: 11.3 seconds RetCode: 0 Status: OK