Package: iterativeBMA Version: 1.68.0 Command: /Library/Frameworks/R.framework/Resources/bin/R CMD build --keep-empty-dirs --no-resave-data iterativeBMA StartedAt: 2025-11-03 17:31:03 -0500 (Mon, 03 Nov 2025) EndedAt: 2025-11-03 17:31:28 -0500 (Mon, 03 Nov 2025) EllapsedTime: 25.1 seconds RetCode: 0 Status: OK PackageFile: iterativeBMA_1.68.0.tar.gz PackageFileSize: 158.5 KiB