Package: iterativeBMA Version: 1.68.0 Command: rm -rf iterativeBMA.buildbin-libdir && mkdir iterativeBMA.buildbin-libdir && /Users/biocbuild/BBS/utils/build-universal.sh iterativeBMA_1.68.0.tar.gz /Library/Frameworks/R.framework/Resources/bin/R iterativeBMA.buildbin-libdir StartedAt: 2025-11-04 01:46:31 -0500 (Tue, 04 Nov 2025) EndedAt: 2025-11-04 01:46:43 -0500 (Tue, 04 Nov 2025) EllapsedTime: 11.5 seconds RetCode: 0 Status: OK PackageFile: iterativeBMA_1.68.0.tgz PackageFileSize: 214.7 KiB