Package: isobar Version: 1.56.0 Command: /home/biocbuild/bbs-3.22-bioc/R/bin/R CMD INSTALL isobar StartedAt: 2025-11-02 15:37:02 -0500 (Sun, 02 Nov 2025) EndedAt: 2025-11-02 15:37:43 -0500 (Sun, 02 Nov 2025) EllapsedTime: 40.8 seconds RetCode: 0 Status: OK