Package: isobar Version: 1.56.0 Command: /home/biocbuild/bbs-3.22-bioc/R/bin/R CMD build --keep-empty-dirs --no-resave-data --md5 isobar StartedAt: 2025-10-31 18:28:13 -0400 (Fri, 31 Oct 2025) EndedAt: 2025-10-31 18:29:24 -0400 (Fri, 31 Oct 2025) EllapsedTime: 71.1 seconds RetCode: 0 Status: OK PackageFile: isobar_1.56.0.tar.gz PackageFileSize: 2.814 MiB