Package: iscream Version: 1.0.0 Command: /home/biocbuild/bbs-3.22-bioc/R/bin/R CMD INSTALL iscream StartedAt: 2025-11-17 17:09:23 -0500 (Mon, 17 Nov 2025) EndedAt: 2025-11-17 17:11:14 -0500 (Mon, 17 Nov 2025) EllapsedTime: 111.4 seconds RetCode: 0 Status: OK