Package: ipdDb Version: 1.28.0 Command: /home/biocbuild/bbs-3.22-bioc/R/bin/R CMD build --keep-empty-dirs --no-resave-data --md5 ipdDb StartedAt: 2025-11-10 18:22:14 -0500 (Mon, 10 Nov 2025) EndedAt: 2025-11-10 18:22:31 -0500 (Mon, 10 Nov 2025) EllapsedTime: 17.0 seconds RetCode: 0 Status: OK PackageFile: ipdDb_1.28.0.tar.gz PackageFileSize: 22.02 KiB