Package: interactiveDisplayBase Version: 1.47.1 Command: /home/biocbuild/R/R/bin/R CMD INSTALL interactiveDisplayBase StartedAt: 2025-10-23 20:30:27 -0000 (Thu, 23 Oct 2025) EndedAt: 2025-10-23 20:30:33 -0000 (Thu, 23 Oct 2025) EllapsedTime: 5.6 seconds RetCode: 0 Status: OK