Package: interactiveDisplayBase Version: 1.47.1 Command: /home/biocbuild/R/R/bin/R CMD build --keep-empty-dirs --no-resave-data interactiveDisplayBase StartedAt: 2025-10-21 00:38:47 -0000 (Tue, 21 Oct 2025) EndedAt: 2025-10-21 00:38:54 -0000 (Tue, 21 Oct 2025) EllapsedTime: 7.0 seconds RetCode: 0 Status: OK PackageFile: interactiveDisplayBase_1.47.1.tar.gz PackageFileSize: 8.104 KiB