Package: interactiveDisplayBase Version: 1.48.0 Command: /Library/Frameworks/R.framework/Resources/bin/R CMD INSTALL interactiveDisplayBase StartedAt: 2025-11-17 17:16:30 -0500 (Mon, 17 Nov 2025) EndedAt: 2025-11-17 17:16:39 -0500 (Mon, 17 Nov 2025) EllapsedTime: 9.7 seconds RetCode: 0 Status: OK