Package: interactiveDisplayBase Version: 1.47.1 Command: /Library/Frameworks/R.framework/Resources/bin/R CMD INSTALL interactiveDisplayBase StartedAt: 2025-10-26 15:19:50 -0400 (Sun, 26 Oct 2025) EndedAt: 2025-10-26 15:19:51 -0400 (Sun, 26 Oct 2025) EllapsedTime: 1.4 seconds RetCode: 0 Status: OK