Package: interactiveDisplayBase Version: 1.47.1 Command: /Library/Frameworks/R.framework/Resources/bin/R CMD build --keep-empty-dirs --no-resave-data interactiveDisplayBase StartedAt: 2025-10-26 16:56:24 -0400 (Sun, 26 Oct 2025) EndedAt: 2025-10-26 16:56:27 -0400 (Sun, 26 Oct 2025) EllapsedTime: 3.0 seconds RetCode: 0 Status: OK PackageFile: interactiveDisplayBase_1.47.1.tar.gz PackageFileSize: 8.115 KiB