Package: interactiveDisplayBase Version: 1.47.1 Command: rm -rf interactiveDisplayBase.buildbin-libdir && mkdir interactiveDisplayBase.buildbin-libdir && /Users/biocbuild/BBS/utils/build-universal.sh interactiveDisplayBase_1.47.1.tar.gz /Library/Frameworks/R.framework/Resources/bin/R interactiveDisplayBase.buildbin-libdir StartedAt: 2025-10-26 22:38:53 -0400 (Sun, 26 Oct 2025) EndedAt: 2025-10-26 22:38:55 -0400 (Sun, 26 Oct 2025) EllapsedTime: 2.0 seconds RetCode: 0 Status: OK PackageFile: interactiveDisplayBase_1.47.1.tgz PackageFileSize: 29.21 KiB