Package: interactiveDisplay Version: 1.48.0 Command: /Library/Frameworks/R.framework/Resources/bin/R CMD INSTALL interactiveDisplay StartedAt: 2025-11-03 15:51:24 -0500 (Mon, 03 Nov 2025) EndedAt: 2025-11-03 15:51:57 -0500 (Mon, 03 Nov 2025) EllapsedTime: 33.4 seconds RetCode: 0 Status: OK