Package: interactiveDisplay Version: 1.48.0 Command: /Library/Frameworks/R.framework/Resources/bin/R CMD build --keep-empty-dirs --no-resave-data interactiveDisplay StartedAt: 2025-11-03 17:28:24 -0500 (Mon, 03 Nov 2025) EndedAt: 2025-11-03 17:29:30 -0500 (Mon, 03 Nov 2025) EllapsedTime: 66.3 seconds RetCode: 0 Status: OK PackageFile: interactiveDisplay_1.48.0.tar.gz PackageFileSize: 4.56 MiB