Package: interactiveDisplay Version: 1.47.1 Command: /Library/Frameworks/R.framework/Resources/bin/R CMD INSTALL interactiveDisplay StartedAt: 2025-10-26 15:31:15 -0400 (Sun, 26 Oct 2025) EndedAt: 2025-10-26 15:31:25 -0400 (Sun, 26 Oct 2025) EllapsedTime: 10.4 seconds RetCode: 0 Status: OK