Package: interactiveDisplay Version: 1.47.1 Command: /Library/Frameworks/R.framework/Resources/bin/R CMD build --keep-empty-dirs --no-resave-data interactiveDisplay StartedAt: 2025-10-26 16:56:22 -0400 (Sun, 26 Oct 2025) EndedAt: 2025-10-26 16:56:46 -0400 (Sun, 26 Oct 2025) EllapsedTime: 24.3 seconds RetCode: 0 Status: OK PackageFile: interactiveDisplay_1.47.1.tar.gz PackageFileSize: 4.561 MiB