Package: interactiveDisplay Version: 1.48.0 Command: /Library/Frameworks/R.framework/Resources/bin/R CMD build --keep-empty-dirs --no-resave-data interactiveDisplay StartedAt: 2025-11-17 22:12:34 -0500 (Mon, 17 Nov 2025) EndedAt: 2025-11-17 22:13:02 -0500 (Mon, 17 Nov 2025) EllapsedTime: 27.3 seconds RetCode: 0 Status: OK PackageFile: interactiveDisplay_1.48.0.tar.gz PackageFileSize: 4.561 MiB