Package: interactiveDisplay Version: 1.48.0 Command: rm -rf interactiveDisplay.buildbin-libdir && mkdir interactiveDisplay.buildbin-libdir && /Users/biocbuild/BBS/utils/build-universal.sh interactiveDisplay_1.48.0.tar.gz /Library/Frameworks/R.framework/Resources/bin/R interactiveDisplay.buildbin-libdir StartedAt: 2025-11-18 15:44:44 -0500 (Tue, 18 Nov 2025) EndedAt: 2025-11-18 15:44:58 -0500 (Tue, 18 Nov 2025) EllapsedTime: 13.2 seconds RetCode: 0 Status: OK PackageFile: interactiveDisplay_1.48.0.tgz PackageFileSize: 2.473 MiB