Package: interacCircos Version: 1.19.0 Command: /home/biocbuild/bbs-3.22-bioc/R/bin/R CMD INSTALL interacCircos StartedAt: 2025-10-24 15:17:35 -0400 (Fri, 24 Oct 2025) EndedAt: 2025-10-24 15:18:14 -0400 (Fri, 24 Oct 2025) EllapsedTime: 39.2 seconds RetCode: 0 Status: OK