Switch to long report

Multiple platform build/check report for BioC 3.22

This page was generated on 2025-10-25 12:07 -0400 (Sat, 25 Oct 2025).

Approx. Package Snapshot Date/Time (git pull): 2025-10-24 13:45 -0400 (Fri, 24 Oct 2025)
See this page for all the Bioconductor builds and their schedule.

Package status is indicated by one of the following glyphs
  TIMEOUT  
INSTALL, BUILD, CHECK or BUILD BIN of package took more than 40 minutes
  ERROR  
Bad DESCRIPTION file, or INSTALL, BUILD or BUILD BIN of package failed, or CHECK produced errors
  WARNINGS  
CHECK of package produced warnings
  OK  
INSTALL, BUILD, CHECK and BUILD BIN of package went OK
  NA  
INSTALL, BUILD, CHECK or BUILD BIN result is not available because of an anomaly in the Build System
Click on any glyph in the report below to access the detailed report.
A
ABCDEFGHIJKLMNOPQRSTUVWXYZ
PackageMaintainerINSTALL/BUILD/CHECK
1/2361a4 1.57.0  (landing page)Laure Cougnaud  NA  
2/2361a4Base 1.57.0  (landing page)Laure Cougnaud  NA  
3/2361a4Classif 1.57.0  (landing page)Laure Cougnaud  NA  
4/2361a4Core 1.57.0  (landing page)Laure Cougnaud  NA  
5/2361a4Preproc 1.57.0  (landing page)Laure Cougnaud  NA  
6/2361a4Reporting 1.57.0  (landing page)Laure Cougnaud  NA  
7/2361ABarray 1.77.0  (landing page)Yongming Andrew Sun  NA  
8/2361abseqR 1.27.0  (landing page)JiaHong Fong  NA  
9/2361ABSSeq 1.63.0  (landing page)Wentao Yang  NA  
10/2361acde 1.39.0  (landing page)Juan Pablo Acosta  NA  
11/2361ACE 1.27.1  (landing page)Jos B Poell  NA  
12/2361aCGH 1.87.0  (landing page)Peter Dimitrov  NA  
13/2361ACME 2.65.0  (landing page)Sean Davis  ERROR  
14/2361ADaCGH2 2.49.0  (landing page)Ramon Diaz-Uriarte  NA  
15/2361ADAM 1.25.0  (landing page)Jose Luiz Rybarczyk Filho  NA  
16/2361ADAMgui 1.25.0  (landing page)Jose Luiz Rybarczyk Filho  NA  
17/2361ADAPT 1.3.0  (landing page)Mukai Wang  ERROR  
18/2361adductomicsR 1.25.0  (landing page)Josie Hayes  ERROR  
19/2361ADImpute 1.19.0  (landing page)Ana Carolina Leote  WARNINGS  
20/2361adSplit 1.79.0  (landing page)Claudio Lottaz  NA  
21/2361adverSCarial 1.7.1  (landing page)Ghislain FIEVET  WARNINGS  
22/2361AffiXcan 1.27.0  (landing page)Alessandro Lussana  NA  
23/2361affxparser 1.81.0  (landing page)Kasper Daniel Hansen  WARNINGS  
24/2361affy 1.87.0  (landing page)Robert D. Shear  WARNINGS  
25/2361affycomp 1.85.0  (landing page)Robert D. Shear  NA  
26/2361affyContam 1.67.0  (landing page)V. Carey  NA  
27/2361affycoretools 1.81.1  (landing page)James W. MacDonald  NA  
28/2361affyILM 1.61.0  (landing page)Myriam Kroll and Fabrice Berger  NA  
29/2361affyio 1.79.0  (landing page)Ben Bolstad  WARNINGS  
30/2361affylmGUI 1.83.0  (landing page)Gordon Smyth  NA  
31/2361affyPLM 1.85.0  (landing page)Ben Bolstad  WARNINGS  
32/2361AffyRNADegradation 1.55.0  (landing page)Mario Fasold  NA  
33/2361AGDEX 1.57.0  (landing page)Cuilan lani Gao  NA  
34/2361aggregateBioVar 1.19.1  (landing page)Jason Ratcliff  NA  
35/2361agilp 3.41.0  (landing page)Benny Chain  NA  
36/2361AgiMicroRna 2.59.0  (landing page)Pedro Lopez-Romero  WARNINGS  
37/2361AHMassBank 1.9.0  (landing page)Johannes Rainer  NA  
38/2361AIMS 1.41.0  (landing page)Eric R Paquet  NA  
39/2361airpart 1.17.0  (landing page)Wancen Mu  NA  
40/2361alabaster 1.9.0  (landing page)Aaron Lun  NA  
41/2361alabaster.base 1.9.5  (landing page)Aaron Lun  WARNINGS  
42/2361alabaster.bumpy 1.9.1  (landing page)Aaron Lun  NA  
43/2361alabaster.files 1.7.0  (landing page)Aaron Lun  NA  
44/2361alabaster.mae 1.9.0  (landing page)Aaron Lun  NA  
45/2361alabaster.matrix 1.9.0  (landing page)Aaron Lun  NA  
46/2361alabaster.ranges 1.9.1  (landing page)Aaron Lun  NA  
47/2361alabaster.sce 1.9.0  (landing page)Aaron Lun  NA  
48/2361alabaster.schemas 1.9.0  (landing page)Aaron Lun  NA  
49/2361alabaster.se 1.9.0  (landing page)Aaron Lun  NA  
50/2361alabaster.sfe 1.1.0  (landing page)Lambda Moses  ERROR  
51/2361alabaster.spatial 1.9.0  (landing page)Aaron Lun  NA  
52/2361alabaster.string 1.9.0  (landing page)Aaron Lun  NA  
53/2361alabaster.vcf 1.9.0  (landing page)Aaron Lun  NA  
54/2361ALDEx2 1.41.0  (landing page)Greg Gloor  NA  
55/2361alevinQC 1.25.1  (landing page)Charlotte Soneson  NA  
56/2361AllelicImbalance 1.47.0  (landing page)Jesper R Gadin  NA  
57/2361AlphaBeta 1.23.0  (landing page)Yadollah Shahryary Dizaji  NA  
58/2361AlphaMissenseR 1.5.4  (landing page)Martin Morgan  ERROR  
59/2361AlpsNMR 4.11.1  (landing page)Sergio Oller Moreno  ERROR  
60/2361altcdfenvs 2.71.0  (landing page)Laurent Gautier  NA  
61/2361AMARETTO 1.25.0  (landing page)Olivier Gevaert  WARNINGS  
62/2361AMOUNTAIN 1.35.0  (landing page)Dong Li  NA  
63/2361amplican 1.31.2  (landing page)Eivind Valen  ERROR  
64/2361anansi 0.99.4  (landing page)Thomaz Bastiaanssen  NA  
65/2361Anaquin 2.33.0  (landing page)Ted Wong  NA  
66/2361ANCOMBC 2.11.1  (landing page)Huang Lin  NA  
67/2361ANF 1.31.0  (landing page)Tianle Ma  NA  
68/2361anglemania 0.99.7  (landing page)Aaron Kollotzek  NA  
69/2361animalcules 1.25.0  (landing page)Jessica McClintock  NA  
70/2361annaffy 1.81.0  (landing page)Colin A. Smith  WARNINGS  
71/2361anndataR 0.99.6  (landing page)Robrecht Cannoodt  ERROR  
72/2361annmap 1.51.0  (landing page)Chris Wirth  WARNINGS  
73/2361annotate 1.87.0  (landing page)Bioconductor Package Maintainer  NA  
74/2361AnnotationDbi 1.71.2  (landing page)Bioconductor Package Maintainer  NA  
75/2361AnnotationFilter 1.33.0  (landing page)Bioconductor Package Maintainer  NA  
76/2361AnnotationForge 1.51.1  (landing page)Bioconductor Package Maintainer  NA  
77/2361AnnotationHub 3.99.6  (landing page)Bioconductor Package Maintainer  NA  
78/2361AnnotationHubData 1.39.2  (landing page)Bioconductor Package Maintainer  WARNINGS  
79/2361annotationTools 1.83.0  (landing page)Alexandre Kuhn  NA  
80/2361annotatr 1.35.2  (landing page)Raymond G. Cavalcante  NA  
81/2361anota 1.57.0  (landing page)Ola Larsson  NA  
82/2361anota2seq 1.31.0  (landing page)Christian Oertlin , Ola Larsson  WARNINGS  
83/2361antiProfiles 1.49.0  (landing page)Hector Corrada Bravo  NA  
84/2361AnVIL 1.21.10  (landing page)Marcel Ramos  NA  
85/2361AnVILAz 1.3.1  (landing page)Marcel Ramos  NA  
86/2361AnVILBase 1.3.1  (landing page)Marcel Ramos  NA  
87/2361AnVILBilling 1.19.0  (landing page)Vince Carey  NA  
88/2361AnVILGCP 1.3.11  (landing page)Marcel Ramos  NA  
89/2361AnVILPublish 1.19.1  (landing page)Marcel Ramos  NA  
90/2361AnVILWorkflow 1.9.0  (landing page)Sehyun Oh  WARNINGS  
91/2361APAlyzer 1.23.0  (landing page)Ruijia Wang  ERROR  
92/2361apComplex 2.75.0  (landing page)Denise Scholtens  NA  
93/2361apeglm 1.31.0  (landing page)Anqi Zhu  NA  
94/2361APL 1.13.0  (landing page)Clemens Kohl  NA  
95/2361appreci8R 1.27.0  (landing page)Sarah Sandmann  NA  
96/2361aroma.light 3.39.0  (landing page)Henrik Bengtsson  NA  
97/2361ArrayExpress 1.69.0  (landing page)Jose Marugan  ERROR  
98/2361arrayMvout 1.67.0  (landing page)V. Carey  NA  
99/2361arrayQuality 1.87.0  (landing page)Agnes Paquet  WARNINGS  
100/2361arrayQualityMetrics 3.65.0  (landing page)Mike Smith  NA  
101/2361ARRmNormalization 1.49.0  (landing page)Jean-Philippe Fortin  NA  
102/2361artMS 1.27.0  (landing page)David Jimenez-Morales  NA  
103/2361ASAFE 1.35.0  (landing page)Qian Zhang  NA  
104/2361ASEB 1.53.0  (landing page)Likun Wang  WARNINGS  
105/2361ASGSCA 1.43.0  (landing page)Hela Romdhani  NA  
106/2361ASICS 2.25.0  (landing page)Gaëlle Lefort  WARNINGS  
107/2361ASpli 2.19.0  (landing page)Ariel Chernomoretz  WARNINGS  
108/2361AssessORF 1.27.0  (landing page)Deepank Korandla  NA  
109/2361ASSET 2.27.0  (landing page)Samsiddhi Bhattacharjee  NA  
110/2361ASSIGN 1.45.0  (landing page)Ying Shen , W. Evan Johnson  NA  
111/2361assorthead 1.3.13  (landing page)Aaron Lun  NA  
112/2361ASURAT 1.13.1  (landing page)Keita Iida  ERROR  
113/2361ATACseqQC 1.33.1  (landing page)Jianhong Ou  ERROR  
114/2361ATACseqTFEA 1.11.1  (landing page)Jianhong Ou  NA  
115/2361atena 1.15.2  (landing page)Robert Castelo  ERROR  
116/2361atSNP 1.25.0  (landing page)Sunyoung Shin  NA  
117/2361attract 1.61.0  (landing page)Samuel Zimmerman  NA  
118/2361AUCell 1.31.0  (landing page)Gert Hulselmans  NA  
119/2361autonomics 1.17.16  (landing page)Aditya Bhagwat  NA  
120/2361AWAggregator 0.99.4  (landing page)Jiahua Tan  NA  
121/2361AWFisher 1.23.0  (landing page)Zhiguang Huo  NA  
122/2361awst 1.17.0  (landing page)Davide Risso  NA  
B
ABCDEFGHIJKLMNOPQRSTUVWXYZ
PackageMaintainerINSTALL/BUILD/CHECK
123/2361BaalChIP 1.35.0  (landing page)Ines de Santiago  WARNINGS  
124/2361bacon 1.37.0  (landing page)Maarten van Iterson  NA  
125/2361BADER 1.47.0  (landing page)Andreas Neudecker  NA  
126/2361BadRegionFinder 1.37.0  (landing page)Sarah Sandmann  NA  
127/2361BAGS 2.49.0  (landing page)Alejandro Quiroz-Zarate  NA  
128/2361ballgown 2.41.1  (landing page)Jack Fu  NA  
129/2361bambu 3.11.2  (landing page)Ying Chen  NA  
130/2361bamsignals 1.41.2  (landing page)Johannes Helmuth  NA  
131/2361BANDITS 1.25.1  (landing page)Simone Tiberi  NA  
132/2361bandle 1.13.0  (landing page)Oliver M. Crook  WARNINGS  
133/2361Banksy 1.5.10  (landing page)Joseph Lee  NA  
134/2361banocc 1.33.0  (landing page)George Weingart  ERROR  
135/2361barbieQ 1.1.2  (landing page)Liyang Fei  NA  
136/2361barcodetrackR 1.17.0  (landing page)Diego Alexander Espinoza  ERROR  
137/2361basecallQC 1.33.0  (landing page)Thomas Carroll  NA  
138/2361BaseSpaceR 1.53.0  (landing page)Jared O'Connell  ERROR  
139/2361Basic4Cseq 1.45.1  (landing page)Carolin Walter  NA  
140/2361BASiCS 2.21.1  (landing page)Catalina Vallejos  WARNINGS  
141/2361BASiCStan 1.11.0  (landing page)Alan O'Callaghan  NA  
142/2361BasicSTARRseq 1.37.1  (landing page)Annika Buerger  NA  
143/2361basilisk 1.21.5  (landing page)Aaron Lun  NA  
144/2361basilisk.utils 1.21.2  (landing page)Aaron Lun  NA  
145/2361batchCorr 0.99.8  (landing page)Anton Ribbenstedt  NA  
146/2361batchelor 1.25.0  (landing page)Aaron Lun  NA  
147/2361BatchQC 2.5.14  (landing page)Jessica Anderson  NA  
148/2361BatchSVG 1.1.1  (landing page)Kinnary Shah  NA  
149/2361BayesKnockdown 1.35.0  (landing page)William Chad Young  NA  
150/2361BayesSpace 1.19.5  (landing page)Senbai Kang  NA  
151/2361bayNorm 1.27.0  (landing page)Wenhao Tang  NA  
152/2361baySeq 2.43.0  (landing page)Samuel Granjeaud  NA  
153/2361BBCAnalyzer 1.39.0  (landing page)Sarah Sandmann  NA  
154/2361BCRANK 1.71.0  (landing page)Adam Ameur  NA  
155/2361bcSeq 1.31.0  (landing page)Jiaxing Lin  ERROR  
156/2361beachmat 2.25.5  (landing page)Aaron Lun  NA  
157/2361beachmat.hdf5 1.7.2  (landing page)Aaron Lun  WARNINGS  
158/2361beachmat.tiledb 1.1.1  (landing page)Aaron Lun  ERROR  
159/2361beadarray 2.59.0  (landing page)Mark Dunning  ERROR  
160/2361BeadDataPackR 1.61.0  (landing page)Mike Smith  NA  
161/2361BEAT 1.47.0  (landing page)Kemal Akman  NA  
162/2361BEclear 2.25.0  (landing page)Livia Rasp  NA  
163/2361bedbaser 1.1.3  (landing page)Andres Wokaty  ERROR  
164/2361beer 1.13.0  (landing page)Athena Chen  ERROR  
165/2361benchdamic 1.15.4  (landing page)Matteo Calgaro  NA  
166/2361BERT 1.5.0  (landing page)Yannis Schumann  NA  
167/2361betaHMM 1.5.1  (landing page)Koyel Majumdar  NA  
168/2361bettr 1.5.4  (landing page)Charlotte Soneson  NA  
169/2361BG2 1.9.0  (landing page)Jacob Williams  NA  
170/2361BgeeCall 1.25.1  (landing page)Julien Wollbrett  NA  
171/2361BgeeDB 2.35.1  (landing page)Julien Wollbrett , Julien Roux , Andrea Komljenovic , Frederic Bastian  NA  
172/2361bgx 1.75.1  (landing page)Ernest Turro  ERROR  
173/2361BicARE 1.67.0  (landing page)Pierre Gestraud  NA  
174/2361BiFET 1.29.1  (landing page)Ahrim Youn  NA  
175/2361BiGGR 1.45.1  (landing page)Anand K. Gavai  ERROR  
176/2361bigmelon 1.35.0  (landing page)Leonard C. Schalkwyk  WARNINGS  
177/2361BindingSiteFinder 2.7.1  (landing page)Mirko Brüggemann  NA  
178/2361bioassayR 1.47.0  (landing page)Thomas Girke  ERROR  
179/2361Biobase 2.69.1  (landing page)Bioconductor Package Maintainer  NA  
180/2361biobroom 1.41.0  (landing page)John D. Storey and Andrew J. Bass  WARNINGS  
181/2361biobtreeR 1.21.0  (landing page)Tamer Gur  NA  
182/2361Bioc.gff 0.99.17  (landing page)Bioconductor Package Maintainer  NA  
183/2361bioCancer 1.37.0  (landing page)Karim Mezhoud  NA  
184/2361BioCartaImage 1.7.0  (landing page)Zuguang Gu  NA  
185/2361BiocBaseUtils 1.11.2  (landing page)Marcel Ramos  NA  
186/2361BiocBook 1.7.0  (landing page)Jacques Serizay  NA  
187/2361BiocCheck 1.45.20  (landing page)Marcel Ramos  NA  
188/2361BiocFHIR 1.11.0  (landing page)Vincent Carey  NA  
189/2361BiocFileCache 2.99.6  (landing page)Lori Shepherd  ERROR  
190/2361BiocGenerics 0.55.4  (landing page)Hervé Pagès  WARNINGS  
191/2361biocGraph 1.71.0  (landing page)Florian Hahne  NA  
192/2361BiocHail 1.9.4  (landing page)Vincent Carey  NA  
193/2361BiocHubsShiny 1.9.2  (landing page)Marcel Ramos  NA  
194/2361BiocIO 1.19.0  (landing page)Marcel Ramos  NA  
195/2361biocmake 1.1.4  (landing page)Aaron Lun  NA  
196/2361BiocNeighbors 2.3.1  (landing page)Aaron Lun  NA  
197/2361BioCor 1.33.3  (landing page)Lluís Revilla Sancho  NA  
198/2361BiocParallel 1.43.4  (landing page)Jiefei Wang  NA  
199/2361BiocPkgTools 1.27.14  (landing page)Sean Davis  ERROR  
200/2361biocroxytest 1.5.0  (landing page)Francesc Catala-Moll  NA  
201/2361BiocSet 1.23.0  (landing page)Kayla Morrell  NA  
202/2361BiocSingular 1.25.1  (landing page)Aaron Lun  WARNINGS  
203/2361BiocSklearn 1.31.0  (landing page)Vince Carey  NA  
204/2361BiocStyle 2.37.1  (landing page)Bioconductor Package Maintainer  NA  
205/2361biocthis 1.19.0  (landing page)Leonardo Collado-Torres  NA  
206/2361BiocVersion 3.22.0  (landing page)Bioconductor Package Maintainer  NA  
207/2361biocViews 1.77.4  (landing page)Bioconductor Package Maintainer  NA  
208/2361BiocWorkflowTools 1.35.0  (landing page)Mike Smith  NA  
209/2361biodb 1.17.2  (landing page)Pierrick Roger  WARNINGS  
210/2361biodbChebi 1.15.1  (landing page)Pierrick Roger  NA  
211/2361biodbHmdb 1.15.1  (landing page)Pierrick Roger  ERROR  
212/2361biodbNcbi 1.13.1  (landing page)Pierrick Roger  ERROR  
213/2361biodbNci 1.13.1  (landing page)Pierrick Roger  ERROR  
214/2361biodbUniprot 1.15.1  (landing page)Pierrick Roger  ERROR  
215/2361bioDist 1.81.0  (landing page)Bioconductor Package Maintainer  NA  
216/2361BioGA 1.3.0  (landing page)Dany Mukesha  NA  
217/2361biomaRt 2.65.16  (landing page)Hugo Gruson  NA  
218/2361biomformat 1.37.0  (landing page)Paul J. McMurdie  NA  
219/2361BioMVCClass 1.77.0  (landing page)Elizabeth Whalen  NA  
220/2361biomvRCNS 1.49.0  (landing page)Yang Du  NA  
221/2361BioNAR 1.11.0  (landing page)Anatoly Sorokin  ERROR  
222/2361BioNERO 1.17.3  (landing page)Fabricio Almeida-Silva  NA  
223/2361BioNet 1.69.0  (landing page)Marcus Dittrich  NA  
224/2361BioQC 1.37.0  (landing page)Jitao David Zhang  NA  
225/2361biosigner 1.37.4  (landing page)Etienne A. Thevenot  ERROR  
226/2361Biostrings 2.77.2  (landing page)Hervé Pagès  WARNINGS  
227/2361BioTIP 1.23.1  (landing page)Felix Yu and X Holly Yang  WARNINGS  
228/2361biotmle 1.33.0  (landing page)Nima Hejazi  NA  
229/2361biovizBase 1.57.1  (landing page)Michael Lawrence  WARNINGS  
230/2361BiRewire 3.41.0  (landing page)Andrea Gobbi  ERROR  
231/2361biscuiteer 1.23.0  (landing page)Jacob Morrison  WARNINGS  
232/2361BiSeq 1.49.1  (landing page)Katja Hebestreit  NA  
233/2361blacksheepr 1.23.0  (landing page)RugglesLab  NA  
234/2361blase 0.99.5  (landing page)Andrew McCluskey  NA  
235/2361blima 1.43.0  (landing page)Vojtěch Kulvait  NA  
236/2361BLMA 1.33.0  (landing page)Van-Dung Pham  NA  
237/2361BloodGen3Module 1.17.0  (landing page)Darawan Rinchai  WARNINGS  
238/2361bluster 1.19.1  (landing page)Aaron Lun  NA  
239/2361bnbc 1.31.1  (landing page)Kipper Fletez-Brant  NA  
240/2361bnem 1.17.0  (landing page)Martin Pirkl  NA  
241/2361BOBaFIT 1.13.0  (landing page)Gaia Mazzocchetti  WARNINGS  
242/2361borealis 1.13.0  (landing page)Garrett Jenkinson  NA  
243/2361BPRMeth 1.35.0  (landing page)Chantriolnt-Andreas Kapourani  ERROR  
244/2361BRAIN 1.55.0  (landing page)Piotr Dittwald  WARNINGS  
245/2361branchpointer 1.35.1  (landing page)Beth Signal  ERROR  
246/2361breakpointR 1.27.0  (landing page)David Porubsky  NA  
247/2361BreastSubtypeR 1.1.8  (landing page)Qiao Yang  NA  
248/2361brendaDb 1.23.0  (landing page)Yi Zhou  NA  
249/2361BREW3R.r 1.5.0  (landing page)Lucille Lopez-Delisle  NA  
250/2361BridgeDbR 2.19.3  (landing page)Egon Willighagen  NA  
251/2361broadSeq 1.3.3  (landing page)Rishi Das Roy  WARNINGS  
252/2361BrowserViz 2.31.0  (landing page)Arkadiusz Gladki  NA  
253/2361BSgenome 1.77.2  (landing page)Hervé Pagès  WARNINGS  
254/2361BSgenomeForge 1.9.2  (landing page)Hervé Pagès  NA  
255/2361bsseq 1.45.4  (landing page)Kasper Daniel Hansen  NA  
256/2361BubbleTree 2.39.0  (landing page)Todd Creasy , Wei Zhu  ERROR  
257/2361BufferedMatrix 1.73.0  (landing page)Ben Bolstad  WARNINGS  
258/2361BufferedMatrixMethods 1.73.0  (landing page)Ben Bolstad  NA  
259/2361bugsigdbr 1.15.3  (landing page)Ludwig Geistlinger  NA  
260/2361BulkSignalR 1.1.5  (landing page)Jean-Philippe Villemin  NA  
261/2361BUMHMM 1.33.0  (landing page)Alina Selega  NA  
262/2361bumphunter 1.51.1  (landing page)Tamilselvi Guharaj  NA  
263/2361BumpyMatrix 1.17.0  (landing page)Aaron Lun  NA  
264/2361BUS 1.65.0  (landing page)Yuanhua Liu  NA  
265/2361BUScorrect 1.27.0  (landing page)Xiangyu Luo  NA  
266/2361BUSpaRse 1.23.2  (landing page)Lambda Moses  NA  
267/2361BUSseq 1.15.1  (landing page)Fangda Song  NA  
C
ABCDEFGHIJKLMNOPQRSTUVWXYZ
PackageMaintainerINSTALL/BUILD/CHECK
268/2361CaDrA 1.7.0  (landing page)Reina Chau  NA  
269/2361CAEN 1.17.0  (landing page)Zhou Yan  NA  
270/2361CAFE 1.45.0  (landing page)Sander Bollen  WARNINGS  
271/2361CAGEfightR 1.29.1  (landing page)Malte Thodberg  NA  
272/2361cageminer 1.15.2  (landing page)Fabrício Almeida-Silva  NA  
273/2361CAGEr 2.15.2  (landing page)Charles Plessy  NA  
274/2361CalibraCurve 0.99.2  (landing page)Karin Schork  NA  
275/2361calm 1.23.0  (landing page)Kun Liang  NA  
276/2361CAMERA 1.65.1  (landing page)Steffen Neumann  ERROR  
277/2361CaMutQC 1.5.6  (landing page)Xin Wang  NA  
278/2361canceR 1.43.0  (landing page)Karim Mezhoud  WARNINGS  
279/2361cancerclass 1.53.0  (landing page)Daniel Kosztyla  WARNINGS  
280/2361cardelino 1.11.0  (landing page)Davis McCarthy  NA  
281/2361Cardinal 3.11.1  (landing page)Kylie Ariel Bemis  NA  
282/2361CardinalIO 1.7.0  (landing page)Kylie Ariel Bemis  NA  
283/2361CARDspa 1.1.0  (landing page)Jing Fu  NA  
284/2361CARNIVAL 2.19.0  (landing page)Attila Gabor  NA  
285/2361casper 2.43.1  (landing page)David Rossell  ERROR  
286/2361CATALYST 1.33.1  (landing page)Helena L. Crowell  NA  
287/2361Category 2.75.0  (landing page)Bioconductor Package Maintainer  NA  
288/2361categoryCompare 1.53.0  (landing page)Robert M. Flight  NA  
289/2361CatsCradle 1.3.2  (landing page)Michael Shapiro  WARNINGS  
290/2361CausalR 1.41.0  (landing page)Glyn Bradley , Steven Barrett  NA  
291/2361cbaf 1.31.0  (landing page)Arman Shahrisa  NA  
292/2361cBioPortalData 2.21.5  (landing page)Marcel Ramos  ERROR  
293/2361CBN2Path 0.99.17  (landing page)William Choi-Kim  WARNINGS  
294/2361CBNplot 1.9.0  (landing page)Noriaki Sato  NA  
295/2361cbpManager 1.17.0  (landing page)Arsenij Ustjanzew  WARNINGS  
296/2361CCAFE 1.1.0  (landing page)Hayley Wolff  NA  
297/2361ccfindR 1.29.0  (landing page)Jun Woo  ERROR  
298/2361ccImpute 1.11.0  (landing page)Marcin Malec  NA  
299/2361ccmap 1.35.1  (landing page)Alex Pickering  ERROR  
300/2361CCPlotR 1.7.0  (landing page)Sarah Ennis  NA  
301/2361CCPROMISE 1.35.0  (landing page)Xueyuan Cao  WARNINGS  
302/2361ccrepe 1.45.0  (landing page)Emma Schwager ,Craig Bielski, George Weingart  NA  
303/2361CDI 1.7.0  (landing page)Jiyuan Fang  NA  
304/2361celaref 1.27.0  (landing page)Sarah Williams  NA  
305/2361celda 1.25.0  (landing page)Joshua Campbell  NA  
306/2361CellBarcode 1.15.0  (landing page)Wenjie Sun  NA  
307/2361cellbaseR 1.33.0  (landing page)Mohammed OE Abdallah  NA  
308/2361CellBench 1.25.1  (landing page)Shian Su  NA  
309/2361CelliD 1.17.0  (landing page)Akira Cortal  ERROR  
310/2361cellity 1.37.0  (landing page)Tomislav Ilicic  NA  
311/2361CellMapper 1.35.0  (landing page)Brad Nelms  WARNINGS  
312/2361cellmig 0.99.16  (landing page)Simo Kitanovski  NA  
313/2361cellmigRation 1.17.0  (landing page)Waldir Leoncio  NA  
314/2361CellMixS 1.25.1  (landing page)Almut Lütge  NA  
315/2361CellNOptR 1.55.0  (landing page)Attila Gabor  NA  
316/2361cellscape 1.33.0  (landing page)Shixiang Wang  NA  
317/2361CellScore 1.29.1  (landing page)Nancy Mah  ERROR  
318/2361CellTrails 1.27.1  (landing page)Daniel Ellwanger  NA  
319/2361cellxgenedp 1.13.1  (landing page)Martin Morgan  NA  
320/2361CEMiTool 1.33.2  (landing page)Helder Nakaya  NA  
321/2361censcyt 1.17.0  (landing page)Reto Gerber  NA  
322/2361Cepo 1.15.1  (landing page)Hani Jieun Kim  NA  
323/2361ceRNAnetsim 1.21.1  (landing page)Selcen Ari Yuka  NA  
324/2361CeTF 1.21.0  (landing page)Carlos Alberto Oliveira de Biagi Junior  NA  
325/2361CexoR 1.47.1  (landing page)Pedro Madrigal  NA  
326/2361CFAssay 1.43.0  (landing page)Herbert Braselmann  NA  
327/2361cfdnakit 1.7.0  (landing page)Pitithat Puranachot  NA  
328/2361cfDNAPro 1.15.0  (landing page)Haichao Wang  WARNINGS  
329/2361cfTools 1.9.0  (landing page)Ran Hu  ERROR  
330/2361CGEN 3.45.0  (landing page)Justin Lee  ERROR  
331/2361CGHbase 1.69.0  (landing page)Mark van de Wiel  NA  
332/2361CGHcall 2.71.0  (landing page)Mark van de Wiel  WARNINGS  
333/2361cghMCR 1.67.0  (landing page)J. Zhang  WARNINGS  
334/2361CGHnormaliter 1.63.0  (landing page)Bart P.P. van Houte  NA  
335/2361CGHregions 1.67.0  (landing page)Sjoerd Vosse  NA  
336/2361ChAMP 2.39.1  (landing page)Yuan Tian  WARNINGS  
337/2361ChemmineOB 1.47.5  (landing page)Thomas Girke  ERROR  
338/2361ChemmineR 3.61.2  (landing page)Thomas Girke  WARNINGS  
339/2361CHETAH 1.25.1  (landing page)Jurrian de Kanter  NA  
340/2361chevreulPlot 1.1.2  (landing page)Kevin Stachelek  NA  
341/2361chevreulProcess 1.1.2  (landing page)Kevin Stachelek  NA  
342/2361chevreulShiny 1.1.2  (landing page)Kevin Stachelek  NA  
343/2361Chicago 1.37.1  (landing page)Mikhail Spivakov  NA  
344/2361chihaya 1.9.0  (landing page)Aaron Lun  WARNINGS  
345/2361chimeraviz 1.35.0  (landing page)Stian Lågstad  NA  
346/2361ChIPanalyser 1.31.0  (landing page)Patrick C.N. Martin  NA  
347/2361ChIPComp 1.39.1  (landing page)Li Chen  NA  
348/2361chipenrich 2.33.1  (landing page)Kai Wang  NA  
349/2361ChIPexoQual 1.33.1  (landing page)Rene Welch  NA  
350/2361ChIPpeakAnno 3.43.2  (landing page)Jianhong Ou  NA  
351/2361ChIPQC 1.45.0  (landing page)Tom Carroll , Rory Stark  ERROR  
352/2361ChIPseeker 1.45.3  (landing page)Guangchuang Yu  ERROR  
353/2361chipseq 1.59.0  (landing page)Bioconductor Package Maintainer  WARNINGS  
354/2361ChIPseqR 1.63.0  (landing page)Peter Humburg  WARNINGS  
355/2361ChIPsim 1.63.0  (landing page)Peter Humburg  NA  
356/2361ChIPXpress 1.53.0  (landing page)George Wu  NA  
357/2361chopsticks 1.75.0  (landing page)Hin-Tak Leung  ERROR  
358/2361Chromatograms 0.99.7  (landing page)Philippine Louail  NA  
359/2361chromDraw 2.39.0  (landing page)Jan Janecka  WARNINGS  
360/2361ChromHeatMap 1.63.0  (landing page)Tim F. Rayner  NA  
361/2361chromPlot 1.37.0  (landing page)Karen Y. Orostica  NA  
362/2361ChromSCape 1.19.1  (landing page)Pacome Prompsy  WARNINGS  
363/2361chromVAR 1.31.1  (landing page)Alicia Schep  NA  
364/2361CHRONOS 1.37.0  (landing page)Panos Balomenos  TIMEOUT  
365/2361cicero 1.27.0  (landing page)Hannah Pliner  NA  
366/2361cigarillo 0.99.1  (landing page)Hervé Pagès  NA  
367/2361CIMICE 1.17.0  (landing page)Nicolò Rossi  NA  
368/2361CINdex 1.37.2  (landing page)Yuriy Gusev  ERROR  
369/2361circRNAprofiler 1.23.1  (landing page)Simona Aufiero  NA  
370/2361CircSeqAlignTk 1.11.2  (landing page)Jianqiang Sun  NA  
371/2361cisPath 1.49.1  (landing page)Likun Wang  ERROR  
372/2361CiteFuse 1.21.1  (landing page)Yingxin Lin  NA  
373/2361ClassifyR 3.13.8  (landing page)Dario Strbenac  WARNINGS  
374/2361cleanUpdTSeq 1.47.1  (landing page)Jianhong Ou ; Lihua Julie Zhu  NA  
375/2361CleanUpRNAseq 1.3.2  (landing page)Haibo Liu  NA  
376/2361cleaver 1.47.1  (landing page)Sebastian Gibb  NA  
377/2361clevRvis 1.9.0  (landing page)Sarah Sandmann  NA  
378/2361clippda 1.59.0  (landing page)Stephen Nyangoma  NA  
379/2361clipper 1.49.0  (landing page)Paolo Martini  NA  
380/2361cliProfiler 1.15.0  (landing page)You Zhou  NA  
381/2361cliqueMS 1.23.0  (landing page)Oriol Senan Campos  WARNINGS  
382/2361Clomial 1.45.0  (landing page)Habil Zare  NA  
383/2361clst 1.57.0  (landing page)Noah Hoffman  WARNINGS  
384/2361clstutils 1.57.0  (landing page)Noah Hoffman  WARNINGS  
385/2361CluMSID 1.25.0  (landing page)Tobias Depke  ERROR  
386/2361ClustAll 1.5.0  (landing page)Asier Ortega-Legarreta  NA  
387/2361clustComp 1.37.0  (landing page)Aurora Torrente  NA  
388/2361clusterExperiment 2.29.1  (landing page)Elizabeth Purdom  WARNINGS  
389/2361ClusterFoldSimilarity 1.5.0  (landing page)Oscar Gonzalez-Velasco  WARNINGS  
390/2361ClusterJudge 1.31.0  (landing page)Adrian Pasculescu  NA  
391/2361clusterProfiler 4.17.0  (landing page)Guangchuang Yu  NA  
392/2361clusterSeq 1.33.0  (landing page)Samuel Granjeaud  NA  
393/2361ClusterSignificance 1.37.0  (landing page)Jason T Serviss  NA  
394/2361clusterStab 1.81.0  (landing page)James W. MacDonald  NA  
395/2361clustifyr 1.21.0  (landing page)Rui Fu  NA  
396/2361ClustIRR 1.7.15  (landing page)Simo Kitanovski  NA  
397/2361clustSIGNAL 1.1.1  (landing page)Pratibha Panwar  NA  
398/2361CMA 1.67.0  (landing page)Roman Hornung  NA  
399/2361cmapR 1.21.0  (landing page)Ted Natoli  NA  
400/2361cn.farms 1.57.2  (landing page)Andreas Mitterecker  NA  
401/2361cn.mops 1.55.1  (landing page)Gundula Povysil  NA  
402/2361CNAnorm 1.55.0  (landing page)Stefano Berri  NA  
403/2361CNEr 1.45.2  (landing page)Boris Lenhard Damir Baranasic  ERROR  
404/2361CNORdt 1.51.0  (landing page)A. MacNamara  NA  
405/2361CNORfeeder 1.49.0  (landing page)Attila Gabor  WARNINGS  
406/2361CNORfuzzy 1.51.0  (landing page)T. Cokelaer  NA  
407/2361CNORode 1.51.0  (landing page)Attila Gabor  WARNINGS  
408/2361CNTools 1.65.0  (landing page)J. Zhang  NA  
409/2361CNVfilteR 1.23.0  (landing page)Jose Marcos Moreno-Cabrera  NA  
410/2361cnvGSA 1.53.0  (landing page)Joseph Lugo  NA  
411/2361CNViz 1.17.0  (landing page)Rebecca Greenblatt  NA  
412/2361CNVMetrics 1.13.0  (landing page)Astrid Deschênes  NA  
413/2361CNVPanelizer 1.41.0  (landing page)Thomas Wolf  NA  
414/2361CNVRanger 1.25.4  (landing page)Ludwig Geistlinger  NA  
415/2361CNVrd2 1.47.0  (landing page)Hoang Tan Nguyen  ERROR  
416/2361CoCiteStats 1.81.0  (landing page)Bioconductor Package Maintainer  NA  
417/2361COCOA 2.23.1  (landing page)John Lawson  NA  
418/2361codelink 1.77.0  (landing page)Diego Diez  NA  
419/2361CODEX 1.41.0  (landing page)Yuchao Jiang  NA  
420/2361CoGAPS 3.29.1  (landing page)Elana J. Fertig  NA  
421/2361cogena 1.43.0  (landing page)Zhilong Jia  WARNINGS  
422/2361cogeqc 1.13.0  (landing page)Fabrício Almeida-Silva  NA  
423/2361Cogito 1.15.2  (landing page)Annika Bürger  NA  
424/2361coGPS 1.53.0  (landing page)Yingying Wei  NA  
425/2361cola 2.15.0  (landing page)Zuguang Gu  NA  
426/2361comapr 1.13.0  (landing page)Ruqian Lyu  ERROR  
427/2361combi 1.21.0  (landing page)Stijn Hawinkel  NA  
428/2361coMethDMR 1.13.0  (landing page)Fernanda Veitzman  NA  
429/2361COMPASS 1.47.0  (landing page)Greg Finak  NA  
430/2361compcodeR 1.45.0  (landing page)Charlotte Soneson  NA  
431/2361compEpiTools 1.43.1  (landing page)Mattia Furlan  NA  
432/2361ComplexHeatmap 2.25.2  (landing page)Zuguang Gu  NA  
433/2361CompoundDb 1.13.0  (landing page)Johannes Rainer  NA  
434/2361ComPrAn 1.17.0  (landing page)Petra Palenikova  NA  
435/2361compSPOT 1.7.0  (landing page)Sydney Grant  NA  
436/2361concordexR 1.9.1  (landing page)Kayla Jackson  WARNINGS  
437/2361condiments 1.17.0  (landing page)Hector Roux de Bezieux  NA  
438/2361CONFESS 1.37.0  (landing page)Diana LOW  WARNINGS  
439/2361consensus 1.27.0  (landing page)Tim Peters  NA  
440/2361ConsensusClusterPlus 1.73.0  (landing page)Matt Wilkerson  NA  
441/2361consensusDE 1.27.0  (landing page)Ashley J. Waardenberg  NA  
442/2361consensusOV 1.31.0  (landing page)Benjamin Haibe-Kains  NA  
443/2361consensusSeekeR 1.37.3  (landing page)Astrid Deschênes  NA  
444/2361consICA 2.7.5  (landing page)Petr V. Nazarov  NA  
445/2361CONSTANd 1.17.0  (landing page)Dirk Valkenborg  NA  
446/2361conumee 1.43.1  (landing page)Volker Hovestadt  NA  
447/2361convert 1.85.0  (landing page)Yee Hwa (Jean) Yang  NA  
448/2361copa 1.77.0  (landing page)James W. MacDonald  NA  
449/2361CopyNumberPlots 1.25.0  (landing page)Bernat Gel  NA  
450/2361Coralysis 0.99.10  (landing page)António Sousa  NA  
451/2361coRdon 1.27.0  (landing page)Anamaria Elek  NA  
452/2361CoreGx 2.13.0  (landing page)Benjamin Haibe-Kains  NA  
453/2361Cormotif 1.55.0  (landing page)Yingying Wei  NA  
454/2361corral 1.19.0  (landing page)Lauren Hsu  NA  
455/2361coseq 1.33.0  (landing page)Andrea Rau  NA  
456/2361CoSIA 1.9.0  (landing page)Amanda D. Clark  TIMEOUT  
457/2361cosmiq 1.43.0  (landing page)David Fischer  NA  
458/2361cosmosR 1.17.0  (landing page)Attila Gabor  NA  
459/2361COSNet 1.43.0  (landing page)Marco Frasca  WARNINGS  
460/2361COTAN 2.9.7  (landing page)Galfrè Silvia Giulia  NA  
461/2361countsimQC 1.27.1  (landing page)Charlotte Soneson  NA  
462/2361covEB 1.35.0  (landing page)C. Pacini  NA  
463/2361CoverageView 1.47.0  (landing page)Ernesto Lowy  WARNINGS  
464/2361covRNA 1.35.0  (landing page)Lara Urban  NA  
465/2361CPSM 1.1.4  (landing page)Harpreet Kaur  NA  
466/2361cpvSNP 1.41.0  (landing page)Caitlin McHugh  NA  
467/2361cqn 1.55.0  (landing page)Kasper Daniel Hansen  NA  
468/2361CRImage 1.57.0  (landing page)Henrik Failmezger , Yinyin Yuan  NA  
469/2361CRISPRball 1.5.0  (landing page)Jared Andrews  NA  
470/2361crisprBase 1.13.0  (landing page)Jean-Philippe Fortin  NA  
471/2361crisprBowtie 1.13.1  (landing page)Jean-Philippe Fortin  NA  
472/2361crisprBwa 1.13.1  (landing page)Jean-Philippe Fortin  NA  
473/2361crisprDesign 1.11.1  (landing page)Jean-Philippe Fortin  NA  
474/2361crisprScore 1.13.1  (landing page)Jean-Philippe Fortin  NA  
475/2361CRISPRseek 1.49.2  (landing page)Lihua Julie Zhu  NA  
476/2361crisprShiny 1.5.1  (landing page)Jean-Philippe Fortin  NA  
477/2361CrispRVariants 1.37.0  (landing page)Helen Lindsay  WARNINGS  
478/2361crisprVerse 1.11.0  (landing page)Jean-Philippe Fortin  NA  
479/2361crisprViz 1.11.1  (landing page)Jean-Philippe Fortin  NA  
480/2361crlmm 1.67.0  (landing page)Benilton S Carvalho  WARNINGS  
481/2361crumblr 1.1.0  (landing page)Gabriel Hoffman  NA  
482/2361crupR 1.1.1  (landing page)Persia Akbari Omgba  NA  
483/2361CSAR 1.61.1  (landing page)Jose M Muino  NA  
484/2361csaw 1.43.1  (landing page)Aaron Lun  WARNINGS  
485/2361csdR 1.15.0  (landing page)Jakob Peder Pettersen  NA  
486/2361CSOA 0.99.3  (landing page)Andrei-Florian Stoica  NA  
487/2361CSSQ 1.21.0  (landing page)Fan Lab at Georgia Institute of Technology  NA  
488/2361ctc 1.83.0  (landing page)Antoine Lucas  NA  
489/2361CTdata 1.9.0  (landing page)Laurent Gatto  NA  
490/2361CTDquerier 2.17.0  (landing page)Xavier Escribà-Montagut  WARNINGS  
491/2361CTexploreR 1.5.2  (landing page)Axelle Loriot  NA  
492/2361cTRAP 1.27.0  (landing page)Nuno Saraiva-Agostinho  NA  
493/2361ctsGE 1.35.0  (landing page)Michal Sharabi-Schwager  NA  
494/2361CTSV 1.11.0  (landing page)Jinge Yu Developer  NA  
495/2361cummeRbund 2.51.0  (landing page)Loyal A. Goff  ERROR  
496/2361CuratedAtlasQueryR 1.7.0  (landing page)Stefano Mangiola  NA  
497/2361customCMPdb 1.19.0  (landing page)Yuzhu Duan  NA  
498/2361customProDB 1.49.0  (landing page)Xiaojing Wang  ERROR  
499/2361cyanoFilter 1.17.0  (landing page)Oluwafemi Olusoji  NA  
500/2361cycle 1.63.0  (landing page)Matthias Futschik  NA  
501/2361cydar 1.33.0  (landing page)Aaron Lun  NA  
502/2361cypress 1.5.0  (landing page)Shilin Yu  NA  
503/2361CytoDx 1.29.0  (landing page)Zicheng Hu  NA  
504/2361CyTOFpower 1.15.0  (landing page)Anne-Maud Ferreira  NA  
505/2361cytofQC 1.9.0  (landing page)Jill Lundell  ERROR  
506/2361CytoGLMM 1.17.3  (landing page)Christof Seiler  NA  
507/2361cytoKernel 1.15.0  (landing page)Tusharkanti Ghosh  NA  
508/2361cytolib 2.21.0  (landing page)Mike Jiang  WARNINGS  
509/2361cytomapper 1.21.1  (landing page)Lasse Meyer  NA  
510/2361CytoMDS 1.5.0  (landing page)Philippe Hauchamps  NA  
511/2361cytoMEM 1.13.0  (landing page)Jonathan Irish  NA  
512/2361CytoML 2.21.0  (landing page)Mike Jiang  WARNINGS  
513/2361CytoPipeline 1.9.4  (landing page)Philippe Hauchamps  NA  
514/2361CytoPipelineGUI 1.7.2  (landing page)Philippe Hauchamps  NA  
515/2361cytoviewer 1.9.0  (landing page)Lasse Meyer  NA  
D
ABCDEFGHIJKLMNOPQRSTUVWXYZ
PackageMaintainerINSTALL/BUILD/CHECK
516/2361dada2 1.37.0  (landing page)Benjamin Callahan  WARNINGS  
517/2361dagLogo 1.47.0  (landing page)Jianhong Ou  NA  
518/2361daMA 1.81.0  (landing page)Jobst Landgrebe  NA  
519/2361DAMEfinder 1.21.2  (landing page)Stephany Orjuela  NA  
520/2361DaMiRseq 2.21.0  (landing page)Mattia Chiesa  NA  
521/2361Damsel 1.5.0  (landing page)Caitlin Page  WARNINGS  
522/2361dandelionR 1.1.5  (landing page)Kelvin Tuong  NA  
523/2361DAPAR 1.41.0  (landing page)Samuel Wieczorek  NA  
524/2361dar 1.5.2  (landing page)Francesc Catala-Moll  NA  
525/2361DART 1.57.0  (landing page)Charles Shijie Zheng  NA  
526/2361dcanr 1.25.0  (landing page)Dharmesh D. Bhuva  NA  
527/2361DCATS 1.7.0  (landing page)Xinyi Lin  NA  
528/2361dcGSA 1.37.0  (landing page)Jiehuan sun  WARNINGS  
529/2361ddCt 1.65.0  (landing page)Jitao David Zhang  WARNINGS  
530/2361ddPCRclust 1.29.0  (landing page)Benedikt G. Brink  NA  
531/2361dearseq 1.21.0  (landing page)Boris P. Hejblum  NA  
532/2361debCAM 1.27.0  (landing page)Lulu Chen  ERROR  
533/2361debrowser 1.37.0  (landing page)Alper Kucukural  NA  
534/2361DECIPHER 3.5.1  (landing page)Erik Wright  NA  
535/2361decompTumor2Sig 2.25.1  (landing page)Rosario M. Piro  TIMEOUT  
536/2361DeconRNASeq 1.51.0  (landing page)Ting Gong  ERROR  
537/2361decontam 1.29.0  (landing page)Benjamin Callahan  NA  
538/2361decontX 1.7.0  (landing page)Joshua Campbell  NA  
539/2361DeconvoBuddies 1.1.5  (landing page)Louise Huuki-Myers  NA  
540/2361deconvR 1.15.1  (landing page)Irem B. Gündüz  NA  
541/2361decoupleR 2.15.0  (landing page)Pau Badia-i-Mompel  ERROR  
542/2361DeeDeeExperiment 0.99.5  (landing page)Najla Abassi  NA  
543/2361DeepPINCS 1.17.0  (landing page)Dongmin Jung  ERROR  
544/2361deepSNV 1.55.0  (landing page)Moritz Gerstung  NA  
545/2361DeepTarget 1.3.0  (landing page)Trinh Nguyen  NA  
546/2361DEFormats 1.37.0  (landing page)Andrzej Oleś  NA  
547/2361DegCre 1.5.1  (landing page)Brian S. Roberts  NA  
548/2361DegNorm 1.19.1  (landing page)Ji-Ping Wang  NA  
549/2361DEGraph 1.61.0  (landing page)Laurent Jacob  NA  
550/2361DEGreport 1.45.1  (landing page)Lorena Pantano  NA  
551/2361DEGseq 1.63.0  (landing page)Likun Wang  WARNINGS  
552/2361DelayedArray 0.35.3  (landing page)Hervé Pagès  WARNINGS  
553/2361DelayedDataFrame 1.25.0  (landing page)Qian Liu  NA  
554/2361DelayedMatrixStats 1.31.0  (landing page)Peter Hickey  NA  
555/2361DelayedRandomArray 1.17.0  (landing page)Aaron Lun  NA  
556/2361DelayedTensor 1.15.0  (landing page)Koki Tsuyuzaki  WARNINGS  
557/2361DELocal 1.9.0  (landing page)Rishi Das Roy  ERROR  
558/2361deltaCaptureC 1.23.1  (landing page)Michael Shapiro  NA  
559/2361deltaGseg 1.49.0  (landing page)Diana Low  WARNINGS  
560/2361DeMAND 1.39.0  (landing page)Jung Hoon Woo , Mariano Alvarez  NA  
561/2361DeMixT 1.25.0  (landing page)Ruonan Li  WARNINGS  
562/2361demuxmix 1.11.0  (landing page)Hans-Ulrich Klein  NA  
563/2361demuxSNP 1.7.1  (landing page)Michael Lynch  NA  
564/2361densvis 1.19.0  (landing page)Alan O'Callaghan  ERROR  
565/2361DEP 1.31.2  (landing page)Arne Smits  NA  
566/2361DepecheR 1.25.0  (landing page)Jakob Theorell  NA  
567/2361DepInfeR 1.13.0  (landing page)Junyan Lu  NA  
568/2361DEqMS 1.27.1  (landing page)Yafeng Zhu  NA  
569/2361derfinder 1.43.1  (landing page)Leonardo Collado-Torres  NA  
570/2361derfinderHelper 1.43.0  (landing page)Leonardo Collado-Torres  NA  
571/2361derfinderPlot 1.43.1  (landing page)Leonardo Collado-Torres  NA  
572/2361DEScan2 1.29.2  (landing page)Dario Righelli  NA  
573/2361DESeq2 1.49.8  (landing page)Michael Love  NA  
574/2361DEsingle 1.29.0  (landing page)Zhun Miao  NA  
575/2361DESpace 2.1.0  (landing page)Peiying Cai  NA  
576/2361destiny 3.23.0  (landing page)Philipp Angerer  ERROR  
577/2361DEsubs 1.35.0  (landing page)Aristidis G. Vrahatis , Panos Balomenos  WARNINGS  
578/2361DEWSeq 1.23.1  (landing page)bioinformatics team Hentze  NA  
579/2361DExMA 1.17.0  (landing page)Juan Antonio Villatoro-García  NA  
580/2361DEXSeq 1.55.1  (landing page)Alejandro Reyes  NA  
581/2361DFP 1.67.0  (landing page)Rodrigo Alvarez-Glez  NA  
582/2361DFplyr 1.3.2  (landing page)Jonathan Carroll  NA  
583/2361DiffBind 3.19.0  (landing page)Rory Stark  NA  
584/2361diffcoexp 1.29.0  (landing page)Wenbin Wei  NA  
585/2361diffcyt 1.29.0  (landing page)Lukas M. Weber  NA  
586/2361DifferentialRegulation 2.7.0  (landing page)Simone Tiberi  NA  
587/2361diffGeneAnalysis 1.91.0  (landing page)Choudary Jagarlamudi  NA  
588/2361diffHic 1.41.0  (landing page)Aaron Lun , Gordon Smyth , Hannah Coughlin  NA  
589/2361DiffLogo 2.33.0  (landing page)Hendrik Treutler  WARNINGS  
590/2361diffuStats 1.29.0  (landing page)Sergio Picart-Armada  NA  
591/2361diffUTR 1.17.0  (landing page)Pierre-Luc Germain  NA  
592/2361diggit 1.41.0  (landing page)Mariano J Alvarez  WARNINGS  
593/2361Dino 1.15.0  (landing page)Jared Brown  NA  
594/2361dinoR 1.5.0  (landing page)Michaela Schwaiger  NA  
595/2361dir.expiry 1.17.0  (landing page)Aaron Lun  NA  
596/2361DirichletMultinomial 1.51.0  (landing page)Martin Morgan  WARNINGS  
597/2361discordant 1.33.0  (landing page)McGrath Max  NA  
598/2361DiscoRhythm 1.25.0  (landing page)Matthew Carlucci  NA  
599/2361distinct 1.21.1  (landing page)Simone Tiberi  NA  
600/2361dittoSeq 1.21.1  (landing page)Daniel Bunis  NA  
601/2361divergence 1.25.0  (landing page)Wikum Dinalankara , Luigi Marchionni  NA  
602/2361dks 1.55.0  (landing page)Jeffrey T. Leek  NA  
603/2361DMCFB 1.23.0  (landing page)Farhad Shokoohi  NA  
604/2361DMCHMM 1.31.0  (landing page)Farhad Shokoohi  NA  
605/2361dmGsea 0.99.11  (landing page)Zongli Xu  ERROR  
606/2361DMRcaller 1.41.2  (landing page)Nicolae Radu Zabet  NA  
607/2361DMRcate 3.5.2  (landing page)Tim Peters  NA  
608/2361DMRScan 1.31.1  (landing page)Christian M Page  NA  
609/2361dmrseq 1.29.2  (landing page)Keegan Korthauer  NA  
610/2361DNABarcodeCompatibility 1.25.0  (landing page)Céline Trébeau  NA  
611/2361DNABarcodes 1.39.0  (landing page)Tilo Buschmann  NA  
612/2361DNAcopy 1.83.0  (landing page)Venkatraman E. Seshan  NA  
613/2361DNAcycP2 1.1.0  (landing page)Ji-Ping Wang  NA  
614/2361DNAfusion 1.11.0  (landing page)Christoffer Trier Maansson  NA  
615/2361DNAshapeR 1.37.0  (landing page)Tsu-Pei Chiu  NA  
616/2361DNEA 0.99.14  (landing page)Christopher Patsalis  NA  
617/2361DominoEffect 1.29.5  (landing page)Marija Buljan , Peter Blattmann  NA  
618/2361dominoSignal 1.3.0  (landing page)Jacob T Mitchell  NA  
619/2361doppelgangR 1.37.3  (landing page)Levi Waldron  NA  
620/2361Doscheda 1.31.0  (landing page)Bruno Contrino  NA  
621/2361DOSE 4.3.0  (landing page)Guangchuang Yu  NA  
622/2361doseR 1.25.0  (landing page)ake.vastermark  NA  
623/2361DOtools 0.99.11  (landing page)Mariano Ruz Jurado  ERROR  
624/2361doubletrouble 1.9.1  (landing page)Fabrício Almeida-Silva  NA  
625/2361drawProteins 1.29.0  (landing page)Paul Brennan  ERROR  
626/2361dreamlet 1.7.1  (landing page)Gabriel Hoffman  NA  
627/2361DRIMSeq 1.37.0  (landing page)Malgorzata Nowicka  WARNINGS  
628/2361DriverNet 1.49.0  (landing page)Jiarui Ding  NA  
629/2361DropletUtils 1.29.7  (landing page)Jonathan Griffiths  WARNINGS  
630/2361drugTargetInteractions 1.17.0  (landing page)Thomas Girke  NA  
631/2361DrugVsDisease 2.51.0  (landing page)j. Saez-Rodriguez  ERROR  
632/2361DspikeIn 0.99.29  (landing page)Mitra Ghotbi  NA  
633/2361DSS 2.57.0  (landing page)Hao Wu , Hao Feng  WARNINGS  
634/2361dStruct 1.15.0  (landing page)Krishna Choudhary  NA  
635/2361DTA 2.55.0  (landing page)Bjoern Schwalb  NA  
636/2361Dune 1.21.0  (landing page)Hector Roux de Bezieux  ERROR  
637/2361DuplexDiscovereR 1.3.4  (landing page)Egor Semenchenko  NA  
638/2361dupRadar 1.39.1  (landing page)Sergi Sayols , Holger Klein  NA  
639/2361dyebias 1.69.0  (landing page)Philip Lijnzaad  NA  
640/2361DynDoc 1.87.0  (landing page)Bioconductor Package Maintainer  WARNINGS  
E
ABCDEFGHIJKLMNOPQRSTUVWXYZ
PackageMaintainerINSTALL/BUILD/CHECK
641/2361easier 1.15.0  (landing page)Oscar Lapuente-Santana  NA  
642/2361EasyCellType 1.11.0  (landing page)Ruoxing Li  NA  
643/2361easylift 1.7.0  (landing page)Abdullah Al Nahid  NA  
644/2361easyreporting 1.21.0  (landing page)Dario Righelli  NA  
645/2361easyRNASeq 2.45.1  (landing page)Nicolas Delhomme  WARNINGS  
646/2361EBarrays 2.73.0  (landing page)Ming Yuan  NA  
647/2361EBcoexpress 1.53.0  (landing page)John A. Dawson  WARNINGS  
648/2361EBImage 4.51.0  (landing page)Andrzej Oleś  NA  
649/2361EBSEA 1.37.0  (landing page)Arfa Mehmood  NA  
650/2361EBSeq 2.7.0  (landing page)Xiuyu Ma  WARNINGS  
651/2361ecolitk 1.81.0  (landing page)Laurent Gautier  WARNINGS  
652/2361EDASeq 2.43.0  (landing page)Davide Risso  NA  
653/2361edge 2.41.0  (landing page)John D. Storey , Andrew J. Bass  NA  
654/2361edgeR 4.7.6  (landing page)Yunshun Chen , Gordon Smyth  NA  
655/2361EDIRquery 1.9.0  (landing page)Laura D.T. Vo Ngoc  NA  
656/2361eds 1.11.0  (landing page)Avi Srivastava  NA  
657/2361EGAD 1.37.0  (landing page)Sara Ballouz  WARNINGS  
658/2361EGSEA 1.37.0  (landing page)Monther Alhamdoosh  NA  
659/2361eiR 1.49.0  (landing page)Thomas Girke  NA  
660/2361eisaR 1.21.1  (landing page)Michael Stadler  NA  
661/2361ELMER 2.33.1  (landing page)Tiago Chedraoui Silva  ERROR  
662/2361ELViS 1.1.12  (landing page)Jin-Young Lee  NA  
663/2361EMDomics 2.39.0  (landing page)Sadhika Malladi and Daniel Schmolze  NA  
664/2361EmpiricalBrownsMethod 1.37.0  (landing page)David Gibbs  NA  
665/2361EnhancedVolcano 1.27.0  (landing page)Kevin Blighe  ERROR  
666/2361enhancerHomologSearch 1.15.2  (landing page)Jianhong Ou  NA  
667/2361EnMCB 1.21.0  (landing page)Xin Yu  NA  
668/2361ENmix 1.45.3  (landing page)Zongli Xu  NA  
669/2361EnrichDO 1.3.1  (landing page)Hongyu Fu  NA  
670/2361EnrichedHeatmap 1.39.1  (landing page)Zuguang Gu  NA  
671/2361EnrichmentBrowser 2.39.2  (landing page)Ludwig Geistlinger  NA  
672/2361enrichplot 1.29.4  (landing page)Guangchuang Yu  NA  
673/2361enrichViewNet 1.7.3  (landing page)Astrid Deschênes  NA  
674/2361ensembldb 2.33.2  (landing page)Johannes Rainer  NA  
675/2361epialleleR 1.17.1  (landing page)Oleksii Nikolaienko  NA  
676/2361EpiCompare 1.13.2  (landing page)Hiranyamaya Dash  NA  
677/2361epidecodeR 1.17.0  (landing page)Kandarp Joshi  NA  
678/2361EpiDISH 2.25.0  (landing page)Shijie C. Zheng  NA  
679/2361epigenomix 1.49.0  (landing page)Hans-Ulrich Klein  NA  
680/2361epigraHMM 1.17.3  (landing page)Pedro Baldoni  WARNINGS  
681/2361EpiMix 1.11.1  (landing page)Yuanning Zheng  NA  
682/2361epimutacions 1.13.0  (landing page)Dolors Pelegri-Siso  NA  
683/2361epiNEM 1.33.0  (landing page)Martin Pirkl  NA  
684/2361EpipwR 1.3.1  (landing page)Jackson Barth  NA  
685/2361epiregulon 1.99.7  (landing page)Xiaosai Yao  ERROR  
686/2361epiregulon.extra 1.5.1  (landing page)Xiaosai Yao  NA  
687/2361epistack 1.15.1  (landing page)DEVAILLY Guillaume  NA  
688/2361epistasisGA 1.11.2  (landing page)Michael Nodzenski  WARNINGS  
689/2361EpiTxDb 1.21.2  (landing page)Felix G.M. Ernst  NA  
690/2361epivizr 2.39.0  (landing page)Hector Corrada Bravo  NA  
691/2361epivizrChart 1.31.0  (landing page)Hector Corrada Bravo  NA  
692/2361epivizrData 1.37.2  (landing page)Hector Corrada Bravo  NA  
693/2361epivizrServer 1.37.0  (landing page)Hector Corrada Bravo  WARNINGS  
694/2361epivizrStandalone 1.37.1  (landing page)Hector Corrada Bravo  WARNINGS  
695/2361erccdashboard 1.43.0  (landing page)Sarah Munro  NA  
696/2361ERSSA 1.27.0  (landing page)Zixuan Shao  NA  
697/2361esATAC 1.31.1  (landing page)Zheng Wei  NA  
698/2361escape 2.5.5  (landing page)Nick Borcherding  NA  
699/2361escheR 1.9.0  (landing page)Boyi Guo  NA  
700/2361esetVis 1.35.0  (landing page)Laure Cougnaud  NA  
701/2361eudysbiome 1.39.0  (landing page)Xiaoyuan Zhou  NA  
702/2361evaluomeR 1.25.0  (landing page)José Antonio Bernabé-Díaz  WARNINGS  
703/2361EventPointer 3.17.0  (landing page)Juan A. Ferrer-Bonsoms  NA  
704/2361EWCE 1.17.1  (landing page)Hiranyamaya Dash  NA  
705/2361ExCluster 1.27.0  (landing page)R. Matthew Tanner  NA  
706/2361ExiMiR 2.51.0  (landing page)Sylvain Gubian  NA  
707/2361ExperimentHub 2.99.6  (landing page)Bioconductor Package Maintainer  WARNINGS  
708/2361ExperimentHubData 1.35.0  (landing page)Bioconductor Package Maintainer  WARNINGS  
709/2361ExperimentSubset 1.19.0  (landing page)Irzam Sarfraz  NA  
710/2361ExploreModelMatrix 1.21.2  (landing page)Charlotte Soneson  NA  
711/2361ExpressionAtlas 2.1.1  (landing page)Anil Thanki  NA  
712/2361extraChIPs 1.13.3  (landing page)Stevie Pederson  NA  
F
ABCDEFGHIJKLMNOPQRSTUVWXYZ
PackageMaintainerINSTALL/BUILD/CHECK
713/2361fabia 2.55.0  (landing page)Andreas Mitterecker  WARNINGS  
714/2361factDesign 1.85.0  (landing page)Denise Scholtens  NA  
715/2361factR 1.11.0  (landing page)Fursham Hamid  NA  
716/2361faers 1.5.2  (landing page)Yun Peng  NA  
717/2361FamAgg 1.37.0  (landing page)Johannes Rainer  NA  
718/2361famat 1.19.0  (landing page)Mathieu Charles  ERROR  
719/2361fastLiquidAssociation 1.45.0  (landing page)Tina Gunderson  WARNINGS  
720/2361FastqCleaner 1.27.0  (landing page)Leandro Roser  NA  
721/2361fastreeR 1.99.8  (landing page)Anestis Gkanogiannis  NA  
722/2361fastseg 1.55.0  (landing page)Alexander Blume  NA  
723/2361fCCAC 1.35.0  (landing page)Pedro Madrigal  NA  
724/2361fCI 1.39.0  (landing page)Shaojun Tang  NA  
725/2361fcScan 1.23.0  (landing page)Pierre Khoueiry Abdullah El-Kurdi  NA  
726/2361fdrame 1.81.0  (landing page)Effi Kenigsberg  NA  
727/2361FEAST 1.17.0  (landing page)Kenong Su  NA  
728/2361FeatSeekR 1.9.0  (landing page)Tuemay Capraz  NA  
729/2361fedup 1.17.0  (landing page)Catherine Ross  NA  
730/2361FELLA 1.29.0  (landing page)Sergio Picart-Armada  ERROR  
731/2361fenr 1.7.1  (landing page)Marek Gierlinski  NA  
732/2361ffpe 1.53.0  (landing page)Levi Waldron  NA  
733/2361fgga 1.17.0  (landing page)Flavio Spetale  NA  
734/2361FGNet 3.43.0  (landing page)Sara Aibar  WARNINGS  
735/2361fgsea 1.35.8  (landing page)Alexey Sergushichev  NA  
736/2361FilterFFPE 1.19.0  (landing page)Lanying Wei  NA  
737/2361findIPs 1.5.0  (landing page)Shuo Wang  NA  
738/2361FindIT2 1.15.1  (landing page)Guandong Shang  NA  
739/2361FinfoMDS 0.99.2  (landing page)Soobin Kim  NA  
740/2361FISHalyseR 1.43.0  (landing page)Karesh Arunakirinathan  WARNINGS  
741/2361fishpond 2.15.0  (landing page)Michael Love  NA  
742/2361FitHiC 1.35.0  (landing page)Ruyu Tan  NA  
743/2361flagme 1.65.0  (landing page)Mark Robinson , Riccardo Romoli  WARNINGS  
744/2361FLAMES 2.3.5  (landing page)Changqing Wang  ERROR  
745/2361flowAI 1.39.0  (landing page)Gianni Monaco  NA  
746/2361flowBeads 1.47.0  (landing page)Nikolas Pontikos  WARNINGS  
747/2361flowBin 1.45.0  (landing page)Kieran O'Neill  NA  
748/2361flowcatchR 1.43.0  (landing page)Federico Marini  NA  
749/2361flowCHIC 1.43.0  (landing page)Author: Joachim Schumann  NA  
750/2361flowClean 1.47.0  (landing page)Kipper Fletez-Brant  WARNINGS  
751/2361flowClust 3.47.0  (landing page)Greg Finak , Mike Jiang  WARNINGS  
752/2361flowCore 2.21.0  (landing page)Mike Jiang  WARNINGS  
753/2361flowCut 1.19.0  (landing page)Justin Meskas  NA  
754/2361flowCyBar 1.45.0  (landing page)Joachim Schumann  NA  
755/2361flowDensity 1.43.0  (landing page)Mehrnoush Malek  WARNINGS  
756/2361flowFP 1.67.0  (landing page)Herb Holyst , Wade Rogers  WARNINGS  
757/2361flowGate 1.9.0  (landing page)Andrew Wight  NA  
758/2361flowGraph 1.17.0  (landing page)Alice Yue  NA  
759/2361flowMatch 1.45.0  (landing page)Ariful Azad  NA  
760/2361flowMeans 1.69.0  (landing page)Nima Aghaeepour  NA  
761/2361flowMerge 2.57.0  (landing page)Greg Finak  WARNINGS  
762/2361flowPeaks 1.55.0  (landing page)Yongchao Ge  NA  
763/2361flowPloidy 1.35.0  (landing page)Tyler Smith  ERROR  
764/2361flowPlots 1.57.0  (landing page)N. Hawkins  NA  
765/2361FlowSOM 2.17.0  (landing page)Sofie Van Gassen  NA  
766/2361flowSpecs 1.23.0  (landing page)Jakob Theorell  NA  
767/2361flowStats 4.21.0  (landing page)Greg Finak , Mike Jiang  WARNINGS  
768/2361flowTime 1.33.0  (landing page)R. Clay Wright  NA  
769/2361flowTrans 1.61.0  (landing page)Greg Finak  NA  
770/2361flowViz 1.73.0  (landing page)Mike Jiang  NA  
771/2361flowVS 1.41.0  (landing page)Ariful Azad  NA  
772/2361flowWorkspace 4.21.0  (landing page)Greg Finak , Mike Jiang  WARNINGS  
773/2361fmcsR 1.51.0  (landing page)Thomas Girke  WARNINGS  
774/2361fmrs 1.19.0  (landing page)Farhad Shokoohi  NA  
775/2361fobitools 1.17.0  (landing page)Pol Castellano-Escuder  NA  
776/2361FRASER 2.5.5  (landing page)Christian Mertes  ERROR  
777/2361frenchFISH 1.21.0  (landing page)Adam Berman  NA  
778/2361FRGEpistasis 1.45.0  (landing page)Futao Zhang  NA  
779/2361frma 1.61.0  (landing page)Matthew N. McCall  NA  
780/2361frmaTools 1.61.0  (landing page)Matthew N. McCall  NA  
781/2361funOmics 1.3.0  (landing page)Elisa Gomez de Lope  NA  
782/2361funtooNorm 1.33.0  (landing page)Kathleen Klein  WARNINGS  
783/2361FuseSOM 1.11.0  (landing page)Elijah Willie  NA  
G
ABCDEFGHIJKLMNOPQRSTUVWXYZ
PackageMaintainerINSTALL/BUILD/CHECK
784/2361G4SNVHunter 1.1.6  (landing page)Rongxin Zhang  WARNINGS  
785/2361GA4GHclient 1.33.1  (landing page)Welliton Souza  NA  
786/2361GA4GHshiny 1.31.1  (landing page)Welliton Souza  NA  
787/2361gaga 2.55.0  (landing page)David Rossell  WARNINGS  
788/2361gage 2.59.0  (landing page)Weijun Luo  WARNINGS  
789/2361GAprediction 1.35.0  (landing page)Jon Bohlin  NA  
790/2361garfield 1.37.0  (landing page)Valentina Iotchkova  WARNINGS  
791/2361GARS 1.29.0  (landing page)Mattia Chiesa  NA  
792/2361GateFinder 1.29.0  (landing page)Nima Aghaeepour  WARNINGS  
793/2361gatom 1.7.0  (landing page)Alexey Sergushichev  ERROR  
794/2361GBScleanR 2.3.2  (landing page)Tomoyuki Furuta  NA  
795/2361gcapc 1.33.1  (landing page)Mingxiang Teng  NA  
796/2361gcatest 2.9.0  (landing page)Alejandro Ochoa  NA  
797/2361GCPtools 0.99.4  (landing page)Marcel Ramos  NA  
798/2361gCrisprTools 2.15.0  (landing page)Russell Bainer  NA  
799/2361gcrma 2.81.0  (landing page)Z. Wu  NA  
800/2361GDCRNATools 1.29.0  (landing page)Ruidong Li  NA  
801/2361gDNAx 1.7.3  (landing page)Robert Castelo  NA  
802/2361gDR 1.7.2  (landing page)Arkadiusz Gladki  NA  
803/2361gDRcore 1.7.8  (landing page)Arkadiusz Gladki  NA  
804/2361gDRimport 1.7.5  (landing page)Arkadiusz Gladki  NA  
805/2361gDRstyle 1.7.4  (landing page)Arkadiusz Gladki  NA  
806/2361gDRutils 1.7.18  (landing page)Arkadiusz Gladki  NA  
807/2361GDSArray 1.29.0  (landing page)Xiuwen Zheng  NA  
808/2361gdsfmt 1.45.2  (landing page)Xiuwen Zheng  NA  
809/2361GeDi 1.5.0  (landing page)Annekathrin Nedwed  ERROR  
810/2361GEM 1.35.0  (landing page)Hong Pan  NA  
811/2361gemini 1.23.0  (landing page)Sidharth Jain  NA  
812/2361gemma.R 3.5.13  (landing page)Ogan Mancarci  NA  
813/2361genArise 1.85.0  (landing page)IFC Development Team  WARNINGS  
814/2361geneAttribution 1.35.1  (landing page)Arthur Wuster  NA  
815/2361GeneBreak 1.39.0  (landing page)Evert van den Broek  NA  
816/2361geneClassifiers 1.33.0  (landing page)R Kuiper  NA  
817/2361GeneExpressionSignature 1.55.0  (landing page)Yang Cao  NA  
818/2361genefilter 1.91.0  (landing page)Bioconductor Package Maintainer  WARNINGS  
819/2361genefu 2.41.0  (landing page)Benjamin Haibe-Kains  WARNINGS  
820/2361GeneGA 1.59.0  (landing page)Zhenpeng Li  ERROR  
821/2361GeneMeta 1.81.0  (landing page)Bioconductor Package Maintainer  NA  
822/2361GeneNetworkBuilder 1.51.0  (landing page)Jianhong Ou  NA  
823/2361GeneOverlap 1.45.0  (landing page)António Miguel de Jesus Domingues, Max-Planck Institute for Cell Biology and Genetics  NA  
824/2361geneplast 1.35.0  (landing page)Mauro Castro  NA  
825/2361geneplotter 1.87.0  (landing page)Bioconductor Package Maintainer  NA  
826/2361geneRecommender 1.81.0  (landing page)Greg Hather  NA  
827/2361GeneRegionScan 1.65.0  (landing page)Lasse Folkersen  NA  
828/2361geneRxCluster 1.45.0  (landing page)Charles Berry  NA  
829/2361GeneSelectMMD 2.53.0  (landing page)Weiliang Qiu  WARNINGS  
830/2361GENESIS 2.39.3  (landing page)Stephanie M. Gogarten  NA  
831/2361GeneStructureTools 1.29.0  (landing page)Beth Signal  ERROR  
832/2361geNetClassifier 1.49.0  (landing page)Sara Aibar  NA  
833/2361GeneticsPed 1.71.0  (landing page)David Henderson  WARNINGS  
834/2361GeneTonic 3.3.3  (landing page)Federico Marini  ERROR  
835/2361geneXtendeR 1.35.0  (landing page)Bohdan Khomtchouk  WARNINGS  
836/2361GENIE3 1.31.0  (landing page)Van Anh Huynh-Thu  NA  
837/2361genomation 1.41.1  (landing page)Altuna Akalin , Vedran Franke  WARNINGS  
838/2361GenomAutomorphism 1.11.2  (landing page)Robersy Sanchez  NA  
839/2361GenomeInfoDb 1.45.12  (landing page)Hervé Pagès  NA  
840/2361genomeIntervals 1.65.1  (landing page)Julien Gagneur  WARNINGS  
841/2361genomes 3.39.0  (landing page)Chris Stubben  NA  
842/2361GenomicAlignments 1.45.4  (landing page)Hervé Pagès  NA  
843/2361GenomicDataCommons 1.33.1  (landing page)Sean Davis  NA  
844/2361GenomicDistributions 1.17.1  (landing page)Kristyna Kupkova  NA  
845/2361GenomicFeatures 1.61.7  (landing page)H. Pagès  NA  
846/2361GenomicFiles 1.45.2  (landing page)Bioconductor Package Maintainer  NA  
847/2361genomicInstability 1.15.0  (landing page)Mariano Alvarez  NA  
848/2361GenomicInteractionNodes 1.13.1  (landing page)Jianhong Ou  NA  
849/2361GenomicInteractions 1.43.1  (landing page)Liz Ing-Simmons  NA  
850/2361GenomicOZone 1.23.1  (landing page)Hua Zhong, Mingzhou Song  NA  
851/2361GenomicPlot 1.7.2  (landing page)Shuye Pu  NA  
852/2361GenomicRanges 1.61.6  (landing page)Hervé Pagès  NA  
853/2361GenomicScores 2.21.4  (landing page)Robert Castelo  NA  
854/2361GenomicSuperSignature 1.17.1  (landing page)Sehyun Oh  WARNINGS  
855/2361GenomicTuples 1.43.1  (landing page)Peter Hickey  NA  
856/2361GenProSeq 1.13.0  (landing page)Dongmin Jung  ERROR  
857/2361GenVisR 1.41.3  (landing page)Zachary Skidmore  ERROR  
858/2361GeoDiff 1.15.0  (landing page)Nicole Ortogero  NA  
859/2361GEOexplorer 1.15.0  (landing page)Guy Hunt  ERROR  
860/2361GEOfastq 1.17.0  (landing page)Alex Pickering  NA  
861/2361GEOmetadb 1.71.0  (landing page)Jack Zhu  WARNINGS  
862/2361geomeTriD 1.3.21  (landing page)Jianhong Ou  NA  
863/2361GeomxTools 3.13.1  (landing page)Maddy Griswold  NA  
864/2361GEOquery 2.77.6  (landing page)Sean Davis  ERROR  
865/2361GEOsubmission 1.61.0  (landing page)Alexandre Kuhn  NA  
866/2361GeoTcgaData 2.9.0  (landing page)Erqiang Hu  NA  
867/2361gep2pep 1.29.0  (landing page)Francesco Napolitano  NA  
868/2361getDEE2 1.19.3  (landing page)Mark 0000-0002-7688-6974 Ziemann  NA  
869/2361geva 1.17.0  (landing page)Itamar José Guimarães Nunes  ERROR  
870/2361GEWIST 1.53.0  (landing page)Wei Q. Deng  NA  
871/2361geyser 1.1.0  (landing page)David McGaughey  NA  
872/2361gg4way 1.7.1  (landing page)Benjamin I Laufer  NA  
873/2361ggbio 1.57.1  (landing page)Michael Lawrence  WARNINGS  
874/2361ggcyto 1.37.1  (landing page)Mike Jiang  WARNINGS  
875/2361ggkegg 1.7.2  (landing page)Noriaki Sato  NA  
876/2361ggmanh 1.13.0  (landing page)John Lee  NA  
877/2361ggmsa 1.15.1  (landing page)Guangchuang Yu  WARNINGS  
878/2361GGPA 1.21.0  (landing page)Dongjun Chung  WARNINGS  
879/2361ggsc 1.7.1  (landing page)Guangchuang Yu  NA  
880/2361ggseqalign 1.3.0  (landing page)Simeon Lim Rossmann  NA  
881/2361ggspavis 1.15.9  (landing page)Lukas M. Weber  NA  
882/2361ggtree 3.99.2  (landing page)Guangchuang Yu  NA  
883/2361ggtreeDendro 1.11.0  (landing page)Guangchuang Yu  WARNINGS  
884/2361ggtreeExtra 1.19.1  (landing page)Shuangbin Xu  NA  
885/2361ggtreeSpace 1.5.0  (landing page)Guangchuang Yu  WARNINGS  
886/2361GIGSEA 1.27.0  (landing page)Shijia Zhu  NA  
887/2361ginmappeR 1.5.0  (landing page)Fernando Sola  NA  
888/2361gINTomics 1.5.2  (landing page)Angelo Velle  NA  
889/2361GLAD 2.73.0  (landing page)Philippe Hupe  WARNINGS  
890/2361GladiaTOX 1.25.3  (landing page)PMP S.A. R Support  NA  
891/2361Glimma 2.19.2  (landing page)Shian Su  NA  
892/2361glmGamPoi 1.21.0  (landing page)Constantin Ahlmann-Eltze  WARNINGS  
893/2361glmSparseNet 1.27.0  (landing page)André Veríssimo  NA  
894/2361GlobalAncova 4.27.0  (landing page)Manuela Hummel  WARNINGS  
895/2361globalSeq 1.37.0  (landing page)Armin Rauschenberger  NA  
896/2361globaltest 5.63.0  (landing page)Jelle Goeman  TIMEOUT  
897/2361GloScope 1.99.2  (landing page)William Torous  NA  
898/2361gmapR 1.51.1  (landing page)Michael Lawrence  ERROR  
899/2361GmicR 1.23.0  (landing page)Richard Virgen-Slane  WARNINGS  
900/2361gmoviz 1.21.1  (landing page)Kathleen Zeglinski  NA  
901/2361GMRP 1.37.0  (landing page)Yuan-De Tan  NA  
902/2361GNET2 1.25.0  (landing page)Chen Chen  NA  
903/2361GNOSIS 1.7.0  (landing page)Lydia King  WARNINGS  
904/2361goatea 0.99.9  (landing page)Maurits Unkel  ERROR  
905/2361GOexpress 1.43.1  (landing page)Kevin Rue-Albrecht  NA  
906/2361GOfuncR 1.29.0  (landing page)Steffi Grote  NA  
907/2361GOpro 1.35.0  (landing page)Lidia Chrabaszcz  NA  
908/2361goProfiles 1.71.0  (landing page)Alex Sanchez  NA  
909/2361GOSemSim 2.35.2  (landing page)Guangchuang Yu  NA  
910/2361goseq 1.61.1  (landing page)Federico Marini  NA  
911/2361goSorensen 1.11.0  (landing page)Pablo Flores  NA  
912/2361goSTAG 1.33.0  (landing page)Brian D. Bennett  NA  
913/2361GOstats 2.75.0  (landing page)Bioconductor Package Maintainer  NA  
914/2361GOTHiC 1.45.1  (landing page)Borbala Mifsud  NA  
915/2361goTools 1.83.0  (landing page)Agnes Paquet  NA  
916/2361GPA 1.21.0  (landing page)Dongjun Chung  NA  
917/2361gpls 1.81.0  (landing page)Bioconductor Package Maintainer  WARNINGS  
918/2361gpuMagic 1.25.1  (landing page)Jiefei Wang  ERROR  
919/2361GrafGen 1.5.0  (landing page)William Wheeler  WARNINGS  
920/2361GRaNIE 1.13.0  (landing page)Christian Arnold  NA  
921/2361granulator 1.17.0  (landing page)Sabina Pfister  ERROR  
922/2361graper 1.25.2  (landing page)Britta Velten  NA  
923/2361graph 1.87.0  (landing page)Bioconductor Package Maintainer  NA  
924/2361GraphAlignment 1.73.0  (landing page)Joern P. Meier  WARNINGS  
925/2361GraphAT 1.81.0  (landing page)Thomas LaFramboise  NA  
926/2361graphite 1.55.3  (landing page)Gabriele Sales  NA  
927/2361GRENITS 1.61.0  (landing page)Edward Morrissey  NA  
928/2361GreyListChIP 1.41.1  (landing page)Matt Eldridge  NA  
929/2361GRmetrics 1.35.0  (landing page)Nicholas Clark , Mario Medvedovic  NA  
930/2361groHMM 1.43.1  (landing page)Tulip Nandu  WARNINGS  
931/2361GSALightning 1.37.0  (landing page)Billy Heung Wing Chang  NA  
932/2361GSAR 1.43.2  (landing page)Yasir Rahmatallah , Galina Glazko  NA  
933/2361GSCA 2.39.0  (landing page)Zhicheng Ji  NA  
934/2361gscreend 1.23.0  (landing page)Katharina Imkeller  NA  
935/2361GSEABase 1.71.1  (landing page)Bioconductor Package Maintainer  NA  
936/2361GSEABenchmarkeR 1.29.1  (landing page)Ludwig Geistlinger  NA  
937/2361GSEAlm 1.69.0  (landing page)Assaf Oron  NA  
938/2361GSEAmining 1.19.0  (landing page)Oriol Arqués  NA  
939/2361gsean 1.29.0  (landing page)Dongmin Jung  NA  
940/2361GSgalgoR 1.19.0  (landing page)Carlos Catania  NA  
941/2361GSReg 1.43.0  (landing page)Bahman Afsari , Elana J. Fertig  WARNINGS  
942/2361GSRI 2.57.0  (landing page)Julian Gehring  NA  
943/2361GSVA 2.3.4  (landing page)Robert Castelo  NA  
944/2361gtrellis 1.41.0  (landing page)Zuguang Gu  NA  
945/2361GUIDEseq 1.39.0  (landing page)Lihua Julie Zhu  NA  
946/2361Guitar 2.25.0  (landing page)Jia Meng  NA  
947/2361gVenn 0.99.5  (landing page)Christophe Tav  NA  
948/2361Gviz 1.53.1  (landing page)Robert Ivanek  NA  
949/2361GWAS.BAYES 1.19.0  (landing page)Jacob Williams  NA  
950/2361gwascat 2.41.1  (landing page)VJ Carey  NA  
951/2361GWASTools 1.55.0  (landing page)Stephanie M. Gogarten  NA  
952/2361gwasurvivr 1.27.0  (landing page)Abbas Rizvi  NA  
953/2361GWENA 1.19.0  (landing page)Gwenaëlle Lemoine  WARNINGS  
954/2361gypsum 1.5.0  (landing page)Aaron Lun  NA  
H
ABCDEFGHIJKLMNOPQRSTUVWXYZ
PackageMaintainerINSTALL/BUILD/CHECK
955/2361h5mread 1.1.1  (landing page)Hervé Pagès  WARNINGS  
956/2361h5vc 2.43.0  (landing page)Paul Theodor Pyl  WARNINGS  
957/2361hapFabia 1.51.0  (landing page)Andreas Mitterecker  WARNINGS  
958/2361Harman 1.37.0  (landing page)Jason Ross  NA  
959/2361HarmonizR 1.7.0  (landing page)Simon Schlumbohm  NA  
960/2361Harshlight 1.81.1  (landing page)Maurizio Pellegrino  ERROR  
961/2361hca 1.17.0  (landing page)Martin Morgan  ERROR  
962/2361HDF5Array 1.37.0  (landing page)Hervé Pagès  ERROR  
963/2361HDTD 1.43.0  (landing page)Anestis Touloumis  NA  
964/2361hdxmsqc 1.5.0  (landing page)Oliver M. Crook  NA  
965/2361heatmaps 1.33.1  (landing page)Malcolm Perry  NA  
966/2361Heatplus 3.17.0  (landing page)Alexander Ploner  NA  
967/2361HelloRanges 1.35.2  (landing page)Michael Lawrence  NA  
968/2361HELP 1.67.0  (landing page)Reid F. Thompson  NA  
969/2361HEM 1.81.0  (landing page)HyungJun Cho  ERROR  
970/2361hermes 1.13.1  (landing page)Daniel Sabanés Bové  NA  
971/2361HERON 1.7.0  (landing page)Sean McIlwain  NA  
972/2361Herper 1.19.3  (landing page)Thomas Carroll  NA  
973/2361HGC 1.17.0  (landing page)XGlab  WARNINGS  
974/2361hiAnnotator 1.43.1  (landing page)Nirav V Malani  ERROR  
975/2361HIBAG 1.45.0  (landing page)Xiuwen Zheng  NA  
976/2361HicAggR 1.5.1  (landing page)Olivier Cuvier  WARNINGS  
977/2361HiCaptuRe 0.99.15  (landing page)Laureano Tomas-Daza  NA  
978/2361HiCBricks 1.27.1  (landing page)Koustav Pal  NA  
979/2361HiCcompare 1.31.0  (landing page)Mikhail Dozmorov  NA  
980/2361HiCDCPlus 1.17.0  (landing page)Merve Sahin  NA  
981/2361HiCDOC 1.11.2  (landing page)Maigné Élise  NA  
982/2361HiCExperiment 1.9.2  (landing page)Jacques Serizay  NA  
983/2361HiContacts 1.11.0  (landing page)Jacques Serizay  NA  
984/2361HiCool 1.9.1  (landing page)Jacques Serizay  ERROR  
985/2361HiCParser 1.1.1  (landing page)Maigné Élise  NA  
986/2361HiCPotts 0.99.6  (landing page)Itunu. Godwin Osuntoki  NA  
987/2361hicVennDiagram 1.7.3  (landing page)Jianhong Ou  NA  
988/2361hierGWAS 1.39.0  (landing page)Laura Buzdugan  WARNINGS  
989/2361hierinf 1.27.0  (landing page)Claude Renaux  NA  
990/2361HilbertCurve 2.3.0  (landing page)Zuguang Gu  NA  
991/2361HilbertVis 1.67.2  (landing page)Simon Anders  WARNINGS  
992/2361HilbertVisGUI 1.67.1  (landing page)Simon Anders  WARNINGS  
993/2361HiLDA 1.23.0  (landing page)Zhi Yang  ERROR  
994/2361hipathia 3.9.0  (landing page)Marta R. Hidalgo  ERROR  
995/2361HIPPO 1.21.0  (landing page)Tae Kim  NA  
996/2361hiReadsProcessor 1.45.1  (landing page)Nirav V Malani  ERROR  
997/2361HIREewas 1.27.0  (landing page)Xiangyu Luo  NA  
998/2361HiTC 1.53.1  (landing page)Nicolas Servant  WARNINGS  
999/2361hmdbQuery 1.29.0  (landing page)VJ Carey  NA  
1000/2361HMMcopy 1.51.0  (landing page)Daniel Lai  WARNINGS  
1001/2361HoloFoodR 1.3.1  (landing page)Tuomas Borman  NA  
1002/2361hoodscanR 1.7.0  (landing page)Ning Liu  NA  
1003/2361hopach 2.69.0  (landing page)Katherine S. Pollard  NA  
1004/2361HPAanalyze 1.27.2  (landing page)Anh Nhat Tran  NA  
1005/2361hpar 1.51.0  (landing page)Laurent Gatto  NA  
1006/2361HPiP 1.15.0  (landing page)Matineh Rahmatbakhsh  ERROR  
1007/2361HTqPCR 1.63.0  (landing page)Matthew N. McCall  NA  
1008/2361HTSFilter 1.49.0  (landing page)Andrea Rau  NA  
1009/2361HuBMAPR 1.3.2  (landing page)Christine Hou  NA  
1010/2361HubPub 1.17.1  (landing page)Kayla Interdonato  NA  
1011/2361hummingbird 1.19.0  (landing page)Eleni Adam  NA  
1012/2361HVP 0.99.5  (landing page)Wei Xin Chan  NA  
1013/2361HybridExpress 1.5.0  (landing page)Fabricio Almeida-Silva  NA  
1014/2361HybridMTest 1.53.0  (landing page)Demba Fofana  NA  
1015/2361hypeR 2.7.1  (landing page)Anthony Federico  ERROR  
1016/2361hyperdraw 1.61.0  (landing page)Paul Murrell  NA  
1017/2361hypergraph 1.81.0  (landing page)Bioconductor Package Maintainer  NA  
I
ABCDEFGHIJKLMNOPQRSTUVWXYZ
PackageMaintainerINSTALL/BUILD/CHECK
1018/2361iASeq 1.53.0  (landing page)Yingying Wei  NA  
1019/2361iasva 1.27.0  (landing page)Donghyung Lee , Anthony Cheng  NA  
1020/2361iBBiG 1.53.0  (landing page)Aedin Culhane  NA  
1021/2361Ibex 0.99.34  (landing page)Nick Borcherding  ERROR  
1022/2361ibh 1.57.0  (landing page)Kircicegi Korkmaz  NA  
1023/2361iBMQ 1.49.0  (landing page)Greg Imholte  NA  
1024/2361iCARE 1.37.0  (landing page)Parichoy Pal Choudhury  ERROR  
1025/2361Icens 1.81.0  (landing page)Bioconductor Package Maintainer  NA  
1026/2361icetea 1.27.1  (landing page)Vivek Bhardwaj  WARNINGS  
1027/2361iCheck 1.39.0  (landing page)Weiliang Qiu  NA  
1028/2361iChip 1.63.0  (landing page)Qianxing Mo  WARNINGS  
1029/2361iClusterPlus 1.45.0  (landing page)Qianxing Mo , Ronglai Shen  ERROR  
1030/2361iCNV 1.29.0  (landing page)Zilu Zhou  WARNINGS  
1031/2361iCOBRA 1.37.1  (landing page)Charlotte Soneson  NA  
1032/2361ideal 2.3.0  (landing page)Federico Marini  NA  
1033/2361IdeoViz 1.45.0  (landing page)Shraddha Pai  WARNINGS  
1034/2361idiogram 1.85.0  (landing page)Karl J. Dykema  NA  
1035/2361idpr 1.19.0  (landing page)William M. McFadden  NA  
1036/2361idr2d 1.23.1  (landing page)Konstantin Krismer  NA  
1037/2361IFAA 1.11.0  (landing page)Zhigang Li  NA  
1038/2361igblastr 0.99.23  (landing page)Hervé Pagès  OK  
1039/2361iGC 1.39.0  (landing page)Liang-Bo Wang  NA  
1040/2361IgGeneUsage 1.23.0  (landing page)Simo Kitanovski  NA  
1041/2361igvR 1.29.0  (landing page)Arkadiusz Gladki  NA  
1042/2361igvShiny 1.5.0  (landing page)Arkadiusz Gladki  NA  
1043/2361IHW 1.37.0  (landing page)Nikos Ignatiadis  NA  
1044/2361illuminaio 0.51.0  (landing page)Kasper Daniel Hansen  NA  
1045/2361ILoReg 1.19.0  (landing page)Johannes Smolander  WARNINGS  
1046/2361imageTCGA 1.1.1  (landing page)Ilaria Billato  NA  
1047/2361IMAS 1.33.1  (landing page)Seonggyun Han  ERROR  
1048/2361imcRtools 1.15.5  (landing page)Daniel Schulz  NA  
1049/2361IMMAN 1.29.0  (landing page)Minoo Ashtiani  NA  
1050/2361immApex 1.3.8  (landing page)Nick Borcherding  NA  
1051/2361immunoClust 1.41.2  (landing page)Till Soerensen  NA  
1052/2361immunogenViewer 1.3.1  (landing page)Katharina Waury  NA  
1053/2361immunotation 1.17.5  (landing page)Katharina Imkeller  NA  
1054/2361iModMix 0.99.3  (landing page)Isis Narvaez-Bandera  NA  
1055/2361IMPCdata 1.45.0  (landing page)Jeremy Mason  NA  
1056/2361impute 1.83.0  (landing page)Balasubramanian Narasimhan  WARNINGS  
1057/2361INDEED 2.23.0  (landing page)Ressom group  NA  
1058/2361iNETgrate 1.7.0  (landing page)Habil Zare  NA  
1059/2361infercnv 1.25.0  (landing page)Christophe Georgescu  ERROR  
1060/2361infinityFlow 1.19.0  (landing page)Etienne Becht  NA  
1061/2361Informeasure 1.19.0  (landing page)Chu Pan  NA  
1062/2361InPAS 2.17.1  (landing page)Jianhong Ou  WARNINGS  
1063/2361INPower 1.45.0  (landing page)Bill Wheeler  NA  
1064/2361INSPEcT 1.39.1  (landing page)Stefano de Pretis  NA  
1065/2361INTACT 1.9.0  (landing page)Jeffrey Okamoto  NA  
1066/2361InTAD 1.29.1  (landing page)Konstantin Okonechnikov  NA  
1067/2361intansv 1.49.0  (landing page)Wen Yao  NA  
1068/2361interacCircos 1.19.0  (landing page)Zhe Cui  NA  
1069/2361InteractionSet 1.37.1  (landing page)Aaron Lun  NA  
1070/2361InteractiveComplexHeatmap 1.17.0  (landing page)Zuguang Gu  NA  
1071/2361interactiveDisplay 1.47.1  (landing page)Bioconductor Package Maintainer  NA  
1072/2361interactiveDisplayBase 1.47.1  (landing page)Bioconductor Package Maintainer  NA  
1073/2361InterCellar 2.15.0  (landing page)Marta Interlandi  NA  
1074/2361IntEREst 1.33.0  (landing page)Ali Oghabian  NA  
1075/2361IntramiRExploreR 1.31.0  (landing page)Surajit Bhattacharya  WARNINGS  
1076/2361IONiseR 2.33.0  (landing page)Mike Smith  NA  
1077/2361iPath 1.15.0  (landing page)Kenong Su  ERROR  
1078/2361ipdDb 1.27.0  (landing page)Steffen Klasberg  NA  
1079/2361IPO 1.35.0  (landing page)Thomas Lieb  ERROR  
1080/2361IRanges 2.43.6  (landing page)Hervé Pagès  WARNINGS  
1081/2361ISAnalytics 1.19.3  (landing page)Francesco Gazzo  NA  
1082/2361iscream 0.99.8  (landing page)James Eapen  ERROR  
1083/2361iSEE 2.21.1  (landing page)Kevin Rue-Albrecht  NA  
1084/2361iSEEde 1.7.0  (landing page)Kevin Rue-Albrecht  NA  
1085/2361iSEEfier 1.5.0  (landing page)Najla Abassi  NA  
1086/2361iSEEhex 1.11.0  (landing page)Kevin Rue-Albrecht  NA  
1087/2361iSEEhub 1.11.0  (landing page)Kevin Rue-Albrecht  NA  
1088/2361iSEEindex 1.7.0  (landing page)Kevin Rue-Albrecht  NA  
1089/2361iSEEpathways 1.7.0  (landing page)Kevin Rue-Albrecht  NA  
1090/2361iSEEtree 1.3.2  (landing page)Giulio Benedetti  NA  
1091/2361iSEEu 1.21.0  (landing page)Kevin Rue-Albrecht  WARNINGS  
1092/2361iSeq 1.61.0  (landing page)Qianxing Mo  NA  
1093/2361ISLET 1.11.0  (landing page)Hao Feng  NA  
1094/2361islify 1.1.1  (landing page)Jakob Theorell  NA  
1095/2361isobar 1.55.0  (landing page)Florian P Breitwieser  WARNINGS  
1096/2361IsoBayes 1.7.1  (landing page)Simone Tiberi  NA  
1097/2361IsoCorrectoR 1.27.0  (landing page)Christian Kohler  NA  
1098/2361IsoCorrectoRGUI 1.25.0  (landing page)Christian Kohler  NA  
1099/2361IsoformSwitchAnalyzeR 2.9.1  (landing page)Kristoffer Vitting-Seerup  NA  
1100/2361ISoLDE 1.37.0  (landing page)Christelle Reynès  WARNINGS  
1101/2361isomiRs 1.37.1  (landing page)Lorena Pantano  ERROR  
1102/2361ITALICS 2.69.0  (landing page)Guillem Rigaill  NA  
1103/2361iterativeBMA 1.67.0  (landing page)Ka Yee Yeung  NA  
1104/2361iterativeBMAsurv 1.67.0  (landing page)Ka Yee Yeung  WARNINGS  
1105/2361IVAS 2.29.1  (landing page)Seonggyun Han  WARNINGS  
1106/2361ivygapSE 1.31.0  (landing page)VJ Carey  NA  
1107/2361IWTomics 1.33.0  (landing page)Marzia A Cremona  WARNINGS  
J
ABCDEFGHIJKLMNOPQRSTUVWXYZ
PackageMaintainerINSTALL/BUILD/CHECK
1108/2361jazzPanda 1.1.3  (landing page)Melody Jin  NA  
K
ABCDEFGHIJKLMNOPQRSTUVWXYZ
PackageMaintainerINSTALL/BUILD/CHECK
1109/2361karyoploteR 1.35.3  (landing page)Bernat Gel  NA  
1110/2361katdetectr 1.11.1  (landing page)Daan Hazelaar  NA  
1111/2361KBoost 1.17.0  (landing page)Luis F. Iglesias-Martinez  NA  
1112/2361KCsmart 2.67.0  (landing page)Jorma de Ronde  WARNINGS  
1113/2361kebabs 1.43.1  (landing page)Ulrich Bodenhofer  NA  
1114/2361KEGGgraph 1.69.0  (landing page)Jitao David Zhang  NA  
1115/2361KEGGlincs 1.35.0  (landing page)Shana White , Mario Medvedovic  NA  
1116/2361keggorthology 2.61.0  (landing page)VJ Carey  NA  
1117/2361KEGGREST 1.49.2  (landing page)Bioconductor Package Maintainer  NA  
1118/2361KinSwingR 1.27.0  (landing page)Ashley J. Waardenberg  NA  
1119/2361kissDE 1.29.0  (landing page)Aurélie Siberchicot  NA  
1120/2361kmcut 1.3.0  (landing page)Igor Kuznetsov  NA  
1121/2361KnowSeq 1.23.0  (landing page)Daniel Castillo-Secilla  NA  
1122/2361knowYourCG 1.5.2  (landing page)Goldberg David  WARNINGS  
1123/2361koinar 1.3.0  (landing page)Ludwig Lautenbacher  NA  
L
ABCDEFGHIJKLMNOPQRSTUVWXYZ
PackageMaintainerINSTALL/BUILD/CHECK
1124/2361LACE 2.13.1  (landing page)Davide Maspero  NA  
1125/2361lapmix 1.75.0  (landing page)Yann Ruffieux  ERROR  
1126/2361LBE 1.77.0  (landing page)Cyril Dalmasso  NA  
1127/2361ldblock 1.39.1  (landing page)VJ Carey  NA  
1128/2361LEA 3.21.0  (landing page)Olivier Francois  NA  
1129/2361LedPred 1.43.0  (landing page)Aitor Gonzalez  WARNINGS  
1130/2361lefser 1.19.1  (landing page)Sehyun Oh  NA  
1131/2361lemur 1.7.1  (landing page)Constantin Ahlmann-Eltze  WARNINGS  
1132/2361les 1.59.0  (landing page)Julian Gehring  NA  
1133/2361levi 1.27.0  (landing page)Jose Luiz Rybarczyk Filho  WARNINGS  
1134/2361lfa 2.9.0  (landing page)Alejandro Ochoa  NA  
1135/2361Lheuristic 1.1.0  (landing page)Sanchez Pla Alex  NA  
1136/2361limma 3.65.7  (landing page)Gordon Smyth  NA  
1137/2361limmaGUI 1.85.0  (landing page)Gordon Smyth  NA  
1138/2361limpa 1.1.7  (landing page)Gordon Smyth  NA  
1139/2361limpca 1.5.1  (landing page)Manon Martin  NA  
1140/2361LimROTS 1.1.4  (landing page)Ali Mostafa Anwar  NA  
1141/2361lineagespot 1.13.0  (landing page)Nikolaos Pechlivanis  NA  
1142/2361LinkHD 1.23.0  (landing page)"Laura M Zingaretti"  NA  
1143/2361linkSet 0.99.19  (landing page)Gilbert Han  ERROR  
1144/2361Linnorm 2.33.0  (landing page)Shun Hang Yip  NA  
1145/2361LinTInd 1.13.1  (landing page)Luyue Wang  ERROR  
1146/2361lionessR 1.23.0  (landing page)Ping-Han Hsieh  NA  
1147/2361lipidr 2.23.0  (landing page)Ahmed Mohamed  NA  
1148/2361LipidTrend 0.99.2  (landing page)Wei-Chung Cheng  NA  
1149/2361LiquidAssociation 1.63.0  (landing page)Yen-Yi Ho  NA  
1150/2361lisaClust 1.17.0  (landing page)Ellis Patrick  NA  
1151/2361lmdme 1.51.0  (landing page)Cristobal Fresno  WARNINGS  
1152/2361LOBSTAHS 1.35.1  (landing page)Henry Holm  NA  
1153/2361loci2path 1.29.1  (landing page)Tianlei Xu  NA  
1154/2361logicFS 2.29.0  (landing page)Holger Schwender  NA  
1155/2361LOLA 1.39.1  (landing page)Nathan Sheffield  NA  
1156/2361looking4clusters 0.99.4  (landing page)David Barrios  NA  
1157/2361LoomExperiment 1.27.0  (landing page)Bioconductor Package Maintainer  NA  
1158/2361LPE 1.83.0  (landing page)Nitin Jain  NA  
1159/2361lpNet 2.41.0  (landing page)Lars Kaderali  WARNINGS  
1160/2361lpsymphony 1.37.0  (landing page)Vladislav Kim  WARNINGS  
1161/2361LRBaseDbi 2.19.1  (landing page)Koki Tsuyuzaki  NA  
1162/2361LRcell 1.17.0  (landing page)Wenjing Ma  NA  
1163/2361lumi 2.61.0  (landing page)Lei Huang  WARNINGS  
1164/2361lute 1.5.1  (landing page)Sean K Maden  ERROR  
1165/2361LymphoSeq 1.37.0  (landing page)David Coffey  NA  
M
ABCDEFGHIJKLMNOPQRSTUVWXYZ
PackageMaintainerINSTALL/BUILD/CHECK
1166/2361M3C 1.31.0  (landing page)Christopher John  NA  
1167/2361M3Drop 1.35.0  (landing page)Tallulah Andrews  NA  
1168/2361m6Aboost 1.15.1  (landing page)You Zhou  NA  
1169/2361Maaslin2 1.23.0  (landing page)Lauren McIver  ERROR  
1170/2361maaslin3 1.1.2  (landing page)William Nickols  NA  
1171/2361Macarron 1.13.2  (landing page)Sagun Maharjan  ERROR  
1172/2361maCorrPlot 1.79.0  (landing page)Alexander Ploner  NA  
1173/2361MACSQuantifyR 1.23.0  (landing page)Raphaël Bonnet  NA  
1174/2361MACSr 1.17.0  (landing page)Qiang Hu  NA  
1175/2361made4 1.83.0  (landing page)Aedin Culhane  NA  
1176/2361MADSEQ 1.35.1  (landing page)Yu Kong  ERROR  
1177/2361maftools 2.25.10  (landing page)Anand Mayakonda  WARNINGS  
1178/2361MAGAR 1.17.0  (landing page)Michael Scherer  NA  
1179/2361magpie 1.9.0  (landing page)Daoyu Duan  WARNINGS  
1180/2361magrene 1.11.0  (landing page)Fabrício Almeida-Silva  NA  
1181/2361MAI 1.15.0  (landing page)Jonathan Dekermanjian  NA  
1182/2361MAIT 1.43.0  (landing page)Pol Sola-Santos  ERROR  
1183/2361makecdfenv 1.85.0  (landing page)James W. MacDonald  WARNINGS  
1184/2361MANOR 1.81.0  (landing page)Pierre Neuvial  NA  
1185/2361MantelCorr 1.79.0  (landing page)Brian Steinmeyer  NA  
1186/2361MAPFX 1.5.0  (landing page)Hsiao-Chi Liao  NA  
1187/2361maPredictDSC 1.47.0  (landing page)Adi Laurentiu Tarca  NA  
1188/2361mapscape 1.33.0  (landing page)Maia Smith  WARNINGS  
1189/2361mariner 1.9.1  (landing page)Eric Davis  NA  
1190/2361markeR 0.99.6  (landing page)Rita Martins-Silva  NA  
1191/2361marr 1.19.0  (landing page)Tusharkanti Ghosh  NA  
1192/2361marray 1.87.0  (landing page)Yee Hwa (Jean) Yang  NA  
1193/2361martini 1.29.0  (landing page)Hector Climente-Gonzalez  NA  
1194/2361maser 1.27.1  (landing page)Diogo F.T. Veiga  NA  
1195/2361maSigPro 1.81.0  (landing page)Maria Jose Nueda  NA  
1196/2361maskBAD 1.53.0  (landing page)Michael Dannemann  NA  
1197/2361MassArray 1.61.0  (landing page)Reid F. Thompson  NA  
1198/2361massiR 1.45.0  (landing page)Sam Buckberry  NA  
1199/2361MassSpecWavelet 1.75.1  (landing page)Sergio Oller Moreno  NA  
1200/2361MAST 1.35.2  (landing page)Andrew McDavid  NA  
1201/2361mastR 1.9.1  (landing page)Jinjin Chen  NA  
1202/2361matchBox 1.51.0  (landing page)Luigi Marchionni , Anuj Gupta  NA  
1203/2361MatrixGenerics 1.21.0  (landing page)Peter Hickey  NA  
1204/2361MatrixQCvis 1.17.1  (landing page)Thomas Naake  NA  
1205/2361MatrixRider 1.41.0  (landing page)Elena Grassi  WARNINGS  
1206/2361matter 2.11.2  (landing page)Kylie A. Bemis  ERROR  
1207/2361MBAmethyl 1.43.0  (landing page)Tao Wang  NA  
1208/2361MBASED 1.43.0  (landing page)Oleg Mayba  NA  
1209/2361MBCB 1.63.0  (landing page)Bo Yao  NA  
1210/2361MBECS 1.13.0  (landing page)Michael Olbrich  NA  
1211/2361mbkmeans 1.25.0  (landing page)Davide Risso  NA  
1212/2361mBPCR 1.63.0  (landing page)P.M.V. Rancoita  NA  
1213/2361MBQN 2.21.0  (landing page)Eva Brombacher  NA  
1214/2361mbQTL 1.9.0  (landing page)Mercedeh Movassagh  NA  
1215/2361MBttest 1.37.0  (landing page)Yuan-De Tan  NA  
1216/2361MCbiclust 1.33.0  (landing page)Robert Bentham  NA  
1217/2361mCSEA 1.29.0  (landing page)Jordi Martorell-Marugán  ERROR  
1218/2361mdp 1.29.0  (landing page)Helder Nakaya  NA  
1219/2361mdqc 1.71.0  (landing page)Gabriela Cohen-Freue  NA  
1220/2361MDTS 1.29.0  (landing page)Jack M.. Fu  NA  
1221/2361MEAL 1.39.0  (landing page)Xavier Escribà Montagut  WARNINGS  
1222/2361MeasurementError.cor 1.81.0  (landing page)Beiying Ding  NA  
1223/2361MEAT 1.21.0  (landing page)Sarah Voisin  WARNINGS  
1224/2361MEB 1.23.1  (landing page)Jiadi Zhu  NA  
1225/2361MEDIPS 1.61.0  (landing page)Lukas Chavez  NA  
1226/2361MEDME 1.69.0  (landing page)Mattia Pelizzola  WARNINGS  
1227/2361megadepth 1.19.0  (landing page)David Zhang  NA  
1228/2361MEIGOR 1.43.0  (landing page)Jose A. Egea  NA  
1229/2361Melissa 1.25.0  (landing page)C. A. Kapourani  NA  
1230/2361memes 1.17.2  (landing page)Spencer Nystrom  WARNINGS  
1231/2361Mergeomics 1.37.0  (landing page)Zeyneb Kurt  NA  
1232/2361MeSHDbi 1.45.0  (landing page)Koki Tsuyuzaki  NA  
1233/2361meshes 1.35.0  (landing page)Guangchuang Yu  NA  
1234/2361meshr 2.15.0  (landing page)Koki Tsuyuzaki  NA  
1235/2361MesKit 1.19.0  (landing page)Mengni Liu  WARNINGS  
1236/2361messina 1.45.0  (landing page)Mark Pinese  WARNINGS  
1237/2361metabCombiner 1.19.0  (landing page)Hani Habra  NA  
1238/2361metabinR 1.11.0  (landing page)Anestis Gkanogiannis  NA  
1239/2361MetaboAnnotation 1.13.3  (landing page)Johannes Rainer  NA  
1240/2361MetaboCoreUtils 1.17.1  (landing page)Johannes Rainer  NA  
1241/2361MetaboDynamics 1.99.12  (landing page)Katja Danielzik  NA  
1242/2361metabolomicsWorkbenchR 1.19.0  (landing page)Gavin Rhys Lloyd  NA  
1243/2361metabomxtr 1.43.0  (landing page)Michael Nodzenski  NA  
1244/2361MetaboSignal 1.39.0  (landing page)Andrea Rodriguez-Martinez  NA  
1245/2361metaCCA 1.37.0  (landing page)Anna Cichonska  WARNINGS  
1246/2361MetaCyto 1.31.0  (landing page)Zicheng Hu  NA  
1247/2361MetaDICT 0.99.4  (landing page)Bo Yuan  NA  
1248/2361metagene2 1.25.0  (landing page)Eric Fournier  WARNINGS  
1249/2361metagenomeSeq 1.51.0  (landing page)Joseph N. Paulson  NA  
1250/2361metahdep 1.67.0  (landing page)John R. Stevens  ERROR  
1251/2361metaMS 1.45.0  (landing page)Yann Guitton  NA  
1252/2361MetaNeighbor 1.29.0  (landing page)Stephan Fischer  ERROR  
1253/2361MetaPhOR 1.11.0  (landing page)Emily Isenhart  NA  
1254/2361metapod 1.17.0  (landing page)Aaron Lun  NA  
1255/2361metapone 1.15.0  (landing page)Tianwei Yu  NA  
1256/2361metaSeq 1.49.0  (landing page)Koki Tsuyuzaki  NA  
1257/2361metaseqR2 1.21.2  (landing page)Panagiotis Moulos  NA  
1258/2361MetCirc 1.39.0  (landing page)Thomas Naake  NA  
1259/2361methimpute 1.31.0  (landing page)Aaron Taudt  WARNINGS  
1260/2361methInheritSim 1.31.1  (landing page)Pascal Belleau  NA  
1261/2361methodical 1.5.4  (landing page)Richard Heery  WARNINGS  
1262/2361MethPed 1.37.0  (landing page)Helena Carén  NA  
1263/2361MethReg 1.19.0  (landing page)Tiago Silva  NA  
1264/2361methrix 1.23.1  (landing page)Anand Mayakonda  NA  
1265/2361MethTargetedNGS 1.41.0  (landing page)Muhammad Ahmer Jamil  NA  
1266/2361MethylAid 1.43.0  (landing page)L.J.Sinke  NA  
1267/2361methylCC 1.23.0  (landing page)Stephanie C. Hicks  NA  
1268/2361methylclock 1.15.0  (landing page)Dolors Pelegri-Siso  NA  
1269/2361methylGSA 1.27.0  (landing page)Xu Ren  NA  
1270/2361methyLImp2 1.5.0  (landing page)Anna Plaksienko  NA  
1271/2361methylInheritance 1.33.1  (landing page)Astrid Deschênes  NA  
1272/2361methylKit 1.35.1  (landing page)Altuna Akalin , Alexander Blume  NA  
1273/2361MethylMix 2.39.0  (landing page)Olivier Gevaert  NA  
1274/2361methylMnM 1.47.0  (landing page)Yan Zhou  NA  
1275/2361methylPipe 1.43.1  (landing page)Mattia Furlan  WARNINGS  
1276/2361methylscaper 1.17.0  (landing page)Bacher Rhonda  NA  
1277/2361MethylSeekR 1.49.3  (landing page)Lukas Burger  NA  
1278/2361methylSig 1.21.2  (landing page)Raymond G. Cavalcante  NA  
1279/2361methylumi 2.55.0  (landing page)Sean Davis  NA  
1280/2361MetID 1.27.0  (landing page)Zhenzhi Li  NA  
1281/2361MetMashR 1.3.3  (landing page)Gavin Rhys Lloyd  NA  
1282/2361MetNet 1.27.3  (landing page)Thomas Naake  ERROR  
1283/2361mfa 1.31.0  (landing page)Kieran Campbell  ERROR  
1284/2361Mfuzz 2.69.0  (landing page)Matthias Futschik  NA  
1285/2361MGFM 1.43.0  (landing page)Khadija El Amrani  NA  
1286/2361MGFR 1.35.0  (landing page)Khadija El Amrani  ERROR  
1287/2361MGnifyR 1.5.1  (landing page)Tuomas Borman  NA  
1288/2361mgsa 1.57.0  (landing page)Sebastian Bauer  WARNINGS  
1289/2361mia 1.17.11  (landing page)Tuomas Borman  ERROR  
1290/2361miaDash 1.1.5  (landing page)Giulio Benedetti  NA  
1291/2361miaSim 1.15.1  (landing page)Yagmur Simsek  NA  
1292/2361miaTime 0.99.13  (landing page)Tuomas Borman  NA  
1293/2361miaViz 1.17.10  (landing page)Tuomas Borman  NA  
1294/2361MiChip 1.63.0  (landing page)Jonathon Blake  NA  
1295/2361microbiome 1.31.4  (landing page)Leo Lahti  NA  
1296/2361microbiomeDASim 1.23.0  (landing page)Justin Williams  NA  
1297/2361microbiomeExplorer 1.19.0  (landing page)Janina Reeder  NA  
1298/2361MicrobiomeProfiler 1.15.0  (landing page)Guangchuang Yu  NA  
1299/2361MicrobiotaProcess 1.21.2  (landing page)Shuangbin Xu  NA  
1300/2361microRNA 1.67.0  (landing page)"Michael Lawrence"  NA  
1301/2361microSTASIS 1.9.0  (landing page)Pedro Sánchez-Sánchez  ERROR  
1302/2361MICSQTL 1.7.0  (landing page)Qian Li  NA  
1303/2361midasHLA 1.17.0  (landing page)Maciej Migdał  ERROR  
1304/2361miloR 2.5.2  (landing page)Mike Morgan  NA  
1305/2361mimager 1.33.0  (landing page)Aaron Wolen  NA  
1306/2361mina 1.17.0  (landing page)Rui Guan  WARNINGS  
1307/2361MineICA 1.49.0  (landing page)Anne Biton  ERROR  
1308/2361minet 3.67.0  (landing page)Patrick E. Meyer  NA  
1309/2361minfi 1.55.1  (landing page)Kasper Daniel Hansen  NA  
1310/2361MinimumDistance 1.53.1  (landing page)Robert Scharpf  WARNINGS  
1311/2361MiPP 1.81.0  (landing page)Sukwoo Kim  NA  
1312/2361miQC 1.17.0  (landing page)Ariel Hippen  ERROR  
1313/2361MIRA 1.31.0  (landing page)John Lawson  NA  
1314/2361MiRaGE 1.51.0  (landing page)Y-h. Taguchi  WARNINGS  
1315/2361miRBaseConverter 1.33.0  (landing page)Taosheng Xu Taosheng Xu  NA  
1316/2361miRcomp 1.39.1  (landing page)Matthew N. McCall  NA  
1317/2361mirIntegrator 1.39.0  (landing page)Diana Diaz  NA  
1318/2361MIRit 1.5.2  (landing page)Jacopo Ronchi  NA  
1319/2361miRLAB 1.39.0  (landing page)Thuc Duy Le  WARNINGS  
1320/2361miRNAmeConverter 1.37.0  (landing page)Stefan J. Haunsberger  WARNINGS  
1321/2361miRNApath 1.69.0  (landing page)James M. Ward  NA  
1322/2361miRNAtap 1.43.0  (landing page)T. Ian Simpson  NA  
1323/2361miRSM 2.5.4  (landing page)Junpeng Zhang  NA  
1324/2361miRspongeR 2.13.5  (landing page)Junpeng Zhang  NA  
1325/2361mirTarRnaSeq 1.17.0  (landing page)Mercedeh Movassagh  NA  
1326/2361missMethyl 1.43.1  (landing page)Belinda Phipson  WARNINGS  
1327/2361missRows 1.29.0  (landing page)Gonzalez Ignacio  NA  
1328/2361mist 1.1.0  (landing page)Daoyu Duan  WARNINGS  
1329/2361mistyR 1.17.0  (landing page)Jovan Tanevski  ERROR  
1330/2361mitch 1.21.3  (landing page)Mark Ziemann  NA  
1331/2361mitoClone2 1.15.4  (landing page)Benjamin Story  WARNINGS  
1332/2361mitology 1.1.3  (landing page)Stefania Pirrotta  NA  
1333/2361mixOmics 6.33.0  (landing page)Eva Hamrud  NA  
1334/2361MLInterfaces 1.89.2  (landing page)Vincent Carey  WARNINGS  
1335/2361MLP 1.57.0  (landing page)Tobias Verbeke  ERROR  
1336/2361MLSeq 2.27.0  (landing page)Gokmen Zararsiz  NA  
1337/2361MMDiff2 1.37.1  (landing page)Gabriele Schweikert  NA  
1338/2361MMUPHin 1.23.0  (landing page)Siyuan MA  NA  
1339/2361mnem 1.25.0  (landing page)Martin Pirkl  NA  
1340/2361moanin 1.17.0  (landing page)Nelle Varoquaux  NA  
1341/2361mobileRNA 1.5.2  (landing page)Katie Jeynes-Cupper  ERROR  
1342/2361MODA 1.35.0  (landing page)Dong Li  NA  
1343/2361ModCon 1.17.0  (landing page)Johannes Ptok  NA  
1344/2361Modstrings 1.25.0  (landing page)Felix G.M. Ernst  NA  
1345/2361MOFA2 1.19.0  (landing page)Ricard Argelaguet  ERROR  
1346/2361MOGAMUN 1.19.0  (landing page)Elva-María Novoa-del-Toro  NA  
1347/2361mogsa 1.43.0  (landing page)Chen Meng  NA  
1348/2361MoleculeExperiment 1.9.0  (landing page)Shila Ghazanfar  NA  
1349/2361MOMA 1.21.0  (landing page)Sunny Jones  NA  
1350/2361monaLisa 1.15.3  (landing page)Michael Stadler  NA  
1351/2361monocle 2.37.0  (landing page)Cole Trapnell  NA  
1352/2361Moonlight2R 1.7.4  (landing page)Matteo Tiberti  NA  
1353/2361MoonlightR 1.35.0  (landing page)Matteo Tiberti  NA  
1354/2361mosaics 2.47.1  (landing page)Dongjun Chung  NA  
1355/2361mosbi 1.15.0  (landing page)Tim Daniel Rose  WARNINGS  
1356/2361MOSClip 1.3.3  (landing page)Paolo Martini  NA  
1357/2361mosdef 1.5.1  (landing page)Federico Marini  NA  
1358/2361MOSim 2.5.0  (landing page)Sonia Tarazona  WARNINGS  
1359/2361Motif2Site 1.13.0  (landing page)Peyman Zarrineh  NA  
1360/2361motifbreakR 2.23.0  (landing page)Simon Gert Coetzee  WARNINGS  
1361/2361motifcounter 1.33.0  (landing page)Wolfgang Kopp  NA  
1362/2361MotifDb 1.51.0  (landing page)Paul Shannon  WARNINGS  
1363/2361motifmatchr 1.31.1  (landing page)Alicia Schep  NA  
1364/2361MotifPeeker 1.1.3  (landing page)Hiranyamaya Dash  NA  
1365/2361motifStack 1.53.1  (landing page)Jianhong Ou  NA  
1366/2361motifTestR 1.5.6  (landing page)Stevie Pederson  NA  
1367/2361MouseFM 1.19.1  (landing page)Matthias Munz  ERROR  
1368/2361MPAC 1.3.1  (landing page)Peng Liu  NA  
1369/2361MPFE 1.45.0  (landing page)Conrad Burden  NA  
1370/2361mpra 1.31.0  (landing page)Leslie Myint  NA  
1371/2361MPRAnalyze 1.27.0  (landing page)Tal Ashuach  NA  
1372/2361msa 1.41.3  (landing page)Ulrich Bodenhofer  WARNINGS  
1373/2361MSA2dist 1.13.0  (landing page)Kristian K Ullrich  NA  
1374/2361MsBackendMassbank 1.17.1  (landing page)RforMassSpectrometry Package Maintainer  NA  
1375/2361MsBackendMetaboLights 1.3.1  (landing page)Johannes Rainer  NA  
1376/2361MsBackendMgf 1.17.0  (landing page)RforMassSpectrometry Package Maintainer  NA  
1377/2361MsBackendMsp 1.13.0  (landing page)Johannes Rainer  NA  
1378/2361MsBackendRawFileReader 1.15.1  (landing page)Christian Panse  NA  
1379/2361MsBackendSql 1.9.4  (landing page)Johannes Rainer  NA  
1380/2361MsCoreUtils 1.21.0  (landing page)RforMassSpectrometry Package Maintainer  NA  
1381/2361MsDataHub 1.9.0  (landing page)Laurent Gatto  NA  
1382/2361MsExperiment 1.11.1  (landing page)Laurent Gatto  NA  
1383/2361MsFeatures 1.17.1  (landing page)Johannes Rainer  NA  
1384/2361msgbsR 1.33.1  (landing page)Benjamin Mayne  NA  
1385/2361msImpute 1.19.0  (landing page)Soroor Hediyeh-zadeh  NA  
1386/2361mslp 1.11.0  (landing page)Chunxuan Shao  ERROR  
1387/2361msmsEDA 1.47.0  (landing page)Josep Gregori  NA  
1388/2361msmsTests 1.47.0  (landing page)Josep Gregori i Font  NA  
1389/2361MSnbase 2.35.2  (landing page)Laurent Gatto  NA  
1390/2361MSnID 1.43.0  (landing page)Vlad Petyuk  ERROR  
1391/2361mspms 1.1.0  (landing page)Charlie Bayne  NA  
1392/2361MSPrep 1.19.0  (landing page)Max McGrath  ERROR  
1393/2361msPurity 1.35.0  (landing page)Thomas N. Lawson  ERROR  
1394/2361msqrob2 1.17.1  (landing page)Lieven Clement  NA  
1395/2361MsQuality 1.9.3  (landing page)Thomas Naake  NA  
1396/2361MSstats 4.17.2  (landing page)Meena Choi  WARNINGS  
1397/2361MSstatsBig 1.7.0  (landing page)Mateusz Staniak  NA  
1398/2361MSstatsBioNet 1.1.7  (landing page)Anthony Wu  NA  
1399/2361MSstatsConvert 1.19.3  (landing page)Mateusz Staniak  NA  
1400/2361MSstatsLiP 1.15.3  (landing page)Anthony Wu  NA  
1401/2361MSstatsLOBD 1.17.0  (landing page)Devon Kohler  NA  
1402/2361MSstatsPTM 2.11.5  (landing page)Anthony Wu  WARNINGS  
1403/2361MSstatsQC 2.27.0  (landing page)Eralp Dogu  NA  
1404/2361MSstatsQCgui 1.29.0  (landing page)Eralp Dogu  NA  
1405/2361MSstatsResponse 0.99.2  (landing page)Sarah Szvetecz  NA  
1406/2361MSstatsShiny 1.11.6  (landing page)Anthony Wu  WARNINGS  
1407/2361MSstatsTMT 2.17.0  (landing page)Devon Kohler  NA  
1408/2361MuData 1.13.0  (landing page)Ilia Kats  NA  
1409/2361Mulcom 1.59.0  (landing page)Claudio Isella  WARNINGS  
1410/2361MultiAssayExperiment 1.35.9  (landing page)Marcel Ramos  NA  
1411/2361MultiBaC 1.19.0  (landing page)The package maintainer  NA  
1412/2361multiClust 1.39.0  (landing page)Nathan Lawlor  NA  
1413/2361multicrispr 1.19.1  (landing page)Aditya Bhagwat  NA  
1414/2361MultiDataSet 1.37.0  (landing page)Xavier Escribà Montagut  WARNINGS  
1415/2361multiGSEA 1.19.0  (landing page)Sebastian Canzler  NA  
1416/2361multiHiCcompare 1.27.0  (landing page)Mikhail Dozmorov  NA  
1417/2361MultiMed 2.31.0  (landing page)Simina M. Boca  NA  
1418/2361multiMiR 1.31.0  (landing page)Spencer Mahaffey  NA  
1419/2361MultimodalExperiment 1.9.0  (landing page)Lucas Schiffer  NA  
1420/2361MultiRNAflow 1.7.2  (landing page)Rodolphe Loubaton  NA  
1421/2361multiscan 1.69.0  (landing page)Mizanur Khondoker  NA  
1422/2361multistateQTL 2.1.2  (landing page)Amelia Dunstone  NA  
1423/2361multiWGCNA 1.7.0  (landing page)Dario Tommasini  ERROR  
1424/2361multtest 2.65.0  (landing page)Katherine S. Pollard  WARNINGS  
1425/2361mumosa 1.17.0  (landing page)Aaron Lun  NA  
1426/2361MungeSumstats 1.17.5  (landing page)Alan Murphy  NA  
1427/2361muscat 1.23.2  (landing page)Helena L. Crowell  NA  
1428/2361muscle 3.51.0  (landing page)Alex T. Kalinka  WARNINGS  
1429/2361musicatk 2.3.2  (landing page)Joshua D. Campbell  ERROR  
1430/2361MutationalPatterns 3.19.1  (landing page)Mark van Roosmalen  ERROR  
1431/2361mutscan 0.99.2  (landing page)Charlotte Soneson  NA  
1432/2361MVCClass 1.83.0  (landing page)Elizabeth Whalen  NA  
1433/2361MWASTools 1.33.0  (landing page)Andrea Rodriguez-Martinez , Rafael Ayala  NA  
1434/2361mygene 1.45.0  (landing page)Adam Mark, Cyrus Afrasiabi, Chunlei Wu  NA  
1435/2361myvariant 1.39.1  (landing page)Adam Mark, Chunlei Wu  ERROR  
1436/2361mzID 1.47.0  (landing page)Laurent Gatto  NA  
1437/2361mzR 2.43.3  (landing page)Steffen Neumann  ERROR  
N
ABCDEFGHIJKLMNOPQRSTUVWXYZ
PackageMaintainerINSTALL/BUILD/CHECK
1438/2361NADfinder 1.33.0  (landing page)Jianhong Ou  NA  
1439/2361NanoMethViz 3.5.6  (landing page)Shian Su  NA  
1440/2361NanoStringDiff 1.39.0  (landing page)tingting zhai ,hong wang  WARNINGS  
1441/2361NanoStringNCTools 1.17.2  (landing page)Maddy Griswold  NA  
1442/2361NanoTube 1.15.0  (landing page)Caleb Class  NA  
1443/2361NBAMSeq 1.25.0  (landing page)Xu Ren  NA  
1444/2361ncdfFlow 2.55.0  (landing page)Mike Jiang  WARNINGS  
1445/2361ncGTW 1.23.0  (landing page)Chiung-Ting Wu  NA  
1446/2361NCIgraph 1.57.0  (landing page)Laurent Jacob  NA  
1447/2361ncRNAtools 1.19.0  (landing page)Lara Selles Vidal  NA  
1448/2361ndexr 1.31.0  (landing page)Florian Auer  NA  
1449/2361nearBynding 1.19.1  (landing page)Veronica Busa  NA  
1450/2361Nebulosa 1.19.0  (landing page)Jose Alquicira-Hernandez  NA  
1451/2361nempi 1.17.0  (landing page)Martin Pirkl  NA  
1452/2361NetActivity 1.11.0  (landing page)Carlos Ruiz-Arenas  NA  
1453/2361netboost 2.17.0  (landing page)Pascal Schlosser  WARNINGS  
1454/2361nethet 1.41.0  (landing page)Nicolas Staedler  WARNINGS  
1455/2361NetPathMiner 1.45.0  (landing page)Ahmed Mohamed  NA  
1456/2361netprioR 1.35.0  (landing page)Fabian Schmich  NA  
1457/2361netresponse 1.69.0  (landing page)Leo Lahti  NA  
1458/2361NetSAM 1.49.0  (landing page)Zhiao Shi  NA  
1459/2361netSmooth 1.29.0  (landing page)Jonathan Ronen  NA  
1460/2361netZooR 1.13.23  (landing page)Marouen Ben Guebila  ERROR  
1461/2361NewWave 1.19.0  (landing page)Federico Agostinis  NA  
1462/2361ngsReports 2.11.1  (landing page)Stevie Pederson  NA  
1463/2361nipalsMCIA 1.7.0  (landing page)Maximilian Mattessich  NA  
1464/2361nnNorm 2.73.0  (landing page)Adi Laurentiu Tarca  NA  
1465/2361nnSVG 1.13.1  (landing page)Lukas M. Weber  NA  
1466/2361NOISeq 2.53.0  (landing page)Sonia Tarazona  NA  
1467/2361nondetects 2.39.1  (landing page)Valeriia Sherina  NA  
1468/2361NoRCE 1.21.2  (landing page)Gulden Olgun  NA  
1469/2361normalize450K 1.37.0  (landing page)Jonathan Alexander Heiss  NA  
1470/2361NormalyzerDE 1.27.0  (landing page)Jakob Willforss  WARNINGS  
1471/2361NormqPCR 1.55.0  (landing page)James Perkins  NA  
1472/2361normr 1.35.0  (landing page)Johannes Helmuth  WARNINGS  
1473/2361notame 0.99.9  (landing page)Vilhelm Suksi  NA  
1474/2361notameStats 0.99.2  (landing page)Vilhelm Suksi  NA  
1475/2361notameViz 0.99.6  (landing page)Vilhelm Suksi  NA  
1476/2361NPARC 1.21.0  (landing page)Nils Kurzawa  NA  
1477/2361npGSEA 1.45.0  (landing page)Jessica Larson  NA  
1478/2361NTW 1.59.0  (landing page)Yuanhua Liu  WARNINGS  
1479/2361nucleoSim 1.37.0  (landing page)Astrid Deschênes  NA  
1480/2361nucleR 2.41.1  (landing page)Alba Sala  WARNINGS  
1481/2361nuCpos 1.27.0  (landing page)Hiroaki Kato  NA  
1482/2361nullranges 1.15.1  (landing page)Michael Love  NA  
1483/2361NuPoP 2.17.0  (landing page)Ji-Ping Wang  NA  
O
ABCDEFGHIJKLMNOPQRSTUVWXYZ
PackageMaintainerINSTALL/BUILD/CHECK
1484/2361occugene 1.69.0  (landing page)Oliver Will  NA  
1485/2361OCplus 1.83.0  (landing page)Alexander Ploner  NA  
1486/2361octad 1.11.1  (landing page)E. Chekalin  NA  
1487/2361odseq 1.37.0  (landing page)José Jiménez  NA  
1488/2361OGRE 1.13.1  (landing page)Sven Berres  NA  
1489/2361oligo 1.73.0  (landing page)Benilton Carvalho  NA  
1490/2361oligoClasses 1.71.0  (landing page)Benilton Carvalho and Robert Scharpf  WARNINGS  
1491/2361OLIN 1.87.0  (landing page)Matthias Futschik  NA  
1492/2361OLINgui 1.83.0  (landing page)Matthias Futschik  NA  
1493/2361omada 1.11.0  (landing page)Sokratis Kariotis  NA  
1494/2361OmaDB 2.25.0  (landing page)Klara Kaleb , Adrian Altenhoff  NA  
1495/2361omicade4 1.49.0  (landing page)Chen Meng  NA  
1496/2361OmicCircos 1.47.0  (landing page)Ying Hu  WARNINGS  
1497/2361omicplotR 1.29.0  (landing page)Daniel Giguere  NA  
1498/2361omicRexposome 1.31.0  (landing page)Xavier Escribà Montagut  NA  
1499/2361omicsGMF 0.99.7  (landing page)Alexandre Segers  NA  
1500/2361OmicsMLRepoR 1.3.3  (landing page)Sehyun Oh  NA  
1501/2361OMICsPCA 1.27.1  (landing page)Subhadeep Das  NA  
1502/2361omicsPrint 1.29.0  (landing page)Davy Cats  WARNINGS  
1503/2361omicsViewer 1.13.2  (landing page)Chen Meng  NA  
1504/2361Omixer 1.19.0  (landing page)Lucy Sinke  NA  
1505/2361OmnipathR 3.17.7  (landing page)Denes Turei  ERROR  
1506/2361ompBAM 1.13.0  (landing page)Alex Chit Hei Wong  NA  
1507/2361omXplore 1.3.1  (landing page)Samuel Wieczorek  ERROR  
1508/2361oncomix 1.31.0  (landing page)Daniel Pique  NA  
1509/2361oncoscanR 1.11.1  (landing page)Yann Christinat  NA  
1510/2361OncoScore 1.37.1  (landing page)Luca De Sano  NA  
1511/2361OncoSimulR 4.11.1  (landing page)Ramon Diaz-Uriarte  NA  
1512/2361onlineFDR 2.17.0  (landing page)David S. Robertson  ERROR  
1513/2361ontoProc 2.3.11  (landing page)Vincent Carey  NA  
1514/2361openCyto 2.21.1  (landing page)Mike Jiang  WARNINGS  
1515/2361openPrimeR 1.31.1  (landing page)Matthias Döring  NA  
1516/2361OpenStats 1.21.0  (landing page)Marina Kan  NA  
1517/2361oposSOM 2.27.0  (landing page)Henry Loeffler-Wirth  WARNINGS  
1518/2361oppar 1.37.0  (landing page)Soroor Hediyeh zadeh  WARNINGS  
1519/2361oppti 1.23.1  (landing page)Abdulkadir Elmas  ERROR  
1520/2361optimalFlow 1.21.0  (landing page)Hristo Inouzhe  NA  
1521/2361OPWeight 1.31.0  (landing page)Mohamad Hasan  NA  
1522/2361OrderedList 1.81.0  (landing page)Claudio Lottaz  NA  
1523/2361ORFhunteR 1.17.0  (landing page)Vasily V. Grinev  WARNINGS  
1524/2361ORFik 1.29.9  (landing page)Haakon Tjeldnes  NA  
1525/2361Organism.dplyr 1.37.1  (landing page)Martin Morgan  ERROR  
1526/2361OrganismDbi 1.51.5  (landing page)Bioconductor Package Maintainer  NA  
1527/2361orthogene 1.15.02  (landing page)Brian Schilder  NA  
1528/2361orthos 1.7.4  (landing page)Panagiotis Papasaikas  NA  
1529/2361OSAT 1.57.0  (landing page)Li Yan  NA  
1530/2361Oscope 1.39.0  (landing page)Ning Leng  NA  
1531/2361OSTA.data 1.1.2  (landing page)Yixing E. Dong  ERROR  
1532/2361OTUbase 1.59.0  (landing page)Daniel Beck  NA  
1533/2361OUTRIDER 1.27.4  (landing page)Christian Mertes  NA  
1534/2361OutSplice 1.9.0  (landing page)Theresa Guo  NA  
1535/2361OVESEG 1.25.0  (landing page)Lulu Chen  NA  
P
ABCDEFGHIJKLMNOPQRSTUVWXYZ
PackageMaintainerINSTALL/BUILD/CHECK
1536/2361PAA 1.43.0  (landing page)Michael Turewicz , Martin Eisenacher  NA  
1537/2361packFinder 1.21.0  (landing page)Jack Gisby  NA  
1538/2361padma 1.19.0  (landing page)Andrea Rau  NA  
1539/2361PADOG 1.51.0  (landing page)Adi L. Tarca  NA  
1540/2361pageRank 1.19.0  (landing page)Hongxu Ding  NA  
1541/2361PAIRADISE 1.25.0  (landing page)Qiang Hu , Levon Demirdjian  NA  
1542/2361paircompviz 1.47.0  (landing page)Michal Burda  NA  
1543/2361pairedGSEA 1.9.0  (landing page)Søren Helweg Dam  NA  
1544/2361pairkat 1.15.0  (landing page)Max McGrath  NA  
1545/2361pandaR 1.41.0  (landing page)Joseph N. Paulson , Dan Schlauch  WARNINGS  
1546/2361panelcn.mops 1.31.2  (landing page)Gundula Povysil  NA  
1547/2361PanomiR 1.13.0  (landing page)Pourya Naderi  NA  
1548/2361panp 1.79.0  (landing page)Peter Warren  NA  
1549/2361PANR 1.55.0  (landing page)Xin Wang  NA  
1550/2361parglms 1.41.0  (landing page)VJ Carey  NA  
1551/2361parody 1.67.0  (landing page)Vince Carey  NA  
1552/2361partCNV 1.7.0  (landing page)Ziyi Li  NA  
1553/2361PAST 1.25.0  (landing page)Thrash Adam  WARNINGS  
1554/2361Path2PPI 1.39.0  (landing page)Oliver Philipp  NA  
1555/2361pathifier 1.47.0  (landing page)Assif Yitzhaky  NA  
1556/2361pathlinkR 1.5.3  (landing page)Travis Blimkie  NA  
1557/2361pathMED 1.1.6  (landing page)Jordi Martorell-Marugán  ERROR  
1558/2361PathNet 1.49.0  (landing page)Ludwig Geistlinger  NA  
1559/2361PathoStat 1.35.0  (landing page)Solaiappan Manimaran  NA  
1560/2361pathRender 1.77.0  (landing page)Vince Carey  NA  
1561/2361pathview 1.49.0  (landing page)Weijun Luo  WARNINGS  
1562/2361pathwayPCA 1.25.0  (landing page)Gabriel Odom  NA  
1563/2361pcaExplorer 3.3.0  (landing page)Federico Marini  NA  
1564/2361pcaMethods 2.1.0  (landing page)Henning Redestig  NA  
1565/2361PCAN 1.37.0  (landing page)Matthew Page and Patrice Godard  NA  
1566/2361PCAtools 2.21.0  (landing page)Kevin Blighe  ERROR  
1567/2361PDATK 1.17.0  (landing page)Benjamin Haibe-Kains  WARNINGS  
1568/2361pdInfoBuilder 1.73.0  (landing page)Benilton Carvalho  NA  
1569/2361PeacoQC 1.19.0  (landing page)Annelies Emmaneel  NA  
1570/2361peakCombiner 0.99.603  (landing page)Markus Muckenhuber  NA  
1571/2361peakPantheR 1.23.3  (landing page)Arnaud Wolfer  NA  
1572/2361PECA 1.45.0  (landing page)Tomi Suomi  NA  
1573/2361peco 1.21.1  (landing page)Chiaowen Joyce Hsiao  NA  
1574/2361Pedixplorer 1.5.6  (landing page)Louis Le Nezet  NA  
1575/2361pengls 1.15.2  (landing page)Stijn Hawinkel  NA  
1576/2361PepSetTest 1.3.0  (landing page)Junmin Wang  NA  
1577/2361PepsNMR 1.27.0  (landing page)Manon Martin  NA  
1578/2361pepStat 1.43.0  (landing page)Gregory C Imholte  NA  
1579/2361pepXMLTab 1.43.0  (landing page)Xiaojing Wang  NA  
1580/2361periodicDNA 1.19.1  (landing page)Jacques Serizay  WARNINGS  
1581/2361pfamAnalyzeR 1.9.0  (landing page)Kristoffer Vitting-Seerup  NA  
1582/2361pgca 1.33.0  (landing page)Gabriela Cohen-Freue  NA  
1583/2361pgxRpi 1.5.5  (landing page)Hangjia Zhao  NA  
1584/2361phantasus 1.29.0  (landing page)Alexey Sergushichev  ERROR  
1585/2361phantasusLite 1.7.0  (landing page)Alexey Sergushichev  NA  
1586/2361PharmacoGx 3.13.2  (landing page)Benjamin Haibe-Kains  NA  
1587/2361PhenoGeneRanker 1.17.0  (landing page)Cagatay Dursun  NA  
1588/2361phenomis 1.11.0  (landing page)Etienne A. Thevenot  NA  
1589/2361phenopath 1.33.0  (landing page)Kieran Campbell  NA  
1590/2361phenoTest 1.57.0  (landing page)Evarist Planet  NA  
1591/2361PhenStat 2.45.1  (landing page)Hamed Haselimashhadi  ERROR  
1592/2361philr 1.35.0  (landing page)Justin Silverman  NA  
1593/2361PhIPData 1.17.0  (landing page)Athena Chen  NA  
1594/2361phosphonormalizer 1.33.0  (landing page)Sohrab Saraei  NA  
1595/2361PhosR 1.19.2  (landing page)Di Xiao  NA  
1596/2361PhyloProfile 2.1.13  (landing page)Vinh Tran  NA  
1597/2361phyloseq 1.53.0  (landing page)Paul J. McMurdie  ERROR  
1598/2361piano 2.25.0  (landing page)Leif Varemo Wigge  NA  
1599/2361PICB 1.1.1  (landing page)Franziska Ahrend  NA  
1600/2361pickgene 1.81.0  (landing page)Brian S. Yandell  WARNINGS  
1601/2361Pigengene 1.35.0  (landing page)Habil Zare  ERROR  
1602/2361pipeComp 1.19.0  (landing page)Pierre-Luc Germain  NA  
1603/2361pipeFrame 1.25.1  (landing page)Zheng Wei  NA  
1604/2361PIPETS 1.5.0  (landing page)Quinlan Furumo  NA  
1605/2361Pirat 1.3.7  (landing page)Lucas Etourneau  ERROR  
1606/2361PIUMA 1.5.0  (landing page)Mattia Chiesa  ERROR  
1607/2361planet 1.17.0  (landing page)Victor Yuan  NA  
1608/2361planttfhunter 1.9.0  (landing page)Fabrício Almeida-Silva  NA  
1609/2361plasmut 1.7.0  (landing page)Adith Arun  NA  
1610/2361plgem 1.81.0  (landing page)Norman Pavelka  NA  
1611/2361plier 1.79.0  (landing page)Crispin Miller  WARNINGS  
1612/2361plotgardener 1.15.1  (landing page)Nicole Kramer  WARNINGS  
1613/2361plotGrouper 1.27.0  (landing page)John D. Gagnon  NA  
1614/2361PLPE 1.69.0  (landing page)Soo-heang Eo  NA  
1615/2361PLSDAbatch 1.5.0  (landing page)Yiwen (Eva) Wang  NA  
1616/2361plyinteractions 1.7.1  (landing page)Jacques Serizay  NA  
1617/2361plyranges 1.29.1  (landing page)Michael Love  ERROR  
1618/2361plyxp 1.3.11  (landing page)Justin Landis  NA  
1619/2361pmm 1.41.0  (landing page)Anna Drewek  NA  
1620/2361pmp 1.21.0  (landing page)Gavin Rhys Lloyd  ERROR  
1621/2361PMScanR 0.99.6  (landing page)Jan Pawel Jastrzebski  NA  
1622/2361PoDCall 1.17.1  (landing page)Hans Petter Brodal  NA  
1623/2361podkat 1.41.1  (landing page)Ulrich Bodenhofer  NA  
1624/2361poem 1.1.7  (landing page)Siyuan Luo  NA  
1625/2361pogos 1.29.0  (landing page)VJ Carey  NA  
1626/2361PolySTest 1.3.1  (landing page)Veit Schwämmle  NA  
1627/2361Polytect 1.1.0  (landing page)Yao Chen  NA  
1628/2361POMA 1.19.0  (landing page)Pol Castellano-Escuder  NA  
1629/2361powerTCR 1.29.0  (landing page)Hillary Koch  WARNINGS  
1630/2361POWSC 1.17.1  (landing page)Kenong Su  NA  
1631/2361ppcseq 1.17.0  (landing page)Stefano Mangiola  NA  
1632/2361PPInfer 1.35.0  (landing page)Dongmin Jung  NA  
1633/2361pqsfinder 2.25.0  (landing page)Jiri Hon  ERROR  
1634/2361pram 1.25.1  (landing page)Peng Liu  NA  
1635/2361prebs 1.49.1  (landing page)Karolis Uziela  NA  
1636/2361preciseTAD 1.19.0  (landing page)Mikhail Dozmorov  NA  
1637/2361PREDA 1.55.0  (landing page)Francesco Ferrari  WARNINGS  
1638/2361preprocessCore 1.71.2  (landing page)Ben Bolstad  WARNINGS  
1639/2361primirTSS 1.27.0  (landing page)Pumin Li  WARNINGS  
1640/2361PrInCE 1.25.0  (landing page)Michael Skinnider  WARNINGS  
1641/2361proActiv 1.19.3  (landing page)Joseph Lee  NA  
1642/2361proBAMr 1.43.1  (landing page)Xiaojing Wang  NA  
1643/2361PROcess 1.85.0  (landing page)Xiaochun Li  NA  
1644/2361procoil 2.37.1  (landing page)Ulrich Bodenhofer  NA  
1645/2361proDA 1.23.0  (landing page)Constantin Ahlmann-Eltze  NA  
1646/2361profileplyr 1.25.1  (landing page)Tom Carroll , Doug Barrows  NA  
1647/2361profileScoreDist 1.37.0  (landing page)Paal O. Westermark  ERROR  
1648/2361progeny 1.31.0  (landing page)Aurélien Dugourd  NA  
1649/2361projectR 1.25.0  (landing page)Genevieve Stein-O'Brien  NA  
1650/2361pRoloc 1.49.3  (landing page)Lisa Breckels  WARNINGS  
1651/2361pRolocGUI 2.19.0  (landing page)Lisa Breckels  NA  
1652/2361PROMISE 1.61.0  (landing page)Stan Pounds , Xueyuan Cao  NA  
1653/2361PRONE 1.3.2  (landing page)Lis Arend  NA  
1654/2361PROPER 1.41.0  (landing page)Hao Wu  WARNINGS  
1655/2361PROPS 1.31.0  (landing page)Lichy Han  NA  
1656/2361Prostar 1.41.0  (landing page)Samuel Wieczorek  WARNINGS  
1657/2361proteinProfiles 1.49.0  (landing page)Julian Gehring  NA  
1658/2361ProteoDisco 1.15.1  (landing page)Job van Riet  WARNINGS  
1659/2361ProteoMM 1.27.0  (landing page)Yuliya V Karpievitch  NA  
1660/2361protGear 1.13.0  (landing page)Kennedy Mwai  NA  
1661/2361ProtGenerics 1.41.0  (landing page)Laurent Gatto  NA  
1662/2361psichomics 1.35.0  (landing page)Nuno Saraiva-Agostinho  NA  
1663/2361PSMatch 1.13.2  (landing page)Laurent Gatto  NA  
1664/2361ptairMS 1.17.0  (landing page)camille Roquencourt  WARNINGS  
1665/2361puma 3.51.0  (landing page)Xuejun Liu  WARNINGS  
1666/2361PureCN 2.15.4  (landing page)Markus Riester  NA  
1667/2361pvac 1.57.0  (landing page)Jun Lu , Pierre R. Bushel  NA  
1668/2361pvca 1.49.0  (landing page)Jianying LI  NA  
1669/2361Pviz 1.43.0  (landing page)Renan Sauteraud  WARNINGS  
1670/2361pwalign 1.5.0  (landing page)Hervé Pagès  NA  
1671/2361PWMEnrich 4.45.0  (landing page)Diego Diez  NA  
Q
ABCDEFGHIJKLMNOPQRSTUVWXYZ
PackageMaintainerINSTALL/BUILD/CHECK
1672/2361qckitfastq 1.25.1  (landing page)August Guang  ERROR  
1673/2361qcmetrics 1.47.0  (landing page)Laurent Gatto  NA  
1674/2361QDNAseq 1.45.1  (landing page)Daoud Sie  NA  
1675/2361QFeatures 1.19.4  (landing page)Laurent Gatto  NA  
1676/2361qmtools 1.13.0  (landing page)Jaehyun Joo  NA  
1677/2361qpcrNorm 1.67.0  (landing page)Jessica Mar  NA  
1678/2361qpgraph 2.43.1  (landing page)Robert Castelo  NA  
1679/2361qPLEXanalyzer 1.27.0  (landing page)Ashley Sawle  ERROR  
1680/2361QRscore 1.1.1  (landing page)Fanding Zhou  WARNINGS  
1681/2361qsea 1.35.1  (landing page)Matthias Lienhard  ERROR  
1682/2361qsmooth 1.25.0  (landing page)Stephanie C. Hicks  WARNINGS  
1683/2361QSutils 1.27.0  (landing page)Mercedes Guerrero-Murillo  NA  
1684/2361qsvaR 1.13.3  (landing page)Nicholas J. Eagles  NA  
1685/2361QTLExperiment 2.1.2  (landing page)Amelia Dunstone  NA  
1686/2361Qtlizer 1.23.0  (landing page)Matthias Munz  NA  
1687/2361quantiseqr 1.17.0  (landing page)Federico Marini  NA  
1688/2361quantro 1.43.0  (landing page)Stephanie Hicks  NA  
1689/2361quantsmooth 1.75.0  (landing page)Jan Oosting  NA  
1690/2361QuasR 1.49.3  (landing page)Michael Stadler  WARNINGS  
1691/2361QuaternaryProd 1.43.0  (landing page)Carl Tony Fakhry  NA  
1692/2361QUBIC 1.37.0  (landing page)Yu Zhang  NA  
1693/2361qusage 2.43.0  (landing page)Christopher Bolen  NA  
1694/2361qvalue 2.41.0  (landing page)John D. Storey , Andrew J. Bass  NA  
R
ABCDEFGHIJKLMNOPQRSTUVWXYZ
PackageMaintainerINSTALL/BUILD/CHECK
1695/2361R3CPET 1.41.0  (landing page)Mohamed Nadhir Djekidel  WARNINGS  
1696/2361r3Cseq 1.55.1  (landing page)Supat Thongjuea or  NA  
1697/2361R453Plus1Toolbox 1.59.0  (landing page)Hans-Ulrich Klein  ERROR  
1698/2361R4RNA 1.37.0  (landing page)Daniel Lai  NA  
1699/2361RadioGx 2.13.0  (landing page)Benjamin Haibe-Kains  NA  
1700/2361raer 1.7.2  (landing page)Kent Riemondy  NA  
1701/2361RaggedExperiment 1.33.7  (landing page)Marcel Ramos  NA  
1702/2361RAIDS 1.7.3  (landing page)Pascal Belleau  NA  
1703/2361rain 1.43.0  (landing page)Paul F. Thaben  NA  
1704/2361ramr 1.17.1  (landing page)Oleksii Nikolaienko  NA  
1705/2361ramwas 1.33.0  (landing page)Andrey A Shabalin  NA  
1706/2361randPack 1.55.0  (landing page)Robert Gentleman  NA  
1707/2361randRotation 1.21.0  (landing page)Peter Hettegger  ERROR  
1708/2361RankProd 3.35.0  (landing page)Francesco Del Carratore  NA  
1709/2361RAREsim 1.13.0  (landing page)Ryan Barnard  NA  
1710/2361RareVariantVis 2.37.0  (landing page)Tomasz Stokowy  NA  
1711/2361Rarr 1.9.18  (landing page)Hugo Gruson  NA  
1712/2361rawDiag 1.5.3  (landing page)Christian Panse  NA  
1713/2361rawrr 1.17.13  (landing page)Christian Panse  NA  
1714/2361RbcBook1 1.77.0  (landing page)Vince Carey  WARNINGS  
1715/2361Rbec 1.17.0  (landing page)Pengfan Zhang  ERROR  
1716/2361RBGL 1.85.0  (landing page)Bioconductor Package Maintainer  WARNINGS  
1717/2361RBioFormats 1.9.0  (landing page)Andrzej Oleś  NA  
1718/2361rBiopaxParser 2.49.0  (landing page)Frank Kramer  NA  
1719/2361rBLAST 1.5.0  (landing page)Michael Hahsler  NA  
1720/2361RBM 1.41.0  (landing page)Dongmei Li  NA  
1721/2361Rbowtie 1.49.0  (landing page)Michael Stadler  WARNINGS  
1722/2361Rbowtie2 2.15.0  (landing page)Zheng Wei  NA  
1723/2361RbowtieCuda 1.1.10  (landing page)Franck RICHARD  unknown  
1724/2361rbsurv 2.67.0  (landing page)Soo-heang Eo  NA  
1725/2361Rbwa 1.13.0  (landing page)Jean-Philippe Fortin  WARNINGS  
1726/2361RCAS 1.35.0  (landing page)Bora Uyar  NA  
1727/2361RCASPAR 1.55.0  (landing page)Douaa Mugahid , Lars Kaderali  NA  
1728/2361rcellminer 2.31.1  (landing page)Augustin Luna , Vinodh Rajapakse  WARNINGS  
1729/2361rCGH 1.39.1  (landing page)Frederic Commo  NA  
1730/2361RcisTarget 1.29.0  (landing page)Gert Hulselmans  ERROR  
1731/2361RCM 1.25.1  (landing page)Stijn Hawinkel  NA  
1732/2361Rcollectl 1.9.0  (landing page)Vincent Carey  NA  
1733/2361Rcpi 1.45.0  (landing page)Nan Xiao  NA  
1734/2361RCSL 1.17.0  (landing page)Qinglin Mei  NA  
1735/2361Rcwl 1.25.0  (landing page)Qiang Hu  NA  
1736/2361RcwlPipelines 1.25.0  (landing page)Qiang Hu  NA  
1737/2361RCX 1.13.1  (landing page)Florian Auer  NA  
1738/2361RCy3 2.29.2  (landing page)Alex Pico  NA  
1739/2361RCyjs 2.31.0  (landing page)Paul Shannon  WARNINGS  
1740/2361Rdisop 1.69.2  (landing page)Steffen Neumann  NA  
1741/2361RDRToolbox 1.59.0  (landing page)Christoph Bartenhagen  NA  
1742/2361ReactomeGraph4R 1.17.1  (landing page)Chi-Lam Poon  ERROR  
1743/2361ReactomeGSA 1.23.0  (landing page)Johannes Griss  NA  
1744/2361ReactomePA 1.53.0  (landing page)Guangchuang Yu  NA  
1745/2361ReadqPCR 1.55.0  (landing page)James Perkins  NA  
1746/2361REBET 1.27.0  (landing page)Bill Wheeler  NA  
1747/2361rebook 1.19.0  (landing page)Aaron Lun  WARNINGS  
1748/2361receptLoss 1.21.0  (landing page)Daniel Pique  ERROR  
1749/2361reconsi 1.21.0  (landing page)Stijn Hawinkel  NA  
1750/2361recount 1.35.0  (landing page)Leonardo Collado-Torres  NA  
1751/2361recount3 1.19.3  (landing page)Leonardo Collado-Torres  NA  
1752/2361recountmethylation 1.19.0  (landing page)Sean K Maden  NA  
1753/2361recoup 1.37.1  (landing page)Panagiotis Moulos  NA  
1754/2361RedeR 3.5.0  (landing page)Mauro Castro  NA  
1755/2361RedisParam 1.11.0  (landing page)Martin Morgan  NA  
1756/2361REDseq 1.55.0  (landing page)Lihua Julie Zhu  NA  
1757/2361ReducedExperiment 1.1.2  (landing page)Jack Gisby  NA  
1758/2361RegEnrich 1.19.0  (landing page)Weiyang Tao  NA  
1759/2361regionalpcs 1.7.0  (landing page)Tiffany Eulalio  NA  
1760/2361RegionalST 1.7.1  (landing page)Ziyi Li  NA  
1761/2361regioneR 1.41.3  (landing page)Bernat Gel  NA  
1762/2361regioneReloaded 1.11.0  (landing page)Roberto Malinverni  NA  
1763/2361regionReport 1.43.1  (landing page)Leonardo Collado-Torres  NA  
1764/2361regsplice 1.35.0  (landing page)Lukas M. Weber  NA  
1765/2361regutools 1.21.0  (landing page)Joselyn Chavez  NA  
1766/2361REMP 1.33.1  (landing page)Yinan Zheng  NA  
1767/2361Repitools 1.55.2  (landing page)Mark Robinson  ERROR  
1768/2361ReportingTools 2.49.0  (landing page)Jason A. Hackney , Gabriel Becker  NA  
1769/2361RepViz 1.25.0  (landing page)Thomas Faux, Asta Laiho   ERROR  
1770/2361ResidualMatrix 1.19.0  (landing page)Aaron Lun  NA  
1771/2361RESOLVE 1.11.2  (landing page)Luca De Sano  NA  
1772/2361retrofit 1.9.0  (landing page)Adam Park  NA  
1773/2361ReUseData 1.9.0  (landing page)Qian Liu  NA  
1774/2361rexposome 1.31.0  (landing page)Xavier Escribà Montagut  WARNINGS  
1775/2361rfaRm 1.21.0  (landing page)Lara Selles Vidal  NA  
1776/2361Rfastp 1.19.1  (landing page)Thomas Carroll  ERROR  
1777/2361RFLOMICS 1.1.4  (landing page)Nadia Bessoltane  NA  
1778/2361rfPred 1.47.1  (landing page)Hugo Varet  NA  
1779/2361rGADEM 2.57.1  (landing page)Arnaud Droit  ERROR  
1780/2361rGenomeTracks 1.15.0  (landing page)Omar Elashkar  NA  
1781/2361RgnTX 1.11.1  (landing page)Yue Wang  ERROR  
1782/2361rgoslin 1.13.0  (landing page)Nils Hoffmann  NA  
1783/2361RGraph2js 1.37.0  (landing page)Stephane Cano  NA  
1784/2361Rgraphviz 2.53.0  (landing page)Kasper Daniel Hansen  WARNINGS  
1785/2361rGREAT 2.11.0  (landing page)Zuguang Gu  ERROR  
1786/2361RGSEA 1.43.0  (landing page)Chengcheng Ma  NA  
1787/2361rgsepd 1.41.0  (landing page)Karl Stamm  NA  
1788/2361rhdf5 2.53.6  (landing page)Hugo Gruson  WARNINGS  
1789/2361rhdf5client 1.31.2  (landing page)Alexey Sergushichev  NA  
1790/2361rhdf5filters 1.21.4  (landing page)Hugo Gruson  NA  
1791/2361Rhdf5lib 1.31.1  (landing page)Hugo Gruson  WARNINGS  
1792/2361rhinotypeR 1.3.1  (landing page)Martha Luka  NA  
1793/2361Rhisat2 1.25.0  (landing page)Charlotte Soneson  WARNINGS  
1794/2361Rhtslib 3.5.1  (landing page)Hervé Pagès  NA  
1795/2361RiboCrypt 1.15.4  (landing page)Michal Swirski  NA  
1796/2361RiboDiPA 1.17.1  (landing page)Ji-Ping Wang  NA  
1797/2361RiboProfiling 1.39.1  (landing page)A. Popa  ERROR  
1798/2361ribor 1.21.0  (landing page)Michael Geng  NA  
1799/2361riboSeqR 1.43.1  (landing page)Samuel Granjeaud  NA  
1800/2361ribosomeProfilingQC 1.21.2  (landing page)Jianhong Ou  NA  
1801/2361rifi 1.13.1  (landing page)Jens Georg  WARNINGS  
1802/2361rifiComparative 1.9.0  (landing page)Loubna Youssar  NA  
1803/2361Rigraphlib 1.1.2  (landing page)Aaron Lun  WARNINGS  
1804/2361rigvf 1.1.3  (landing page)Michael Love  NA  
1805/2361RImmPort 1.37.0  (landing page)Zicheng Hu , Ravi Shankar  NA  
1806/2361RITAN 1.33.0  (landing page)Michael Zimmermann  WARNINGS  
1807/2361RIVER 1.33.0  (landing page)Yungil Kim  NA  
1808/2361RJMCMCNucleosomes 1.33.2  (landing page)Astrid Deschênes  NA  
1809/2361RLassoCox 1.17.0  (landing page)Wei Liu  NA  
1810/2361RLMM 1.71.0  (landing page)Nusrat Rabbee  NA  
1811/2361Rmagpie 1.65.0  (landing page)Camille Maumet  NA  
1812/2361RMassBank 3.19.0  (landing page)RMassBank at Eawag  NA  
1813/2361rmelting 1.25.0  (landing page)J. Aravind  NA  
1814/2361Rmmquant 1.27.0  (landing page)Zytnicki Matthias  NA  
1815/2361rmspc 1.15.0  (landing page)Meriem Bahda  NA  
1816/2361RNAAgeCalc 1.21.0  (landing page)Xu Ren  NA  
1817/2361RNAdecay 1.29.0  (landing page)Reed Sorenson  ERROR  
1818/2361rnaEditr 1.19.2  (landing page)Lanyu Zhang  WARNINGS  
1819/2361RNAmodR 1.23.2  (landing page)Felix G.M. Ernst  NA  
1820/2361RNAmodR.AlkAnilineSeq 1.23.1  (landing page)Felix G.M. Ernst  NA  
1821/2361RNAmodR.ML 1.23.0  (landing page)Felix G.M. Ernst  NA  
1822/2361RNAmodR.RiboMethSeq 1.23.1  (landing page)Felix G.M. Ernst  NA  
1823/2361RNAsense 1.23.0  (landing page)Marcus Rosenblatt  WARNINGS  
1824/2361rnaseqcomp 1.39.0  (landing page)Mingxiang Teng  NA  
1825/2361RNAseqCovarImpute 1.7.0  (landing page)Brennan Baker  NA  
1826/2361RNASeqPower 1.49.0  (landing page)Terry M Therneau  NA  
1827/2361RnaSeqSampleSize 2.19.0  (landing page)Shilin Zhao Developer  ERROR  
1828/2361RnBeads 2.27.2  (landing page)Fabian Mueller  NA  
1829/2361Rnits 1.43.0  (landing page)Dipen P. Sangurdekar  WARNINGS  
1830/2361roar 1.45.0  (landing page)Elena Grassi  NA  
1831/2361roastgsa 1.7.0  (landing page)Adria Caballe  NA  
1832/2361ROC 1.85.0  (landing page)Vince Carey  NA  
1833/2361ROCpAI 1.21.0  (landing page)Juan-Pedro Garcia  NA  
1834/2361RolDE 1.13.0  (landing page)Medical Bioinformatics Centre  NA  
1835/2361rols 3.5.0  (landing page)Laurent Gatto  ERROR  
1836/2361ROntoTools 2.37.0  (landing page)Sorin Draghici  WARNINGS  
1837/2361ropls 1.41.0  (landing page)Etienne A. Thevenot  NA  
1838/2361ROSeq 1.21.0  (landing page)Krishan Gupta  WARNINGS  
1839/2361ROTS 2.1.1  (landing page)Tomi Suomi  NA  
1840/2361RPA 1.65.0  (landing page)Leo Lahti  NA  
1841/2361rprimer 1.13.0  (landing page)Sofia Persson  NA  
1842/2361RProtoBufLib 2.21.0  (landing page)Mike Jiang  WARNINGS  
1843/2361rpx 2.17.0  (landing page)Laurent Gatto  NA  
1844/2361Rqc 1.43.0  (landing page)Welliton Souza  NA  
1845/2361rqt 1.35.0  (landing page)Ilya Zhbannikov  NA  
1846/2361rqubic 1.55.0  (landing page)Jitao David Zhang  WARNINGS  
1847/2361rRDP 1.43.1  (landing page)Michael Hahsler  NA  
1848/2361RRHO 1.49.0  (landing page)Jonathan Rosenblatt  NA  
1849/2361rrvgo 1.21.5  (landing page)Sergi Sayols  NA  
1850/2361Rsamtools 2.25.3  (landing page)Bioconductor Package Maintainer  WARNINGS  
1851/2361rsbml 2.67.0  (landing page)Michael Lawrence  ERROR  
1852/2361rScudo 1.25.0  (landing page)Matteo Ciciani  NA  
1853/2361rsemmed 1.19.0  (landing page)Leslie Myint  NA  
1854/2361RSeqAn 1.29.0  (landing page)August Guang  NA  
1855/2361Rsubread 2.23.8  (landing page)Wei Shi , Yang Liao and Gordon K Smyth  NA  
1856/2361RSVSim 1.49.0  (landing page)Christoph Bartenhagen  NA  
1857/2361rSWeeP 1.21.0  (landing page)Camila P Perico  NA  
1858/2361RTCA 1.61.0  (landing page)Jitao David Zhang  WARNINGS  
1859/2361RTCGA 1.39.0  (landing page)Marcin Kosinski  NA  
1860/2361RTCGAToolbox 2.39.1  (landing page)Marcel Ramos  NA  
1861/2361RTN 2.33.0  (landing page)Mauro Castro  NA  
1862/2361RTNduals 1.33.0  (landing page)Mauro Castro , Clarice Groeneveld  NA  
1863/2361RTNsurvival 1.33.1  (landing page)Clarice Groeneveld , Mauro A. A. Castro  NA  
1864/2361RTopper 1.55.0  (landing page)Luigi Marchionni  NA  
1865/2361Rtpca 1.19.1  (landing page)Nils Kurzawa  NA  
1866/2361rtracklayer 1.69.1  (landing page)Michael Lawrence  WARNINGS  
1867/2361rTRM 1.47.0  (landing page)Diego Diez  NA  
1868/2361rTRMui 1.47.0  (landing page)Diego Diez  NA  
1869/2361RUCova 1.1.0  (landing page)Rosario Astaburuaga-García  NA  
1870/2361runibic 1.31.0  (landing page)Patryk Orzechowski  NA  
1871/2361RUVcorr 1.41.0  (landing page)Saskia Freytag  WARNINGS  
1872/2361RUVnormalize 1.43.0  (landing page)Laurent Jacob  NA  
1873/2361RUVSeq 1.43.0  (landing page)Davide Risso  NA  
1874/2361Rvisdiff 1.7.1  (landing page)David Barrios  NA  
1875/2361RVS 1.31.0  (landing page)Alexandre Bureau  WARNINGS  
1876/2361rWikiPathways 1.29.2  (landing page)Egon Willighagen  NA  
S
ABCDEFGHIJKLMNOPQRSTUVWXYZ
PackageMaintainerINSTALL/BUILD/CHECK
1877/2361S4Arrays 1.9.1  (landing page)Hervé Pagès  NA  
1878/2361S4Vectors 0.47.5  (landing page)Hervé Pagès  WARNINGS  
1879/2361safe 3.49.0  (landing page)Ludwig Geistlinger  NA  
1880/2361sagenhaft 1.79.0  (landing page)Tim Beissbarth  WARNINGS  
1881/2361SAIGEgds 2.9.3  (landing page)Xiuwen Zheng  NA  
1882/2361sampleClassifier 1.33.0  (landing page)Khadija El Amrani  NA  
1883/2361SamSPECTRAL 1.63.0  (landing page)Habil  WARNINGS  
1884/2361sangeranalyseR 1.19.0  (landing page)Kuan-Hao Chao  ERROR  
1885/2361sangerseqR 1.45.0  (landing page)Jonathon Hill  NA  
1886/2361SanityR 0.99.3  (landing page)Teo Sakel  NA  
1887/2361SANTA 2.45.0  (landing page)Alex Cornish  NA  
1888/2361SARC 1.7.1  (landing page)Krutik Patel  ERROR  
1889/2361sarks 1.21.0  (landing page)Dennis Wylie  NA  
1890/2361saseR 1.5.1  (landing page)Alexandre Segers  WARNINGS  
1891/2361satuRn 1.17.0  (landing page)Jeroen Gilis  NA  
1892/2361SBGNview 1.23.0  (landing page)Weijun Luo  NA  
1893/2361SBMLR 2.5.0  (landing page)Tomas Radivoyevitch  NA  
1894/2361SC3 1.37.0  (landing page)Vladimir Kiselev  NA  
1895/2361scafari 0.99.12  (landing page)Sophie Wind  NA  
1896/2361Scale4C 1.31.1  (landing page)Carolin Walter  NA  
1897/2361ScaledMatrix 1.17.0  (landing page)Aaron Lun  NA  
1898/2361SCAN.UPC 2.51.0  (landing page)Stephen R. Piccolo  NA  
1899/2361scanMiR 1.15.1  (landing page)Pierre-Luc Germain  NA  
1900/2361scanMiRApp 1.15.1  (landing page)Pierre-Luc Germain  NA  
1901/2361scAnnotatR 1.15.0  (landing page)Johannes Griss  WARNINGS  
1902/2361SCANVIS 1.23.0  (landing page)Phaedra Agius  ERROR  
1903/2361SCArray 1.17.0  (landing page)Xiuwen Zheng  NA  
1904/2361SCArray.sat 1.9.0  (landing page)Xiuwen Zheng  NA  
1905/2361scater 1.37.0  (landing page)Alan O'Callaghan  ERROR  
1906/2361scatterHatch 1.15.0  (landing page)Atul Deshpande  NA  
1907/2361scBFA 1.23.0  (landing page)Ruoxin Li  NA  
1908/2361SCBN 1.27.0  (landing page)Yan Zhou  NA  
1909/2361scBubbletree 1.11.0  (landing page)Simo Kitanovski  NA  
1910/2361scCB2 1.19.0  (landing page)Zijian Ni  NA  
1911/2361scClassify 1.21.0  (landing page)Yingxin Lin  NA  
1912/2361sccomp 2.1.18  (landing page)Stefano Mangiola  NA  
1913/2361scDataviz 1.19.1  (landing page)Kevin Blighe  NA  
1914/2361scDblFinder 1.23.9  (landing page)Pierre-Luc Germain  NA  
1915/2361scDD 1.33.1  (landing page)Keegan Korthauer  NA  
1916/2361scDDboost 1.11.0  (landing page)Xiuyu Ma  NA  
1917/2361scde 2.37.0  (landing page)Evan Biederstedt  WARNINGS  
1918/2361scDesign3 1.7.7  (landing page)Dongyuan Song  NA  
1919/2361scDiagnostics 1.3.0  (landing page)Anthony Christidis  NA  
1920/2361scDotPlot 1.3.1  (landing page)Benjamin I Laufer  NA  
1921/2361scds 1.25.1  (landing page)Dennis Kostka  NA  
1922/2361SCFA 1.19.0  (landing page)Duc Tran  NA  
1923/2361scFeatureFilter 1.29.0  (landing page)Guillaume Devailly  NA  
1924/2361scFeatures 1.9.0  (landing page)Yue Cao  ERROR  
1925/2361scGPS 1.23.0  (landing page)Quan Nguyen  NA  
1926/2361scGraphVerse 0.99.21  (landing page)Francesco Cecere  NA  
1927/2361schex 1.23.0  (landing page)Saskia Freytag  NA  
1928/2361scHiCcompare 1.1.0  (landing page)My Nguyen  NA  
1929/2361scHOT 1.21.0  (landing page)Shila Ghazanfar  NA  
1930/2361scider 1.7.3  (landing page)Yunshun Chen  NA  
1931/2361scifer 1.11.5  (landing page)Rodrigo Arcoverde Cerveira  NA  
1932/2361scLANE 0.99.999999  (landing page)Jack R. Leary  ERROR  
1933/2361scmap 1.31.0  (landing page)Vladimir Kiselev  NA  
1934/2361scMerge 1.25.1  (landing page)Yingxin Lin  NA  
1935/2361scMET 1.11.0  (landing page)Andreas C. Kapourani  NA  
1936/2361scmeth 1.29.1  (landing page)Divy Kangeyan  NA  
1937/2361scMitoMut 1.5.0  (landing page)Wenjie Sun  NA  
1938/2361scMultiSim 1.5.0  (landing page)Hechen Li  NA  
1939/2361SCnorm 1.31.1  (landing page)Rhonda Bacher  NA  
1940/2361scone 1.33.0  (landing page)Davide Risso  NA  
1941/2361Sconify 1.29.1  (landing page)Tyler J Burns  NA  
1942/2361SCOPE 1.21.0  (landing page)Rujin Wang  NA  
1943/2361scoreInvHap 1.31.0  (landing page)Dolors Pelegri-Siso  NA  
1944/2361scoup 1.3.0  (landing page)Hassan Sadiq  NA  
1945/2361scp 1.19.5  (landing page)Christophe Vanderaa  ERROR  
1946/2361scPCA 1.23.0  (landing page)Philippe Boileau  NA  
1947/2361scPipe 2.9.0  (landing page)Shian Su  NA  
1948/2361scQTLtools 1.1.7  (landing page)Xiaofeng Wu  ERROR  
1949/2361scran 1.37.0  (landing page)Aaron Lun  WARNINGS  
1950/2361scrapper 1.3.17  (landing page)Aaron Lun  WARNINGS  
1951/2361scReClassify 1.15.1  (landing page)Taiyun Kim  NA  
1952/2361scRecover 1.25.0  (landing page)Zhun Miao  NA  
1953/2361screenCounter 1.9.0  (landing page)Aaron Lun  NA  
1954/2361ScreenR 1.11.0  (landing page)Emanuel Michele Soda  ERROR  
1955/2361scRepertoire 2.5.8  (landing page)Nick Borcherding  NA  
1956/2361scRNAseqApp 1.9.26  (landing page)Jianhong Ou  NA  
1957/2361scruff 1.27.1  (landing page)Zhe Wang  NA  
1958/2361scry 1.21.0  (landing page)Kelly Street  NA  
1959/2361scShapes 1.15.0  (landing page)Malindrie Dharmaratne  NA  
1960/2361scTensor 2.19.2  (landing page)Koki Tsuyuzaki  WARNINGS  
1961/2361scTGIF 1.23.0  (landing page)Koki Tsuyuzaki  NA  
1962/2361scTHI 1.21.0  (landing page)Michele Ceccarelli  NA  
1963/2361scTreeViz 1.15.0  (landing page)Jayaram Kancherla  NA  
1964/2361scuttle 1.19.0  (landing page)Aaron Lun  NA  
1965/2361scviR 1.9.14  (landing page)Vincent Carey  ERROR  
1966/2361SDAMS 1.29.0  (landing page)Yuntong Li  NA  
1967/2361seahtrue 1.3.0  (landing page)Vincent de Boer  ERROR  
1968/2361sechm 1.17.1  (landing page)Pierre-Luc Germain  NA  
1969/2361segmenter 1.15.0  (landing page)Mahmoud Ahmed  NA  
1970/2361segmentSeq 2.43.1  (landing page)Samuel Granjeaud  NA  
1971/2361selectKSigs 1.21.0  (landing page)Zhi Yang  ERROR  
1972/2361SELEX 1.41.0  (landing page)Harmen J. Bussemaker  NA  
1973/2361SemDist 1.43.0  (landing page)Ian Gonzalez  NA  
1974/2361semisup 1.33.0  (landing page)Armin Rauschenberger  NA  
1975/2361seq.hotSPOT 1.9.0  (landing page)Sydney Grant  NA  
1976/2361seq2pathway 1.41.0  (landing page)Arjun Kinstlick  ERROR  
1977/2361seqArchR 1.13.1  (landing page)Sarvesh Nikumbh  ERROR  
1978/2361seqArchRplus 1.9.2  (landing page)Sarvesh Nikumbh  ERROR  
1979/2361SeqArray 1.49.8  (landing page)Xiuwen Zheng  NA  
1980/2361seqCAT 1.31.0  (landing page)Erik Fasterius  NA  
1981/2361seqcombo 1.31.0  (landing page)Guangchuang Yu  NA  
1982/2361SeqGate 1.19.0  (landing page)Stéphanie Rialle  NA  
1983/2361SeqGSEA 1.49.0  (landing page)Xi Wang  NA  
1984/2361Seqinfo 0.99.3  (landing page)Hervé Pagès  NA  
1985/2361seqLogo 1.75.0  (landing page)Robert Ivanek  NA  
1986/2361seqPattern 1.41.0  (landing page)Vanja Haberle  NA  
1987/2361seqsetvis 1.29.1  (landing page)Joseph R Boyd  NA  
1988/2361SeqSQC 1.31.0  (landing page)Qian Liu  WARNINGS  
1989/2361seqTools 1.43.1  (landing page)Wolfgang Kaisers  ERROR  
1990/2361SeqVarTools 1.47.0  (landing page)Stephanie M. Gogarten  NA  
1991/2361SEraster 1.1.0  (landing page)Gohta Aihara  NA  
1992/2361sesame 1.27.1  (landing page)Wanding Zhou  NA  
1993/2361SETA 0.99.7  (landing page)Kyle Kimler  NA  
1994/2361SEtools 1.23.3  (landing page)Pierre-Luc Germain  NA  
1995/2361sevenbridges 1.39.0  (landing page)Phil Webster  NA  
1996/2361sevenC 1.29.2  (landing page)Jonas Ibn-Salem  NA  
1997/2361SGCP 1.9.0  (landing page)Niloofar AghaieAbiane  ERROR  
1998/2361SGSeq 1.43.1  (landing page)Leonard Goldstein  NA  
1999/2361SharedObject 1.23.0  (landing page)Jiefei Wang  WARNINGS  
2000/2361shiny.gosling 1.5.0  (landing page)Appsilon  ERROR  
2001/2361shinybiocloader 0.99.1  (landing page)Marcel Ramos  NA  
2002/2361shinyDSP 1.1.2  (landing page)Seung J. Kim  NA  
2003/2361shinyepico 1.17.0  (landing page)Octavio Morante-Palacios  NA  
2004/2361shinyMethyl 1.45.0  (landing page)Jean-Philippe Fortin  NA  
2005/2361ShortRead 1.67.1  (landing page)Bioconductor Package Maintainer  WARNINGS  
2006/2361SIAMCAT 2.13.0  (landing page)Jakob Wirbel  NA  
2007/2361SICtools 1.39.0  (landing page)Xiaobin Xing  WARNINGS  
2008/2361SigCheck 2.41.0  (landing page)Rory Stark  NA  
2009/2361sigFeature 1.27.0  (landing page)Pijush Das Developer  WARNINGS  
2010/2361SigFuge 1.47.0  (landing page)Patrick Kimes  ERROR  
2011/2361siggenes 1.83.0  (landing page)Holger Schwender  NA  
2012/2361sights 1.35.0  (landing page)Elika Garg  NA  
2013/2361signatureSearch 1.23.0  (landing page)Brendan Gongol  NA  
2014/2361signeR 2.11.2  (landing page)Renan Valieris  NA  
2015/2361signifinder 1.11.0  (landing page)Stefania Pirrotta  NA  
2016/2361SigsPack 1.23.0  (landing page)Franziska Schumann  NA  
2017/2361sigsquared 1.41.0  (landing page)UnJin Lee  NA  
2018/2361SIM 1.79.0  (landing page)Renee X. de Menezes  WARNINGS  
2019/2361SIMAT 1.41.0  (landing page)M. R. Nezami Ranjbar  NA  
2020/2361SimBu 1.11.0  (landing page)Alexander Dietrich  NA  
2021/2361SIMD 1.27.0  (landing page)Jiadi Zhu  NA  
2022/2361SimFFPE 1.21.0  (landing page)Lanying Wei  NA  
2023/2361similaRpeak 1.41.0  (landing page)Astrid Deschênes  NA  
2024/2361SIMLR 1.35.1  (landing page)Luca De Sano  NA  
2025/2361simona 1.7.1  (landing page)Zuguang Gu  NA  
2026/2361simPIC 1.5.3  (landing page)Sagrika Chugh  NA  
2027/2361simpleSeg 1.11.1  (landing page)Ellis Patrick  NA  
2028/2361simplifyEnrichment 2.3.0  (landing page)Zuguang Gu  NA  
2029/2361sincell 1.41.0  (landing page)Miguel Julia , Antonio Rausell  NA  
2030/2361SingleCellAlleleExperiment 1.5.1  (landing page)Jonas Schuck  NA  
2031/2361SingleCellExperiment 1.31.1  (landing page)Davide Risso  NA  
2032/2361SingleCellSignalR 1.99.1  (landing page)Jean-Philippe Villemin  WARNINGS  
2033/2361singleCellTK 2.19.2  (landing page)Joshua David Campbell  NA  
2034/2361SingleMoleculeFootprinting 2.3.2  (landing page)Guido Barzaghi  NA  
2035/2361SingleR 2.11.4  (landing page)Aaron Lun  NA  
2036/2361singscore 1.29.1  (landing page)Malvika Kharbanda  NA  
2037/2361SiPSiC 1.9.0  (landing page)Daniel Davis  NA  
2038/2361sitadela 1.17.1  (landing page)Panagiotis Moulos  ERROR  
2039/2361Site2Target 1.1.0  (landing page)Peyman Zarrineh  NA  
2040/2361sitePath 1.25.1  (landing page)Chengyang Ji  NA  
2041/2361sizepower 1.79.0  (landing page)Weiliang Qiu  NA  
2042/2361sketchR 1.5.2  (landing page)Charlotte Soneson  NA  
2043/2361skewr 1.41.0  (landing page)Ryan Putney  NA  
2044/2361slalom 1.31.1  (landing page)Davis McCarthy  ERROR  
2045/2361slingshot 2.17.0  (landing page)Kelly Street  NA  
2046/2361SLqPCR 1.75.0  (landing page)Matthias Kohl  NA  
2047/2361SMAD 1.25.0  (landing page)Qingzhou Zhang  WARNINGS  
2048/2361smartid 1.5.0  (landing page)Jinjin Chen  NA  
2049/2361SmartPhos 0.99.30  (landing page)Shubham Agrawal  NA  
2050/2361SMITE 1.37.0  (landing page)Neil Ari Wijetunga  NA  
2051/2361smoothclust 1.5.7  (landing page)Lukas M. Weber  NA  
2052/2361smoppix 1.1.10  (landing page)Stijn Hawinkel  NA  
2053/2361SNAGEE 1.49.0  (landing page)David Venet  NA  
2054/2361snapcount 1.21.0  (landing page)Rone Charles  ERROR  
2055/2361snifter 1.19.3  (landing page)Alan O'Callaghan  NA  
2056/2361snm 1.57.0  (landing page)John D. Storey  NA  
2057/2361SNPediaR 1.35.0  (landing page)David Montaner  NA  
2058/2361SNPhood 1.39.0  (landing page)Christian Arnold  NA  
2059/2361SNPRelate 1.43.2  (landing page)Xiuwen Zheng  NA  
2060/2361snpStats 1.59.2  (landing page)David Clayton  WARNINGS  
2061/2361soGGi 1.41.2  (landing page)Tom Carroll  ERROR  
2062/2361SomaticSignatures 2.45.1  (landing page)Julian Gehring  ERROR  
2063/2361SOMNiBUS 1.17.0  (landing page)Kathleen Klein  NA  
2064/2361sosta 1.1.4  (landing page)Samuel Gunz  NA  
2065/2361SpaceMarkers 1.5.0  (landing page)Atul Deshpande  ERROR  
2066/2361SpaceTrooper 0.99.49  (landing page)Dario Righelli  NA  
2067/2361spacexr 1.1.1  (landing page)Gabriel Grajeda  NA  
2068/2361Spaniel 1.23.0  (landing page)Rachel Queen  NA  
2069/2361SpaNorm 1.3.1  (landing page)Dharmesh D. Bhuva  NA  
2070/2361spARI 0.99.17  (landing page)Yinqiao Yan  NA  
2071/2361sparrow 1.15.0  (landing page)Steve Lianoglou  NA  
2072/2361SparseArray 1.9.1  (landing page)Hervé Pagès  NA  
2073/2361sparseMatrixStats 1.21.0  (landing page)Constantin Ahlmann-Eltze  NA  
2074/2361sparsenetgls 1.27.0  (landing page)Irene Zeng  NA  
2075/2361SparseSignatures 2.19.2  (landing page)Luca De Sano  NA  
2076/2361spaSim 1.11.0  (landing page)Yuzhou Feng  NA  
2077/2361SpatialCPie 1.25.0  (landing page)Joseph Bergenstraahle  NA  
2078/2361spatialDE 1.15.1  (landing page)Gabriele Sales  NA  
2079/2361SpatialDecon 1.19.0  (landing page)Maddy Griswold  NA  
2080/2361SpatialExperiment 1.19.1  (landing page)Dario Righelli  NA  
2081/2361SpatialExperimentIO 1.1.0  (landing page)Yixing E. Dong  NA  
2082/2361spatialFDA 1.1.21  (landing page)Martin Emons  NA  
2083/2361SpatialFeatureExperiment 1.11.1  (landing page)Lambda Moses  ERROR  
2084/2361spatialHeatmap 2.15.2  (landing page)Jianhai Zhang  ERROR  
2085/2361SpatialOmicsOverlay 1.9.2  (landing page)Maddy Griswold  NA  
2086/2361spatialSimGP 1.3.0  (landing page)Kinnary Shah  NA  
2087/2361spatzie 1.15.1  (landing page)Jennifer Hammelman  ERROR  
2088/2361speckle 1.9.1  (landing page)Belinda Phipson  NA  
2089/2361specL 1.43.0  (landing page)Christian Panse  NA  
2090/2361SpeCond 1.63.0  (landing page)Florence Cavalli  NA  
2091/2361Spectra 1.19.11  (landing page)RforMassSpectrometry Package Maintainer  NA  
2092/2361SpectralTAD 1.25.0  (landing page)Mikhail Dozmorov  NA  
2093/2361SpectraQL 1.3.1  (landing page)Johannes Rainer  NA  
2094/2361SpectriPy 0.99.13  (landing page)Johannes Rainer  ERROR  
2095/2361SPEM 1.49.0  (landing page)Xinyi YANG  NA  
2096/2361SPIA 2.61.0  (landing page)Adi Laurentiu Tarca  NA  
2097/2361SPIAT 1.11.1  (landing page)Yuzhou Feng  NA  
2098/2361SPICEY 0.99.5  (landing page)Georgina Fuentes-Páez  NA  
2099/2361spicyR 1.21.9  (landing page)Ellis Patrick  NA  
2100/2361spikeLI 2.69.0  (landing page)Enrico Carlon  NA  
2101/2361spiky 1.15.0  (landing page)Tim Triche  NA  
2102/2361spillR 1.5.0  (landing page)Marco Guazzini  NA  
2103/2361spkTools 1.65.0  (landing page)Matthew N McCall  NA  
2104/2361splatter 1.33.1  (landing page)Luke Zappia  NA  
2105/2361SpliceWiz 1.11.0  (landing page)Alex Chit Hei Wong  WARNINGS  
2106/2361SplicingFactory 1.17.0  (landing page)Endre Sebestyen  NA  
2107/2361SplicingGraphs 1.49.1  (landing page)H. Pagès  ERROR  
2108/2361SplineDV 1.1.1  (landing page)Shreyan Gupta  NA  
2109/2361splineTimeR 1.37.0  (landing page)Herbert Braselmann , Martin Selmansberger  NA  
2110/2361SPLINTER 1.35.1  (landing page)Diana Low  ERROR  
2111/2361splots 1.75.0  (landing page)Wolfgang Huber  NA  
2112/2361SPONGE 1.31.0  (landing page)Markus List  WARNINGS  
2113/2361spoon 1.5.0  (landing page)Kinnary Shah  NA  
2114/2361SpotClean 1.11.0  (landing page)Zijian Ni  NA  
2115/2361SPOTlight 1.13.2  (landing page)Marc Elosua-Bayes  NA  
2116/2361SpotSweeper 1.5.1  (landing page)Michael Totty  NA  
2117/2361spqn 1.21.0  (landing page)Yi Wang  NA  
2118/2361SPsimSeq 1.19.0  (landing page)Joris Meys  NA  
2119/2361SQLDataFrame 1.23.0  (landing page)Qian Liu  ERROR  
2120/2361squallms 1.3.0  (landing page)William Kumler  NA  
2121/2361sRACIPE 2.1.1  (landing page)Mingyang Lu  NA  
2122/2361SRAdb 1.71.0  (landing page)Jack Zhu  NA  
2123/2361srnadiff 1.29.1  (landing page)Zytnicki Matthias  WARNINGS  
2124/2361sscu 2.39.0  (landing page)Yu Sun  WARNINGS  
2125/2361sSeq 1.47.0  (landing page)Danni Yu  NA  
2126/2361ssize 1.83.0  (landing page)Gregory R. Warnes  NA  
2127/2361sSNAPPY 1.13.0  (landing page)Wenjun Liu  NA  
2128/2361ssPATHS 1.23.0  (landing page)Natalie R. Davidson  NA  
2129/2361ssrch 1.25.0  (landing page)VJ Carey  NA  
2130/2361ssviz 1.43.0  (landing page)Diana Low  NA  
2131/2361StabMap 1.3.0  (landing page)Shila Ghazanfar  NA  
2132/2361STADyUM 0.99.4  (landing page)Rebecca Hassett  NA  
2133/2361stageR 1.31.0  (landing page)Koen Van den Berge  WARNINGS  
2134/2361standR 1.13.0  (landing page)Ning Liu  NA  
2135/2361STATegRa 1.45.0  (landing page)David Gomez-Cabrero , Núria Planell  NA  
2136/2361Statial 1.11.7  (landing page)Farhan Ameen  NA  
2137/2361statTarget 1.39.0  (landing page)Hemi Luan  NA  
2138/2361stepNorm 1.81.0  (landing page)Yuanyuan Xiao  NA  
2139/2361stJoincount 1.11.0  (landing page)Jiarong Song  NA  
2140/2361stPipe 0.99.995  (landing page)Yang Xu  WARNINGS  
2141/2361strandCheckR 1.27.2  (landing page)Thu-Hien To  NA  
2142/2361Streamer 1.55.1  (landing page)Martin Morgan  NA  
2143/2361STRINGdb 2.21.0  (landing page)Damian Szklarczyk  NA  
2144/2361struct 1.21.1  (landing page)Gavin Rhys Lloyd  ERROR  
2145/2361Structstrings 1.25.3  (landing page)Felix G.M. Ernst  NA  
2146/2361structToolbox 1.21.0  (landing page)Gavin Rhys Lloyd  NA  
2147/2361StructuralVariantAnnotation 1.25.0  (landing page)Daniel Cameron  NA  
2148/2361SubCellBarCode 1.25.0  (landing page)Taner Arslan  WARNINGS  
2149/2361subSeq 1.39.0  (landing page)Andrew J. Bass , John D. Storey  NA  
2150/2361SUITOR 1.11.0  (landing page)Bill Wheeler  ERROR  
2151/2361SummarizedExperiment 1.39.2  (landing page)Hervé Pagès  NA  
2152/2361Summix 2.15.0  (landing page)Audrey Hendricks  NA  
2153/2361SuperCellCyto 0.99.3  (landing page)Givanna Putri  NA  
2154/2361supersigs 1.17.0  (landing page)Albert Kuo  WARNINGS  
2155/2361surfaltr 1.15.0  (landing page)Pooja Gangras  NA  
2156/2361SurfR 1.5.2  (landing page)Aurora Maurizio  NA  
2157/2361survClust 1.3.0  (landing page)Arshi Arora  WARNINGS  
2158/2361survcomp 1.59.0  (landing page)Benjamin Haibe-Kains  WARNINGS  
2159/2361survtype 1.25.0  (landing page)Dongmin Jung  NA  
2160/2361sva 3.57.0  (landing page)Jeffrey T. Leek , John D. Storey  NA  
2161/2361svaNUMT 1.15.1  (landing page)Ruining Dong  NA  
2162/2361svaRetro 1.15.1  (landing page)Ruining Dong  ERROR  
2163/2361SVMDO 1.9.0  (landing page)Mustafa Erhan Ozer  NA  
2164/2361SVP 1.1.1  (landing page)Shuangbin Xu  NA  
2165/2361SWATH2stats 1.39.1  (landing page)Peter Blattmann  NA  
2166/2361SwathXtend 2.31.0  (landing page)Jemma Wu  NA  
2167/2361swfdr 1.35.0  (landing page)Simina M. Boca , Jeffrey T. Leek  ERROR  
2168/2361switchBox 1.45.0  (landing page)Bahman Afsari , Luigi Marchionni  WARNINGS  
2169/2361switchde 1.35.0  (landing page)Kieran Campbell  NA  
2170/2361synapsis 1.15.0  (landing page)Lucy McNeill  NA  
2171/2361synergyfinder 3.17.0  (landing page)Shuyu Zheng  WARNINGS  
2172/2361SynExtend 1.21.2  (landing page)Nicholas Cooley  NA  
2173/2361synlet 2.9.0  (landing page)Chunxuan Shao  NA  
2174/2361SynMut 1.25.0  (landing page)Haogao Gu  NA  
2175/2361syntenet 1.11.2  (landing page)Fabrício Almeida-Silva  NA  
2176/2361systemPipeR 2.15.2  (landing page)Thomas Girke  NA  
2177/2361systemPipeShiny 1.19.1  (landing page)Le Zhang  NA  
2178/2361systemPipeTools 1.17.0  (landing page)Daniela Cassol  WARNINGS  
T
ABCDEFGHIJKLMNOPQRSTUVWXYZ
PackageMaintainerINSTALL/BUILD/CHECK
2179/2361tadar 1.7.1  (landing page)Lachlan Baer  NA  
2180/2361TADCompare 1.19.0  (landing page)Mikhail Dozmorov  NA  
2181/2361tanggle 1.15.3  (landing page)Klaus Schliep  NA  
2182/2361TAPseq 1.21.0  (landing page)Andreas R. Gschwind  WARNINGS  
2183/2361target 1.23.1  (landing page)Mahmoud Ahmed  NA  
2184/2361TargetDecoy 1.15.0  (landing page)Elke Debrie  NA  
2185/2361TargetScore 1.47.0  (landing page)Yue Li  NA  
2186/2361TargetSearch 2.11.1  (landing page)Alvaro Cuadros-Inostroza  NA  
2187/2361TaxSEA 1.1.9  (landing page)Feargal Ryan  NA  
2188/2361TBSignatureProfiler 1.21.4  (landing page)Kiloni Quiles  NA  
2189/2361TCC 1.49.1  (landing page)Jianqiang Sun  NA  
2190/2361TCGAbiolinks 2.37.3  (landing page)Tiago Chedraoui Silva  WARNINGS  
2191/2361TCGAutils 1.29.5  (landing page)Marcel Ramos  NA  
2192/2361TCseq 1.33.0  (landing page)Mengjun Wu  WARNINGS  
2193/2361TDbasedUFE 1.9.0  (landing page)Y-h. Taguchi  NA  
2194/2361TDbasedUFEadv 1.9.1  (landing page)Y-h. Taguchi  NA  
2195/2361TEKRABber 1.13.1  (landing page)Yao-Chung Chen  NA  
2196/2361TENET 1.1.90  (landing page)Rhie Lab at the University of Southern California  ERROR  
2197/2361TENxIO 1.11.5  (landing page)Marcel Ramos  ERROR  
2198/2361tenXplore 1.31.0  (landing page)VJ Carey  NA  
2199/2361TEQC 4.31.1  (landing page)Sarah Bonnin  WARNINGS  
2200/2361terapadog 1.1.0  (landing page)Gionmattia Carancini  NA  
2201/2361ternarynet 1.53.0  (landing page)McCall N. Matthew  NA  
2202/2361terraTCGAdata 1.13.0  (landing page)Marcel Ramos  NA  
2203/2361TFARM 1.31.0  (landing page)Liuba Nausicaa Martino  NA  
2204/2361TFBSTools 1.47.1  (landing page)Ge Tan  NA  
2205/2361TFEA.ChIP 1.29.4  (landing page)Yosra Berrouayel  NA  
2206/2361TFHAZ 1.31.0  (landing page)Gaia Ceddia  WARNINGS  
2207/2361TFutils 1.29.1  (landing page)Vincent Carey  NA  
2208/2361tidybulk 1.99.4  (landing page)Stefano Mangiola  NA  
2209/2361tidyCoverage 1.5.0  (landing page)Jacques Serizay  NA  
2210/2361tidyFlowCore 1.3.0  (landing page)Timothy Keyes  NA  
2211/2361tidyomics 1.5.0  (landing page)Stefano Mangiola  WARNINGS  
2212/2361tidysbml 1.3.0  (landing page)Veronica Paparozzi  NA  
2213/2361tidySingleCellExperiment 1.19.1  (landing page)Stefano Mangiola  NA  
2214/2361tidySpatialExperiment 1.5.1  (landing page)William Hutchison  NA  
2215/2361tidySummarizedExperiment 1.19.7  (landing page)Stefano Mangiola  NA  
2216/2361tidytof 1.3.0  (landing page)Timothy Keyes  ERROR  
2217/2361tigre 1.63.0  (landing page)Antti Honkela  NA  
2218/2361TileDBArray 1.19.1  (landing page)Aaron Lun  ERROR  
2219/2361tilingArray 1.87.0  (landing page)Zhenyu Xu  NA  
2220/2361timecourse 1.81.0  (landing page)Yu Chuan Tai  NA  
2221/2361timeOmics 1.21.0  (landing page)Antoine Bodein  WARNINGS  
2222/2361timescape 1.33.0  (landing page)Maia Smith  WARNINGS  
2223/2361TIN 1.41.0  (landing page)Bjarne Johannessen  NA  
2224/2361TissueEnrich 1.29.0  (landing page)Ashish Jain  NA  
2225/2361TitanCNA 1.47.1  (landing page)Gavin Ha  ERROR  
2226/2361tkWidgets 1.87.0  (landing page)J. Zhang  NA  
2227/2361tLOH 1.17.0  (landing page)Michelle Webb  NA  
2228/2361TMixClust 1.31.0  (landing page)Monica Golumbeanu  NA  
2229/2361TMSig 1.3.0  (landing page)Tyler Sagendorf  NA  
2230/2361TnT 1.31.0  (landing page)Jialin Ma  NA  
2231/2361TOAST 1.23.0  (landing page)Ziyi Li  NA  
2232/2361tomoda 1.19.0  (landing page)Wendao Liu  NA  
2233/2361tomoseqr 1.13.0  (landing page)Ryosuke Matsuzawa  NA  
2234/2361TOP 1.9.0  (landing page)Harry Robertson  NA  
2235/2361topconfects 1.25.0  (landing page)Paul Harrison  NA  
2236/2361topdownr 1.31.1  (landing page)Sebastian Gibb  NA  
2237/2361topGO 2.61.1  (landing page)Federico Marini  WARNINGS  
2238/2361ToxicoGx 2.13.0  (landing page)Benjamin Haibe-Kains  NA  
2239/2361TPP 3.37.0  (landing page)Dorothee Childs  NA  
2240/2361TPP2D 1.25.2  (landing page)Nils Kurzawa  NA  
2241/2361tpSVG 1.5.0  (landing page)Boyi Guo  NA  
2242/2361tracktables 1.43.0  (landing page)Tom Carroll  WARNINGS  
2243/2361trackViewer 1.45.3  (landing page)Jianhong Ou  NA  
2244/2361tradeSeq 1.23.0  (landing page)Hector Roux de Bezieux  NA  
2245/2361TrajectoryGeometry 1.17.0  (landing page)Michael Shapiro  NA  
2246/2361TrajectoryUtils 1.17.0  (landing page)Aaron Lun  NA  
2247/2361transcriptogramer 1.31.0  (landing page)Diego Morais  NA  
2248/2361transcriptR 1.37.0  (landing page)Armen R. Karapetyan  ERROR  
2249/2361transformGamPoi 1.15.0  (landing page)Constantin Ahlmann-Eltze  NA  
2250/2361transite 1.27.1  (landing page)Konstantin Krismer  NA  
2251/2361tRanslatome 1.47.0  (landing page)Toma Tebaldi , Erik Dassi  NA  
2252/2361transmogR 1.5.3  (landing page)Stevie Pederson  NA  
2253/2361transomics2cytoscape 1.19.0  (landing page)Kozo Nishida  NA  
2254/2361TransView 1.53.1  (landing page)Julius Muller  ERROR  
2255/2361traseR 1.39.0  (landing page)li chen  NA  
2256/2361traviz 1.15.1  (landing page)Koen Van den Berge  ERROR  
2257/2361TreeAndLeaf 1.21.0  (landing page)Milena A. Cardoso  NA  
2258/2361treeclimbR 1.5.1  (landing page)Charlotte Soneson  NA  
2259/2361treeio 1.33.0  (landing page)Guangchuang Yu  NA  
2260/2361treekoR 1.17.0  (landing page)Adam Chan  NA  
2261/2361TreeSummarizedExperiment 2.17.1  (landing page)Ruizhu Huang  NA  
2262/2361TREG 1.13.0  (landing page)Louise Huuki-Myers  NA  
2263/2361Trendy 1.31.0  (landing page)Rhonda Bacher  NA  
2264/2361TRESS 1.15.0  (landing page)Zhenxing Guo  NA  
2265/2361tricycle 1.17.1  (landing page)Shijie Zheng  WARNINGS  
2266/2361TrIdent 1.1.5  (landing page)Jessie Maier  NA  
2267/2361trio 3.47.0  (landing page)Holger Schwender  NA  
2268/2361triplex 1.49.0  (landing page)Jiri Hon  WARNINGS  
2269/2361tripr 1.15.0  (landing page)Nikolaos Pechlivanis  WARNINGS  
2270/2361tRNA 1.27.1  (landing page)Felix GM Ernst  NA  
2271/2361tRNAdbImport 1.27.0  (landing page)Felix G.M. Ernst  NA  
2272/2361tRNAscanImport 1.29.1  (landing page)Felix G.M. Ernst  NA  
2273/2361TRONCO 2.41.1  (landing page)Luca De Sano  NA  
2274/2361TSAR 1.7.0  (landing page)Xinlin Gao  NA  
2275/2361TSCAN 1.47.0  (landing page)Zhicheng Ji  NA  
2276/2361ttgsea 1.17.0  (landing page)Dongmin Jung  ERROR  
2277/2361TTMap 1.31.0  (landing page)Rachel Jeitziner  NA  
2278/2361TurboNorm 1.57.0  (landing page)Maarten van Iterson  NA  
2279/2361TVTB 1.35.2  (landing page)Kevin Rue-Albrecht  NA  
2280/2361tweeDEseq 1.55.0  (landing page)Dolors Pelegri-Siso  WARNINGS  
2281/2361twilight 1.85.0  (landing page)Stefanie Senger  NA  
2282/2361twoddpcr 1.33.0  (landing page)Anthony Chiu  NA  
2283/2361txcutr 1.15.2  (landing page)Mervin Fansler  NA  
2284/2361txdbmaker 1.5.6  (landing page)H. Pagès  NA  
2285/2361tximeta 1.27.16  (landing page)Michael Love  NA  
2286/2361tximport 1.37.2  (landing page)Michael Love  NA  
U
ABCDEFGHIJKLMNOPQRSTUVWXYZ
PackageMaintainerINSTALL/BUILD/CHECK
2287/2361UCell 2.13.3  (landing page)Massimo Andreatta  NA  
2288/2361UCSC.utils 1.5.0  (landing page)Hervé Pagès  NA  
2289/2361Ularcirc 1.27.2  (landing page)David Humphreys  WARNINGS  
2290/2361UMI4Cats 1.19.3  (landing page)Mireia Ramos-Rodriguez  NA  
2291/2361uncoverappLib 1.19.0  (landing page)Emanuela Iovino  NA  
2292/2361UNDO 1.51.0  (landing page)Niya Wang  NA  
2293/2361unifiedWMWqPCR 1.45.0  (landing page)Joris Meys  NA  
2294/2361UniProt.ws 2.49.4  (landing page)Marcel Ramos  NA  
2295/2361Uniquorn 2.29.2  (landing page)Raik Otto  NA  
2296/2361universalmotif 1.27.4  (landing page)Benjamin Jean-Marie Tremblay  NA  
2297/2361updateObject 1.13.0  (landing page)Hervé Pagès  NA  
2298/2361UPDhmm 1.5.1  (landing page)Marta Sevilla  NA  
2299/2361uSORT 1.35.0  (landing page)Hao Chen  WARNINGS  
V
ABCDEFGHIJKLMNOPQRSTUVWXYZ
PackageMaintainerINSTALL/BUILD/CHECK
2300/2361VAExprs 1.15.0  (landing page)Dongmin Jung  ERROR  
2301/2361VanillaICE 1.71.0  (landing page)Robert Scharpf  NA  
2302/2361VarCon 1.17.0  (landing page)Johannes Ptok  NA  
2303/2361variancePartition 1.39.3  (landing page)Gabriel E. Hoffman  NA  
2304/2361VariantAnnotation 1.55.2  (landing page)Bioconductor Package Maintainer  WARNINGS  
2305/2361VariantExperiment 1.23.0  (landing page)Qian Liu  ERROR  
2306/2361VariantFiltering 1.45.3  (landing page)Robert Castelo  NA  
2307/2361VariantTools 1.51.0  (landing page)Michael Lawrence  ERROR  
2308/2361VaSP 1.21.0  (landing page)Huihui Yu  NA  
2309/2361vbmp 1.77.0  (landing page)Nicola Lama  NA  
2310/2361VCFArray 1.25.0  (landing page)Qian Liu  NA  
2311/2361VDJdive 1.11.0  (landing page)Kelly Street  NA  
2312/2361VegaMC 3.47.0  (landing page)Sandro Morganella  WARNINGS  
2313/2361velociraptor 1.19.1  (landing page)Kevin Rue-Albrecht  ERROR  
2314/2361veloviz 1.15.0  (landing page)Lyla Atta  NA  
2315/2361VennDetail 1.25.3  (landing page)Kai Guo  WARNINGS  
2316/2361VERSO 1.19.1  (landing page)Davide Maspero  NA  
2317/2361vidger 1.29.1  (landing page)Brandon Monier  NA  
2318/2361viper 1.43.0  (landing page)Mariano J Alvarez  WARNINGS  
2319/2361ViSEAGO 1.23.0  (landing page)Aurelien Brionne  WARNINGS  
2320/2361VisiumIO 1.5.11  (landing page)Marcel Ramos  NA  
2321/2361visiumStitched 1.1.3  (landing page)Nicholas J. Eagles  NA  
2322/2361vissE 1.17.0  (landing page)Dharmesh D. Bhuva  NA  
2323/2361vmrseq 1.1.2  (landing page)Ning Shen  NA  
2324/2361Voyager 1.11.0  (landing page)Lambda Moses  WARNINGS  
2325/2361VplotR 1.19.1  (landing page)Jacques Serizay  NA  
2326/2361vsclust 1.11.2  (landing page)Veit Schwammle  NA  
2327/2361vsn 3.77.0  (landing page)Wolfgang Huber  NA  
2328/2361vtpnet 0.49.0  (landing page)VJ Carey  NA  
2329/2361vulcan 1.31.0  (landing page)Federico M. Giorgi  NA  
W
ABCDEFGHIJKLMNOPQRSTUVWXYZ
PackageMaintainerINSTALL/BUILD/CHECK
2330/2361waddR 1.23.0  (landing page)Julian Flesch  ERROR  
2331/2361wateRmelon 2.15.0  (landing page)Leo C Schalkwyk  WARNINGS  
2332/2361wavClusteR 2.43.0  (landing page)Federico Comoglio  NA  
2333/2361weaver 1.75.0  (landing page)Seth Falcon  WARNINGS  
2334/2361webbioc 1.81.0  (landing page)Colin A. Smith  NA  
2335/2361weitrix 1.21.0  (landing page)Paul Harrison  NA  
2336/2361widgetTools 1.87.0  (landing page)Jianhua Zhang  NA  
2337/2361wiggleplotr 1.33.2  (landing page)Kaur Alasoo  NA  
2338/2361wpm 1.19.0  (landing page)Helene Borges  NA  
2339/2361wppi 1.17.0  (landing page)Ana Galhoz  NA  
2340/2361Wrench 1.27.0  (landing page)Hector Corrada Bravo  NA  
X
ABCDEFGHIJKLMNOPQRSTUVWXYZ
PackageMaintainerINSTALL/BUILD/CHECK
2341/2361XAItest 1.1.5  (landing page)Ghislain FIEVET  WARNINGS  
2342/2361xCell2 1.1.0  (landing page)Almog Angel  NA  
2343/2361xcms 4.7.3  (landing page)Steffen Neumann  NA  
2344/2361xcore 1.13.0  (landing page)Maciej Migdał  NA  
2345/2361XDE 2.55.0  (landing page)Robert Scharpf  WARNINGS  
2346/2361XeniumIO 1.1.3  (landing page)Marcel Ramos  NA  
2347/2361xenLite 1.3.0  (landing page)Vincent Carey  NA  
2348/2361Xeva 1.25.0  (landing page)Benjamin Haibe-Kains  NA  
2349/2361XINA 1.27.0  (landing page)Lang Ho Lee  NA  
2350/2361xmapbridge 1.67.0  (landing page)Chris Wirth  NA  
2351/2361XNAString 1.17.1  (landing page)Marianna Plucinska  ERROR  
2352/2361XVector 0.49.1  (landing page)Hervé Pagès  WARNINGS  
Y
ABCDEFGHIJKLMNOPQRSTUVWXYZ
PackageMaintainerINSTALL/BUILD/CHECK
2353/2361yamss 1.35.0  (landing page)Leslie Myint  NA  
2354/2361YAPSA 1.35.1  (landing page)Zuguang Gu  NA  
2355/2361yarn 1.35.0  (landing page)Joseph N Paulson  NA  
Z
ABCDEFGHIJKLMNOPQRSTUVWXYZ
PackageMaintainerINSTALL/BUILD/CHECK
2356/2361zellkonverter 1.19.3  (landing page)Luke Zappia  ERROR  
2357/2361zenith 1.11.0  (landing page)Gabriel Hoffman  WARNINGS  
2358/2361zFPKM 1.31.0  (landing page)Ron Ammar  NA  
2359/2361zinbwave 1.31.0  (landing page)Davide Risso  NA  
2360/2361zitools 1.3.0  (landing page)Carlotta Meyring  WARNINGS  
2361/2361ZygosityPredictor 1.9.1  (landing page)Marco Rheinnecker  NA