Package: immunotation Version: 1.18.0 Command: /home/biocbuild/bbs-3.22-bioc/R/bin/R CMD INSTALL immunotation StartedAt: 2025-11-17 17:05:44 -0500 (Mon, 17 Nov 2025) EndedAt: 2025-11-17 17:06:57 -0500 (Mon, 17 Nov 2025) EllapsedTime: 72.8 seconds RetCode: 0 Status: OK