Package: immunotation Version: 1.18.0 Command: /home/biocbuild/bbs-3.22-bioc/R/bin/R CMD build --keep-empty-dirs --no-resave-data --md5 immunotation StartedAt: 2025-11-17 21:35:59 -0500 (Mon, 17 Nov 2025) EndedAt: 2025-11-17 21:38:57 -0500 (Mon, 17 Nov 2025) EllapsedTime: 178.2 seconds RetCode: 0 Status: OK PackageFile: immunotation_1.18.0.tar.gz PackageFileSize: 2.073 MiB