Package: immunogenViewer Version: 1.4.0 Command: /Library/Frameworks/R.framework/Resources/bin/R CMD INSTALL immunogenViewer StartedAt: 2025-11-10 15:09:44 -0500 (Mon, 10 Nov 2025) EndedAt: 2025-11-10 15:09:50 -0500 (Mon, 10 Nov 2025) EllapsedTime: 5.9 seconds RetCode: 0 Status: OK