Package: immunogenViewer Version: 1.4.0 Command: /Library/Frameworks/R.framework/Resources/bin/R CMD build --keep-empty-dirs --no-resave-data immunogenViewer StartedAt: 2025-11-10 16:46:01 -0500 (Mon, 10 Nov 2025) EndedAt: 2025-11-10 16:46:14 -0500 (Mon, 10 Nov 2025) EllapsedTime: 13.1 seconds RetCode: 0 Status: OK PackageFile: immunogenViewer_1.4.0.tar.gz PackageFileSize: 562.2 KiB