Package: immunogenViewer Version: 1.4.0 Command: /Library/Frameworks/R.framework/Resources/bin/R CMD INSTALL immunogenViewer StartedAt: 2025-11-20 16:41:52 -0500 (Thu, 20 Nov 2025) EndedAt: 2025-11-20 16:42:08 -0500 (Thu, 20 Nov 2025) EllapsedTime: 16.8 seconds RetCode: 0 Status: OK