Package: immunogenViewer Version: 1.4.0 Command: /Library/Frameworks/R.framework/Resources/bin/R CMD build --keep-empty-dirs --no-resave-data immunogenViewer StartedAt: 2025-11-21 03:23:46 -0500 (Fri, 21 Nov 2025) EndedAt: 2025-11-21 03:24:21 -0500 (Fri, 21 Nov 2025) EllapsedTime: 34.3 seconds RetCode: 0 Status: OK PackageFile: immunogenViewer_1.4.0.tar.gz PackageFileSize: 562.2 KiB