Package: immunogenViewer Version: 1.4.0 Command: rm -rf immunogenViewer.buildbin-libdir && mkdir immunogenViewer.buildbin-libdir && /Users/biocbuild/BBS/utils/build-universal.sh immunogenViewer_1.4.0.tar.gz /Library/Frameworks/R.framework/Resources/bin/R immunogenViewer.buildbin-libdir StartedAt: 2025-11-23 09:14:22 -0500 (Sun, 23 Nov 2025) EndedAt: 2025-11-23 09:14:50 -0500 (Sun, 23 Nov 2025) EllapsedTime: 27.7 seconds RetCode: 0 Status: OK PackageFile: immunogenViewer_1.4.0.tgz PackageFileSize: 574.5 KiB