Package: igvShiny Version: 1.6.0 Command: /home/biocbuild/bbs-3.22-bioc/R/bin/R CMD INSTALL igvShiny StartedAt: 2025-11-14 15:18:10 -0500 (Fri, 14 Nov 2025) EndedAt: 2025-11-14 15:18:22 -0500 (Fri, 14 Nov 2025) EllapsedTime: 12.5 seconds RetCode: 0 Status: OK