Package: igvShiny Version: 1.6.0 Command: /home/biocbuild/bbs-3.22-bioc/R/bin/R CMD build --keep-empty-dirs --no-resave-data --md5 igvShiny StartedAt: 2025-11-14 18:15:23 -0500 (Fri, 14 Nov 2025) EndedAt: 2025-11-14 18:15:44 -0500 (Fri, 14 Nov 2025) EllapsedTime: 21.0 seconds RetCode: 0 Status: OK PackageFile: igvShiny_1.6.0.tar.gz PackageFileSize: 4.222 MiB