Package: igblastr Version: 1.0.0 Command: /home/biocbuild/bbs-3.22-bioc/R/bin/R CMD build --keep-empty-dirs --no-resave-data --md5 igblastr StartedAt: 2025-11-02 18:27:05 -0500 (Sun, 02 Nov 2025) EndedAt: 2025-11-02 18:32:17 -0500 (Sun, 02 Nov 2025) EllapsedTime: 312.3 seconds RetCode: 0 Status: OK PackageFile: igblastr_1.0.0.tar.gz PackageFileSize: 4.312 MiB