Package: idr2d Version: 1.24.0 Command: /home/biocbuild/bbs-3.22-bioc/R/bin/R CMD INSTALL idr2d StartedAt: 2025-11-16 15:33:03 -0500 (Sun, 16 Nov 2025) EndedAt: 2025-11-16 15:33:19 -0500 (Sun, 16 Nov 2025) EllapsedTime: 16.3 seconds RetCode: 0 Status: OK