Package: idr2d Version: 1.24.0 Command: /home/biocbuild/bbs-3.22-bioc/R/bin/R CMD build --keep-empty-dirs --no-resave-data --md5 idr2d StartedAt: 2025-11-16 18:18:33 -0500 (Sun, 16 Nov 2025) EndedAt: 2025-11-16 18:19:06 -0500 (Sun, 16 Nov 2025) EllapsedTime: 33.0 seconds RetCode: 0 Status: OK PackageFile: idr2d_1.24.0.tar.gz PackageFileSize: 1.502 MiB