Package: idpr Version: 1.20.0 Command: /home/biocbuild/bbs-3.22-bioc/R/bin/R CMD INSTALL idpr StartedAt: 2025-11-17 17:17:22 -0500 (Mon, 17 Nov 2025) EndedAt: 2025-11-17 17:17:27 -0500 (Mon, 17 Nov 2025) EllapsedTime: 5.0 seconds RetCode: 0 Status: OK