Package: iSeq Version: 1.62.0 Command: /home/biocbuild/bbs-3.22-bioc/R/bin/R CMD INSTALL iSeq StartedAt: 2025-11-17 16:44:59 -0500 (Mon, 17 Nov 2025) EndedAt: 2025-11-17 16:45:02 -0500 (Mon, 17 Nov 2025) EllapsedTime: 2.6 seconds RetCode: 0 Status: OK