Package: iSEEtree Version: 1.4.0 Command: /home/biocbuild/bbs-3.22-bioc/R/bin/R CMD check --install=check:iSEEtree.install-out.txt --library=/home/biocbuild/bbs-3.22-bioc/R/site-library --timings iSEEtree_1.4.0.tar.gz StartedAt: 2025-11-01 00:54:13 -0400 (Sat, 01 Nov 2025) EndedAt: 2025-11-01 01:00:14 -0400 (Sat, 01 Nov 2025) EllapsedTime: 361.4 seconds RetCode: 0 Status: OK CheckDir: iSEEtree.Rcheck Warnings: 0