Package: iSEEtree Version: 1.3.2 Command: /Library/Frameworks/R.framework/Resources/bin/R CMD INSTALL iSEEtree StartedAt: 2025-10-24 15:56:56 -0400 (Fri, 24 Oct 2025) EndedAt: 2025-10-24 15:58:02 -0400 (Fri, 24 Oct 2025) EllapsedTime: 66.0 seconds RetCode: 0 Status: OK