Package: iSEEtree Version: 1.3.2 Command: /Library/Frameworks/R.framework/Resources/bin/R CMD build --keep-empty-dirs --no-resave-data iSEEtree StartedAt: 2025-10-24 17:33:02 -0400 (Fri, 24 Oct 2025) EndedAt: 2025-10-24 17:34:30 -0400 (Fri, 24 Oct 2025) EllapsedTime: 88.0 seconds RetCode: 0 Status: OK PackageFile: iSEEtree_1.3.2.tar.gz PackageFileSize: 7.536 MiB