Package: iSEEtree Version: 1.3.2 Command: rm -rf iSEEtree.buildbin-libdir && mkdir iSEEtree.buildbin-libdir && /Users/biocbuild/BBS/utils/build-universal.sh iSEEtree_1.3.2.tar.gz /Library/Frameworks/R.framework/Resources/bin/R iSEEtree.buildbin-libdir StartedAt: 2025-10-25 01:46:09 -0400 (Sat, 25 Oct 2025) EndedAt: 2025-10-25 01:47:20 -0400 (Sat, 25 Oct 2025) EllapsedTime: 71.2 seconds RetCode: 0 Status: OK PackageFile: iSEEtree_1.3.2.tgz PackageFileSize: 4.525 MiB