Package: iSEEtree Version: 1.3.2 Command: /Library/Frameworks/R.framework/Resources/bin/R CMD build --keep-empty-dirs --no-resave-data iSEEtree StartedAt: 2025-10-24 16:50:35 -0400 (Fri, 24 Oct 2025) EndedAt: 2025-10-24 16:51:05 -0400 (Fri, 24 Oct 2025) EllapsedTime: 30.4 seconds RetCode: 0 Status: OK PackageFile: iSEEtree_1.3.2.tar.gz PackageFileSize: 7.537 MiB