Package: iSEEhub Version: 1.12.0 Command: /home/biocbuild/bbs-3.22-bioc/R/bin/R CMD INSTALL iSEEhub StartedAt: 2025-11-13 15:27:27 -0500 (Thu, 13 Nov 2025) EndedAt: 2025-11-13 15:28:05 -0500 (Thu, 13 Nov 2025) EllapsedTime: 37.7 seconds RetCode: 0 Status: OK