Package: iSEEhub Version: 1.12.0 Command: /home/biocbuild/bbs-3.22-bioc/R/bin/R CMD build --keep-empty-dirs --no-resave-data --md5 iSEEhub StartedAt: 2025-11-13 18:21:26 -0500 (Thu, 13 Nov 2025) EndedAt: 2025-11-13 18:22:20 -0500 (Thu, 13 Nov 2025) EllapsedTime: 54.0 seconds RetCode: 0 Status: OK PackageFile: iSEEhub_1.12.0.tar.gz PackageFileSize: 6.62 MiB