Package: iSEE Version: 2.22.0 Command: /home/biocbuild/bbs-3.22-bioc/R/bin/R CMD INSTALL iSEE StartedAt: 2025-11-17 17:32:54 -0500 (Mon, 17 Nov 2025) EndedAt: 2025-11-17 17:33:38 -0500 (Mon, 17 Nov 2025) EllapsedTime: 44.2 seconds RetCode: 0 Status: OK