Package: iSEE Version: 2.22.0 Command: /home/biocbuild/bbs-3.22-bioc/R/bin/R CMD build --keep-empty-dirs --no-resave-data --md5 iSEE StartedAt: 2025-11-17 21:38:57 -0500 (Mon, 17 Nov 2025) EndedAt: 2025-11-17 21:41:00 -0500 (Mon, 17 Nov 2025) EllapsedTime: 123.1 seconds RetCode: 0 Status: OK PackageFile: iSEE_2.22.0.tar.gz PackageFileSize: 25.62 MiB