Back to Multiple platform build/check report for BioC 3.22:   simplified   long
ABCDEFGH[I]JKLMNOPQRSTUVWXYZ

This page was generated on 2025-10-31 12:02 -0400 (Fri, 31 Oct 2025).

HostnameOSArch (*)R versionInstalled pkgs
nebbiolo2Linux (Ubuntu 24.04.3 LTS)x86_644.5.1 Patched (2025-08-23 r88802) -- "Great Square Root" 4901
lconwaymacOS 12.7.6 Montereyx86_644.5.1 Patched (2025-09-10 r88807) -- "Great Square Root" 4691
kjohnson3macOS 13.7.7 Venturaarm644.5.1 Patched (2025-09-10 r88807) -- "Great Square Root" 4637
Click on any hostname to see more info about the system (e.g. compilers)      (*) as reported by 'uname -p', except on Windows and Mac OS X

All results for package iSEE


To the developers/maintainers of the iSEE package:
- Allow up to 24 hours (and sometimes 48 hours) for your latest push to git@git.bioconductor.org:packages/iSEE.git to reflect on this report. See Troubleshooting Build Report for more information.
- Use the following Renviron settings to reproduce errors and warnings.
- If 'R CMD check' started to fail recently on the Linux builder(s) over a missing dependency, add the missing dependency to 'Suggests:' in your DESCRIPTION file. See Renviron.bioc for more information.

raw results

Package 1083/2361HostnameOS / ArchINSTALLBUILDCHECKBUILD BIN
iSEE 2.22.0  (landing page)
Kevin Rue-Albrecht
Snapshot Date: 2025-10-30 13:45 -0400 (Thu, 30 Oct 2025)
git_url: https://git.bioconductor.org/packages/iSEE
git_branch: RELEASE_3_22
git_last_commit: 3931647
git_last_commit_date: 2025-10-29 10:43:55 -0400 (Wed, 29 Oct 2025)
nebbiolo2Linux (Ubuntu 24.04.3 LTS) / x86_64  OK    OK    OK  UNNEEDED, same version is already published
lconwaymacOS 12.7.6 Monterey / x86_64  OK    OK    OK    OK  UNNEEDED, same version is already published
kjohnson3macOS 13.7.7 Ventura / arm64  OK    OK    OK    OK  UNNEEDED, same version is already published



Results for Bioconductor software packages that depend directly on package iSEE

QUICK STATSOS / ArchINSTALLBUILDCHECKBUILD BIN
nebbiolo2Linux (Ubuntu 24.04.3 LTS) / x86_64
009
009
0018
lconwaymacOS 12.7.6 Monterey / x86_64
009
009
0018
009
kjohnson3macOS 13.7.7 Ventura / arm64
009
009
0018
009
Package 1/9HostnameOS / ArchINSTALLBUILDCHECKBUILD BIN
iSEEde 1.8.0  (landing page)
Kevin Rue-Albrecht
git_last_commit: 71c233e
git_last_commit_date: 2025-10-29 11:24:44 -0400
nebbiolo2Linux (Ubuntu 24.04.3 LTS) / x86_64  OK    OK    OK  UNNEEDED, same version is already published
lconwaymacOS 12.7.6 Monterey / x86_64  OK    OK    OK    OK  UNNEEDED, same version is already published
kjohnson3macOS 13.7.7 Ventura / arm64  OK    OK    OK    OK  UNNEEDED, same version is already published
Package 2/9HostnameOS / ArchINSTALLBUILDCHECKBUILD BIN
iSEEfier 1.6.0  (landing page)
Najla Abassi
git_last_commit: 164f3c4
git_last_commit_date: 2025-10-29 11:29:10 -0400
nebbiolo2Linux (Ubuntu 24.04.3 LTS) / x86_64  OK    OK    OK  UNNEEDED, same version is already published
lconwaymacOS 12.7.6 Monterey / x86_64  OK    OK    OK    OK  UNNEEDED, same version is already published
kjohnson3macOS 13.7.7 Ventura / arm64  OK    OK    OK    OK  UNNEEDED, same version is already published
Package 3/9HostnameOS / ArchINSTALLBUILDCHECKBUILD BIN
iSEEhex 1.12.0  (landing page)
Kevin Rue-Albrecht
git_last_commit: 4898c30
git_last_commit_date: 2025-10-29 11:17:20 -0400
nebbiolo2Linux (Ubuntu 24.04.3 LTS) / x86_64  OK    OK    OK  UNNEEDED, same version is already published
lconwaymacOS 12.7.6 Monterey / x86_64  OK    OK    OK    OK  UNNEEDED, same version is already published
kjohnson3macOS 13.7.7 Ventura / arm64  OK    OK    OK    OK  UNNEEDED, same version is already published
Package 4/9HostnameOS / ArchINSTALLBUILDCHECKBUILD BIN
iSEEhub 1.12.0  (landing page)
Kevin Rue-Albrecht
git_last_commit: b3f4559
git_last_commit_date: 2025-10-29 11:18:40 -0400
nebbiolo2Linux (Ubuntu 24.04.3 LTS) / x86_64  OK    OK    OK  UNNEEDED, same version is already published
lconwaymacOS 12.7.6 Monterey / x86_64  OK    OK    OK    OK  UNNEEDED, same version is already published
kjohnson3macOS 13.7.7 Ventura / arm64  OK    OK    OK    OK  UNNEEDED, same version is already published
Package 5/9HostnameOS / ArchINSTALLBUILDCHECKBUILD BIN
iSEEindex 1.8.0  (landing page)
Kevin Rue-Albrecht
git_last_commit: 2160c20
git_last_commit_date: 2025-10-29 11:23:59 -0400
nebbiolo2Linux (Ubuntu 24.04.3 LTS) / x86_64  OK    OK    OK  UNNEEDED, same version is already published
lconwaymacOS 12.7.6 Monterey / x86_64  OK    OK    OK    OK  UNNEEDED, same version is already published
kjohnson3macOS 13.7.7 Ventura / arm64  OK    OK    OK    OK  UNNEEDED, same version is already published
Package 6/9HostnameOS / ArchINSTALLBUILDCHECKBUILD BIN
iSEEpathways 1.8.0  (landing page)
Kevin Rue-Albrecht
git_last_commit: 8fca83e
git_last_commit_date: 2025-10-29 11:25:06 -0400
nebbiolo2Linux (Ubuntu 24.04.3 LTS) / x86_64  OK    OK    OK  UNNEEDED, same version is already published
lconwaymacOS 12.7.6 Monterey / x86_64  OK    OK    OK    OK  UNNEEDED, same version is already published
kjohnson3macOS 13.7.7 Ventura / arm64  OK    OK    OK    OK  UNNEEDED, same version is already published
Package 7/9HostnameOS / ArchINSTALLBUILDCHECKBUILD BIN
iSEEtree 1.4.0  (landing page)
Giulio Benedetti
git_last_commit: 6f3f93e
git_last_commit_date: 2025-10-29 11:31:13 -0400
nebbiolo2Linux (Ubuntu 24.04.3 LTS) / x86_64  OK    OK    OK  YES
lconwaymacOS 12.7.6 Monterey / x86_64  OK    OK    OK    OK  NO, package depends on 'mia' which is only available as a source package that needs compilation
kjohnson3macOS 13.7.7 Ventura / arm64  OK    OK    OK    OK  NO, package depends on 'mia' which is only available as a source package that needs compilation
Package 8/9HostnameOS / ArchINSTALLBUILDCHECKBUILD BIN
iSEEu 1.22.0  (landing page)
Kevin Rue-Albrecht
git_last_commit: 9b9f27f
git_last_commit_date: 2025-10-29 10:58:30 -0400
nebbiolo2Linux (Ubuntu 24.04.3 LTS) / x86_64  OK    OK    WARNINGS  UNNEEDED, same version is already published
lconwaymacOS 12.7.6 Monterey / x86_64  OK    OK    WARNINGS    OK  UNNEEDED, same version is already published
kjohnson3macOS 13.7.7 Ventura / arm64  OK    OK    WARNINGS    OK  UNNEEDED, same version is already published
Package 9/9HostnameOS / ArchINSTALLBUILDCHECKBUILD BIN
miaDash 1.2.0  (landing page)
Giulio Benedetti
git_last_commit: b230dcf
git_last_commit_date: 2025-10-29 11:35:29 -0400
nebbiolo2Linux (Ubuntu 24.04.3 LTS) / x86_64  OK    OK    OK  UNNEEDED, same version is already published
lconwaymacOS 12.7.6 Monterey / x86_64  OK    OK    OK    OK  NO, package depends on 'mia' which is only available as a source package that needs compilation
kjohnson3macOS 13.7.7 Ventura / arm64  OK    OK    OK    OK  NO, package depends on 'mia' which is only available as a source package that needs compilation