Package: iPath Version: 1.16.0 Command: /home/biocbuild/bbs-3.22-bioc/R/bin/R CMD INSTALL iPath StartedAt: 2025-11-02 15:17:33 -0500 (Sun, 02 Nov 2025) EndedAt: 2025-11-02 15:17:59 -0500 (Sun, 02 Nov 2025) EllapsedTime: 26.5 seconds RetCode: 0 Status: OK